Workbook

Sheet Hoja1
A1: Jornada | B1: AF1 | G1: AF2 | L1: AF3 | Q1: AF4 | V1: AF5 | AA1: AF6 | AF1: AF7 | AK1: AF8 | AP1: AF9 | AU1: AF10 | AZ1: AF11 | BE1: AF12 | BJ1: AF13 | BO1: AF14 | BT1: AF15 | BY1: AF16 | CD1: AF17 | CI1: AF18
B2: D | C2: AA | D2: R | E2: B | F2: O | G2: D | H2: AA | I2: R | J2: B | K2: O | L2: D | M2: AA | N2: R | O2: B | P2: O | Q2: D | R2: AA | S2: R | T2: B | U2: O | V2: D | W2: AA | X2: R | Y2: B | Z2: O | AA2: D | AB2: AA | AC2: R | AD2: B | AE2: O | AF2: D | AG2: AA | AH2: R | AI2: B | AJ2: O | AK2: D | AL2: AA | AM2: R | AN2: B | AO2: O | AP2: D | AQ2: AA | AR2: R | AS2: B | AT2: O | AU2: D | AV2: AA | AW2: R | AX2: B | AY2: O | AZ2: D | BA2: AA | BB2: R | BC2: B | BD2: O | BE2: D | BF2: AA | BG2: R | BH2: B | BI2: O | BJ2: D | BK2: AA | BL2: R | BM2: B | BN2: O | BO2: D | BP2: AA | BQ2: R | BR2: B | BS2: O | BT2: D | BU2: AA | BV2: R | BW2: B | BX2: O | BY2: D | BZ2: AA | CA2: R | CB2: B | CC2: O | CD2: D | CE2: AA | CF2: R | CG2: B | CH2: O | CI2: D | CJ2: AA | CK2: R | CL2: B | CM2: O
A3: 1 | F3: x | AX3: x | CG3: x | CL3: x
A4: 2 | E4: x | J4: x | O4: x | CG4: x | CL4: x
A5: 3 | E5: x | J5: x | O5: x | T5: x | BC5: x | BH5: x | BR5: x | BW5: x | CB5: x
A6: 4 | P6: x | U6: x | BC6: x | BI6: x
A7: 5 | J7: x | P7: x | U7: x | BI7: x | BR7: x | CB7: x
A8: 6 | F8: x | P8: x | S8: x | BC8: x | BS8: x | BV8: x | CC8: x
A9: 7 | P9: x | U9: x | BC9: x | BH9: x
A10: 8 | E10: x | P10: x | S10: x | BD10: x | BI10: x
A11: 9 | P11: x | T11: x | X11: x | AD11: x | BD11: x | BR11: x | CB11: x
A12: 10 | F12: x | J12: x | P12: x | U12: x | BD12: x | BQ12: x | BW12: x | CB12: x
A13: 11 | P13: x | U13: x | BD13: x | BI13: x
A14: 12 | J14: x | P14: x | U14: x | BI14: x | BS14: x | CC14: x
A15: 13 | F15: x | P15: x | U15: x | BD15: x | BS15: x | BW15: x | CC15: x
A16: 14 | P16: x | U16: x | BD16: x | BI16: x
A17: 15 | J17: x | P17: x | U17: x | BI17: x | BS17: x | CC17: x
A18: 16 | E18: x | P18: x | U18: x | BC18: x | BS18: x | BW18: x | CC18: x
A19: 17 | J19: x | P19: x | U19: x | BI19: x | BS19: x | CC19: x
A20: 18 | E20: x | P20: x | U20: x | BD20: x | BS20: x | BX20: x | CC20: x
A21: 19 | E21: x | J21: x | P21: x | U21: x | BC21: x | BS21: x | BX21: x | CC21: x
A22: 20 | F22: x | P22: x | U22: x | BD22: x | BS22: x | BX22: x | CC22: x
A23: 21 | O23: x | T23: x | BD23: x | BH23: x
A24: 22 | F24: x | O24: x | T24: x | BD24: x | BH24: x
A25: 23 | O25: x | S25: x | X25: x | AC25: x | BD25: x | BS25: x | CB25: x
A26: 24 | F26: x | K26: x | P26: x | U26: x | BD26: x | BS26: x | BX26: x | CC26: x
A27: 25 | F27: x | P27: x | U27: x | BD27: x | BI27: x
A28: 26 | F28: x | P28: x | U28: x | BD28: x | BI28: x
A29: 27
A30: 28 | F30: x | P30: x | U30: x | BD30: x
A31: 29 | P31: x | U31: x | BD31: x | BI31: x
A32: 30 | F32: x | P32: x | U32: x | BD32: x | BI32: x
A33: 31 | P33: x | T33: x | Y33: x | AD33: x | BD33: x | BR33: x | CC33: x
A34: 32 | F34: x | K34: x | P34: x | U34: x | BD34: x | BR34: x | BX34: x | CC34: x
A35: 33 | F35: x | P35: x | U35: x | BD35: x | BS35: x | BX35: x | CC35: x
A36: 34 | P36: x | T36: x | BD36: x | BI36: x
A37: 35 | F37: x | P37: x | U37: x | BD37: x | BI37: x
A38: 36 | P38: x | U38: x | Z38: x | AD38: x | BD38: x | BS38: x | CC38: x
A39: 37 | F39: x | K39: x | P39: x | U39: x | BD39: x | BS39: x | BX39: x | CC39: x
A40: 38 | F40: x | P40: x | U40: x | BD40: x | BI40: x

Sheet Evaluacion de Descriptores
A1: Jornada | B1: AF1 | H1: AF2 | O1: AF3 | V1: AF4 | AD1: AF5 | AF1: AF6 | AH1: AF7 | AK1: AF8 | AO1: AF9 | AR1: AF10 | AU1: AF11 | AZ1: AF12 | BB1: AF13 | BH1: AF14 | BK1: AF15 | BP1: AF16 | BV1: AF17 | CC1: AF18
B2: GBD4 | C2: ISO1 | D2: ISO2 | E2: SAD1 | F2: SAD3 | G2: ASO1 | H2: SAD1 | I2: SAD4 | J2: SAD5 | K2: SAD6 | L2: LM2 | M2: SR1 | N2: SR2 | O2: GBD2 | P2: ASGBD2 | Q2: ISO1 | R2: SAD1 | S2: IAW1 | T2: IAW2 | U2: IAW3 | V2: GBD2 | W2: GBD3 | X2: GBD4 | Y2: ASGBD1 | Z2: ASGBD3 | AA2: LM1 | AB2: LM2 | AC2: LM3 | AD2: ISO3 | AE2: FH1 | AF2: ISO1 | AG2: FH2 | AH2: SAD7 | AI2: PAR1 | AJ2: PAR4 | AK2: SAD7 | AL2: PAR1 | AM2: PAR2 | AN2: PAR3 | AO2: GBD1 | AP2: ASGBD2 | AQ2: SAD8 | AR2: SAD2 | AS2: FH3 | AT2: FH5 | AU2: ISO5 | AV2: GBD4 | AW2: SAD2 | AX2: SAD3 | AY2: SAD5 | AZ2: ISO4 | BA2: SAD3 | BB2: ISO3 | BC2: FH4 | BD2: GBD1 | BE2: GBD4 | BF2: PAR5 | BG2: SRI3 | BH2: ASO2 | BI2: ASO3 | BJ2: FH6 | BK2: FOL1 | BL2: FOL2 | BM2: EIE1 | BN2: EIE2 | BO2: EIE3 | BP2: FOL1 | BQ2: FOL2 | BR2: FOL3 | BS2: EIE1 | BT2: EIE2 | BU2: EIE3 | BV2: GBD1 | BW2: FOL1 | BX2: FOL2 | BY2: FOL3 | BZ2: EIE1 | CA2: EIE2 | CB2: EIE3 | CC2: GBD1 | CD2: EIE1 | CE2: EIE2 | CF2: EIE3
A3: 1 | B3: =IF(C62="SI",IF(Hoja1!$B$3="x",Hoja1!$B$2,IF(Hoja1!$C$3="x",Hoja1!$C$2,IF(Hoja1!$D$3="x",Hoja1!$D$2,IF(Hoja1!$E$3="x",Hoja1!$E$2,IF(Hoja1!$F$3="x",Hoja1!$F$2,""))))),"") -> O | C3: =IF(C43="SI",IF(Hoja1!B3="x",Hoja1!$B$2,IF(Hoja1!C3="x",Hoja1!$C$2,IF(Hoja1!D3="x",Hoja1!$D$2,IF(Hoja1!E3="x",Hoja1!$E$2,IF(Hoja1!F3="x",Hoja1!$F$2,""))))),"") -> O | D3: =IF(C44="SI",IF(Hoja1!$B$3="x",Hoja1!$B$2,IF(Hoja1!$C$3="x",Hoja1!$C$2,IF(Hoja1!$D$3="x",Hoja1!$D$2,IF(Hoja1!$E$3="x",Hoja1!$E$2,IF(Hoja1!$F$3="x",Hoja1!$F$2,""))))),"") -> O | E3: =IF(C82="SI",IF(Hoja1!$B$3="x",Hoja1!$B$2,IF(Hoja1!$C$3="x",Hoja1!$C$2,IF(Hoja1!$D$3="x",Hoja1!$D$2,IF(Hoja1!$E$3="x",Hoja1!$E$2,IF(Hoja1!$F$3="x",Hoja1!$F$2,""))))),"") -> O | F3: =IF(C84="SI",IF(Hoja1!$B$3="x",Hoja1!$B$2,IF(Hoja1!$C$3="x",Hoja1!$C$2,IF(Hoja1!$D$3="x",Hoja1!$D$2,IF(Hoja1!$E$3="x",Hoja1!$E$2,IF(Hoja1!$F$3="x",Hoja1!$F$2,""))))),"") -> O | G3: =IF(C70="SI",IF(Hoja1!$B$3="x",Hoja1!$B$2,IF(Hoja1!$C$3="x",Hoja1!$C$2,IF(Hoja1!$D$3="x",Hoja1!$D$2,IF(Hoja1!$E$3="x",Hoja1!$E$2,IF(Hoja1!$F$3="x",Hoja1!$F$2,""))))),"") -> O | H3: =IF(C$82="SI",IF(Hoja1!G3="x",Hoja1!$G$2,IF(Hoja1!H3="x",Hoja1!$H$2,IF(Hoja1!I3="x",Hoja1!$I$2,IF(Hoja1!J3="x",Hoja1!$J$2,IF(Hoja1!K3="x",Hoja1!$K$2,""))))),"") | I3: =IF(C85="SI",IF(Hoja1!$G$3="x",Hoja1!$G$2,IF(Hoja1!$H$3="x",Hoja1!$H$2,IF(Hoja1!$I$3="x",Hoja1!$I$2,IF(Hoja1!$J$3="x",Hoja1!$J$2,IF(Hoja1!$K$3="x",Hoja1!$K$2,""))))),"") | J3: =IF(C86="SI",IF(Hoja1!$G$3="x",Hoja1!$G$2,IF(Hoja1!$H$3="x",Hoja1!$H$2,IF(Hoja1!$I$3="x",Hoja1!$I$2,IF(Hoja1!$J$3="x",Hoja1!$J$2,IF(Hoja1!$K$3="x",Hoja1!$K$2,""))))),"") | K3: =IF(C87="SI",IF(Hoja1!$G$3="x",Hoja1!$G$2,IF(Hoja1!$H$3="x",Hoja1!$H$2,IF(Hoja1!$I$3="x",Hoja1!$I$2,IF(Hoja1!$J$3="x",Hoja1!$J$2,IF(Hoja1!$K$3="x",Hoja1!$K$2,""))))),"") | L3: =IF(C64="SI",IF(Hoja1!$G$3="x",Hoja1!$G$2,IF(Hoja1!$H$3="x",Hoja1!$H$2,IF(Hoja1!$I$3="x",Hoja1!$I$2,IF(Hoja1!$J$3="x",Hoja1!$J$2,IF(Hoja1!$K$3="x",Hoja1!$K$2,""))))),"") | M3: =IF(C73="SI",IF(Hoja1!$G$3="x",Hoja1!$G$2,IF(Hoja1!$H$3="x",Hoja1!$H$2,IF(Hoja1!$I$3="x",Hoja1!$I$2,IF(Hoja1!$J$3="x",Hoja1!$J$2,IF(Hoja1!$K$3="x",Hoja1!$K$2,""))))),"") | N3: =IF(C74="SI",IF(Hoja1!$G$3="x",Hoja1!$G$2,IF(Hoja1!$H$3="x",Hoja1!$H$2,IF(Hoja1!$I$3="x",Hoja1!$I$2,IF(Hoja1!$J$3="x",Hoja1!$J$2,IF(Hoja1!$K$3="x",Hoja1!$K$2,""))))),"") | O3: =IF(C$60="SI",IF(Hoja1!L3="x",Hoja1!$L$2,IF(Hoja1!M3="x",Hoja1!$M$2,IF(Hoja1!N3="x",Hoja1!$N$2,IF(Hoja1!O3="x",Hoja1!$O$2,IF(Hoja1!P3="x",Hoja1!$P$2,""))))),"") | P3: =IF(C$80="SI",IF(Hoja1!L3="x",Hoja1!$L$2,IF(Hoja1!M3="x",Hoja1!$M$2,IF(Hoja1!N3="x",Hoja1!$N$2,IF(Hoja1!O3="x",Hoja1!$O$2,IF(Hoja1!P3="x",Hoja1!$P$2,""))))),"") | Q3: =IF(C$43="SI",IF(Hoja1!L3="x",Hoja1!$L$2,IF(Hoja1!M3="x",Hoja1!$M$2,IF(Hoja1!N3="x",Hoja1!$N$2,IF(Hoja1!O3="x",Hoja1!$O$2,IF(Hoja1!P3="x",Hoja1!$P$2,""))))),"") | R3: =IF(C$82="SI",IF(Hoja1!L3="x",Hoja1!$L$2,IF(Hoja1!M3="x",Hoja1!$M$2,IF(Hoja1!N3="x",Hoja1!$N$2,IF(Hoja1!O3="x",Hoja1!$O$2,IF(Hoja1!P3="x",Hoja1!$P$2,""))))),"") | S3: =IF(C$76="SI",IF(Hoja1!L3="x",Hoja1!$L$2,IF(Hoja1!M3="x",Hoja1!$M$2,IF(Hoja1!N3="x",Hoja1!$N$2,IF(Hoja1!O3="x",Hoja1!$O$2,IF(Hoja1!P3="x",Hoja1!$P$2,""))))),"") | T3: =IF(C$77="SI",IF(Hoja1!L3="x",Hoja1!$L$2,IF(Hoja1!M3="x",Hoja1!$M$2,IF(Hoja1!N3="x",Hoja1!$N$2,IF(Hoja1!O3="x",Hoja1!$O$2,IF(Hoja1!P3="x",Hoja1!$P$2,""))))),"") | U3: =IF(C$78="SI",IF(Hoja1!L3="x",Hoja1!$L$2,IF(Hoja1!M3="x",Hoja1!$M$2,IF(Hoja1!N3="x",Hoja1!$N$2,IF(Hoja1!O3="x",Hoja1!$O$2,IF(Hoja1!P3="x",Hoja1!$P$2,""))))),"") | V3: =IF(C$60="SI",IF(Hoja1!Q3="x",Hoja1!$Q$2,IF(Hoja1!R3="x",Hoja1!$R$2,IF(Hoja1!S3="x",Hoja1!$S$2,IF(Hoja1!T3="x",Hoja1!$T$2,IF(Hoja1!U3="x",Hoja1!$U$2,""))))),"") | W3: =IF(C$61="SI",IF(Hoja1!Q3="x",Hoja1!$Q$2,IF(Hoja1!R3="x",Hoja1!$R$2,IF(Hoja1!S3="x",Hoja1!$S$2,IF(Hoja1!T3="x",Hoja1!$T$2,IF(Hoja1!U3="x",Hoja1!$U$2,""))))),"") | X3: =IF(C$62="SI",IF(Hoja1!Q3="x",Hoja1!$Q$2,IF(Hoja1!R3="x",Hoja1!$R$2,IF(Hoja1!S3="x",Hoja1!$S$2,IF(Hoja1!T3="x",Hoja1!$T$2,IF(Hoja1!U3="x",Hoja1!$U$2,""))))),"") | Y3: =IF(C$79="SI",IF(Hoja1!Q3="x",Hoja1!$Q$2,IF(Hoja1!R3="x",Hoja1!$R$2,IF(Hoja1!S3="x",Hoja1!$S$2,IF(Hoja1!T3="x",Hoja1!$T$2,IF(Hoja1!U3="x",Hoja1!$U$2,""))))),"") | Z3: =IF(C$81="SI",IF(Hoja1!Q3="x",Hoja1!$Q$2,IF(Hoja1!R3="x",Hoja1!$R$2,IF(Hoja1!S3="x",Hoja1!$S$2,IF(Hoja1!T3="x",Hoja1!$T$2,IF(Hoja1!U3="x",Hoja1!$U$2,""))))),"") | AA3: =IF(C$63="SI",IF(Hoja1!Q3="x",Hoja1!$Q$2,IF(Hoja1!R3="x",Hoja1!$R$2,IF(Hoja1!S3="x",Hoja1!$S$2,IF(Hoja1!T3="x",Hoja1!$T$2,IF(Hoja1!U3="x",Hoja1!$U$2,""))))),"") | AB3: =IF(C$64="SI",IF(Hoja1!Q3="x",Hoja1!$Q$2,IF(Hoja1!R3="x",Hoja1!$R$2,IF(Hoja1!S3="x",Hoja1!$S$2,IF(Hoja1!T3="x",Hoja1!$T$2,IF(Hoja1!U3="x",Hoja1!$U$2,""))))),"") | AC3: =IF(C$65="SI",IF(Hoja1!Q3="x",Hoja1!$Q$2,IF(Hoja1!R3="x",Hoja1!$R$2,IF(Hoja1!S3="x",Hoja1!$S$2,IF(Hoja1!T3="x",Hoja1!$T$2,IF(Hoja1!U3="x",Hoja1!$U$2,""))))),"") | AD3: =IF(C45="SI",IF(Hoja1!$V$3="x",Hoja1!$V$2,IF(Hoja1!$W$3="x",Hoja1!$W$2,IF(Hoja1!$X$3="x",Hoja1!$X$2,IF(Hoja1!$Y$3="x",Hoja1!$Y$2,IF(Hoja1!$Z$3="x",Hoja1!$Z$2,""))))),"") | AE3: =IF(C$53="SI",IF(Hoja1!V3="x",Hoja1!$V$2,IF(Hoja1!W3="x",Hoja1!$W$2,IF(Hoja1!X3="x",Hoja1!$X$2,IF(Hoja1!Y3="x",Hoja1!$Y$2,IF(Hoja1!Z3="x",Hoja1!$Z$2,""))))),"") | AF3: =IF(C$43="SI",IF(Hoja1!AA3="x",Hoja1!$AA$2,IF(Hoja1!AB3="x",Hoja1!$AB$2,IF(Hoja1!AC3="x",Hoja1!$AC$2,IF(Hoja1!AD3="x",Hoja1!$AD$2,IF(Hoja1!AE3="x",Hoja1!$AE$2,""))))),"") | AG3: =IF(C$54="SI",IF(Hoja1!AA3="x",Hoja1!$AA$2,IF(Hoja1!AB3="x",Hoja1!$AB$2,IF(Hoja1!AC3="x",Hoja1!$AC$2,IF(Hoja1!AD3="x",Hoja1!$AD$2,IF(Hoja1!AE3="x",Hoja1!$AE$2,""))))),"") | AH3: =IF(C$88="SI",IF(Hoja1!AF3="x",Hoja1!$AF$2,IF(Hoja1!AG3="x",Hoja1!$AG$2,IF(Hoja1!AH3="x",Hoja1!$AH$2,IF(Hoja1!AI3="x",Hoja1!$AI$2,IF(Hoja1!AJ3="x",Hoja1!$AJ$2,""))))),"") | AI3: =IF(C$48="SI",IF(Hoja1!AF3="x",Hoja1!$AF$2,IF(Hoja1!AG3="x",Hoja1!$AG$2,IF(Hoja1!AH3="x",Hoja1!$AH$2,IF(Hoja1!AI3="x",Hoja1!$AI$2,IF(Hoja1!AJ3="x",Hoja1!$AJ$2,""))))),"") | AJ3: =IF(C$51="SI",IF(Hoja1!AF3="x",Hoja1!$AF$2,IF(Hoja1!AG3="x",Hoja1!$AG$2,IF(Hoja1!AH3="x",Hoja1!$AH$2,IF(Hoja1!AI3="x",Hoja1!$AI$2,IF(Hoja1!AJ3="x",Hoja1!$AJ$2,""))))),"") | AK3: =IF(C$88="SI",IF(Hoja1!AK3="x",Hoja1!$AK$2,IF(Hoja1!AL3="x",Hoja1!$AL$2,IF(Hoja1!AM3="x",Hoja1!$AM$2,IF(Hoja1!AN3="x",Hoja1!$AN$2,IF(Hoja1!AO3="x",Hoja1!$AO$2,""))))),"") | AL3: =IF(C$48="SI",IF(Hoja1!AK3="x",Hoja1!$AK$2,IF(Hoja1!AL3="x",Hoja1!$AL$2,IF(Hoja1!AM3="x",Hoja1!$AM$2,IF(Hoja1!AN3="x",Hoja1!$AN$2,IF(Hoja1!AO3="x",Hoja1!$AO$2,""))))),"") | AM3: =IF(C$49="SI",IF(Hoja1!AK3="x",Hoja1!$AK$2,IF(Hoja1!AL3="x",Hoja1!$AL$2,IF(Hoja1!AM3="x",Hoja1!$AM$2,IF(Hoja1!AN3="x",Hoja1!$AN$2,IF(Hoja1!AO3="x",Hoja1!$AO$2,""))))),"") | AN3: =IF(C$50="SI",IF(Hoja1!AK3="x",Hoja1!$AK$2,IF(Hoja1!AL3="x",Hoja1!$AL$2,IF(Hoja1!AM3="x",Hoja1!$AM$2,IF(Hoja1!AN3="x",Hoja1!$AN$2,IF(Hoja1!AO3="x",Hoja1!$AO$2,""))))),"") | AO3: =IF(C$59="SI",IF(Hoja1!AP3="x",Hoja1!$AP$2,IF(Hoja1!AQ3="x",Hoja1!$AQ$2,IF(Hoja1!AR3="x",Hoja1!$AR$2,IF(Hoja1!AS3="x",Hoja1!$AS$2,IF(Hoja1!AT3="x",Hoja1!$AT$2,""))))),"") | AP3: =IF(C$80="SI",IF(Hoja1!AP3="x",Hoja1!$AP$2,IF(Hoja1!AQ3="x",Hoja1!$AQ$2,IF(Hoja1!AR3="x",Hoja1!$AR$2,IF(Hoja1!AS3="x",Hoja1!$AS$2,IF(Hoja1!AT3="x",Hoja1!$AT$2,""))))),"") | AQ3: =IF(C$89="SI",IF(Hoja1!AP3="x",Hoja1!$AP$2,IF(Hoja1!AQ3="x",Hoja1!$AQ$2,IF(Hoja1!AR3="x",Hoja1!$AR$2,IF(Hoja1!AS3="x",Hoja1!$AS$2,IF(Hoja1!AT3="x",Hoja1!$AT$2,""))))),"") | AR3: =IF(C$83="SI",IF(Hoja1!AU3="x",Hoja1!$AU$2,IF(Hoja1!AV3="x",Hoja1!$AV$2,IF(Hoja1!AW3="x",Hoja1!$AW$2,IF(Hoja1!AX3="x",Hoja1!$AX$2,IF(Hoja1!AY3="x",Hoja1!$AY$2,""))))),"") -> B | AS3: =IF(C$55="SI",IF(Hoja1!AU3="x",Hoja1!$AU$2,IF(Hoja1!AV3="x",Hoja1!$AV$2,IF(Hoja1!AW3="x",Hoja1!$AW$2,IF(Hoja1!AX3="x",Hoja1!$AX$2,IF(Hoja1!AY3="x",Hoja1!$AY$2,""))))),"") -> B | AT3: =IF(C$57="SI",IF(Hoja1!AU3="x",Hoja1!$AU$2,IF(Hoja1!AV3="x",Hoja1!$AV$2,IF(Hoja1!AW3="x",Hoja1!$AW$2,IF(Hoja1!AX3="x",Hoja1!$AX$2,IF(Hoja1!AY3="x",Hoja1!$AY$2,""))))),"") -> B | AU3: =IF(C$47="SI",IF(Hoja1!AZ3="x",Hoja1!$AZ$2,IF(Hoja1!BA3="x",Hoja1!$BA$2,IF(Hoja1!BB3="x",Hoja1!$BB$2,IF(Hoja1!BC3="x",Hoja1!$BC$2,IF(Hoja1!BD3="x",Hoja1!$BD$2,""))))),"") | AV3: =IF(C$62="SI",IF(Hoja1!AZ3="x",Hoja1!$AZ$2,IF(Hoja1!BA3="x",Hoja1!$BA$2,IF(Hoja1!BB3="x",Hoja1!$BB$2,IF(Hoja1!BC3="x",Hoja1!$BC$2,IF(Hoja1!BD3="x",Hoja1!$BD$2,""))))),"") | AW3: =IF(C$83="SI",IF(Hoja1!AZ3="x",Hoja1!$AZ$2,IF(Hoja1!BA3="x",Hoja1!$BA$2,IF(Hoja1!BB3="x",Hoja1!$BB$2,IF(Hoja1!BC3="x",Hoja1!$BC$2,IF(Hoja1!BD3="x",Hoja1!$BD$2,""))))),"") | AX3: =IF(C$84="SI",IF(Hoja1!AZ3="x",Hoja1!$AZ$2,IF(Hoja1!BA3="x",Hoja1!$BA$2,IF(Hoja1!BB3="x",Hoja1!$BB$2,IF(Hoja1!BC3="x",Hoja1!$BC$2,IF(Hoja1!BD3="x",Hoja1!$BD$2,""))))),"") | AY3: =IF(C$86="SI",IF(Hoja1!AZ3="x",Hoja1!$AZ$2,IF(Hoja1!BA3="x",Hoja1!$BA$2,IF(Hoja1!BB3="x",Hoja1!$BB$2,IF(Hoja1!BC3="x",Hoja1!$BC$2,IF(Hoja1!BD3="x",Hoja1!$BD$2,""))))),"") | AZ3: =IF(C$46="SI",IF(Hoja1!BE3="x",Hoja1!$BE$2,IF(Hoja1!BF3="x",Hoja1!$BF$2,IF(Hoja1!BG3="x",Hoja1!$BG$2,IF(Hoja1!BH3="x",Hoja1!$BH$2,IF(Hoja1!BI3="x",Hoja1!$BI$2,""))))),"") | BA3: =IF(C$84="SI",IF(Hoja1!BE3="x",Hoja1!$BE$2,IF(Hoja1!BF3="x",Hoja1!$BF$2,IF(Hoja1!BG3="x",Hoja1!$BG$2,IF(Hoja1!BH3="x",Hoja1!$BH$2,IF(Hoja1!BI3="x",Hoja1!$BI$2,""))))),"") | BB3: =IF(C$45="SI",IF(Hoja1!BJ3="x",Hoja1!$BJ$2,IF(Hoja1!BK3="x",Hoja1!$BK$2,IF(Hoja1!BL3="x",Hoja1!$BL$2,IF(Hoja1!BM3="x",Hoja1!$BM$2,IF(Hoja1!BN3="x",Hoja1!$BN$2,""))))),"") | BC3: =IF(C$56="SI",IF(Hoja1!BJ3="x",Hoja1!$BJ$2,IF(Hoja1!BK3="x",Hoja1!$BK$2,IF(Hoja1!BL3="x",Hoja1!$BL$2,IF(Hoja1!BM3="x",Hoja1!$BM$2,IF(Hoja1!BN3="x",Hoja1!$BN$2,""))))),"") | BD3: =IF(C$59="SI",IF(Hoja1!BJ3="x",Hoja1!$BJ$2,IF(Hoja1!BK3="x",Hoja1!$BK$2,IF(Hoja1!BL3="x",Hoja1!$BL$2,IF(Hoja1!BM3="x",Hoja1!$BM$2,IF(Hoja1!BN3="x",Hoja1!$BN$2,""))))),"") | BE3: =IF(C$62="SI",IF(Hoja1!BJ3="x",Hoja1!$BJ$2,IF(Hoja1!BK3="x",Hoja1!$BK$2,IF(Hoja1!BL3="x",Hoja1!$BL$2,IF(Hoja1!BM3="x",Hoja1!$BM$2,IF(Hoja1!BN3="x",Hoja1!$BN$2,""))))),"") | BF3: =IF(C$52="SI",IF(Hoja1!BJ3="x",Hoja1!$BJ$2,IF(Hoja1!BK3="x",Hoja1!$BK$2,IF(Hoja1!BL3="x",Hoja1!$BL$2,IF(Hoja1!BM3="x",Hoja1!$BM$2,IF(Hoja1!BN3="x",Hoja1!$BN$2,""))))),"") | BG3: =IF(C$75="SI",IF(Hoja1!BJ3="x",Hoja1!$BJ$2,IF(Hoja1!BK3="x",Hoja1!$BK$2,IF(Hoja1!BL3="x",Hoja1!$BL$2,IF(Hoja1!BM3="x",Hoja1!$BM$2,IF(Hoja1!BN3="x",Hoja1!$BN$2,""))))),"") | BH3: =IF(C$71="SI",IF(Hoja1!BO3="x",Hoja1!$BO$2,IF(Hoja1!BP3="x",Hoja1!$BP$2,IF(Hoja1!BQ3="x",Hoja1!$BQ$2,IF(Hoja1!BR3="x",Hoja1!$BR$2,IF(Hoja1!BS3="x",Hoja1!$BS$2,""))))),"") | BI3: =IF(C$72="SI",IF(Hoja1!BO3="x",Hoja1!$BO$2,IF(Hoja1!BP3="x",Hoja1!$BP$2,IF(Hoja1!BQ3="x",Hoja1!$BQ$2,IF(Hoja1!BR3="x",Hoja1!$BR$2,IF(Hoja1!BS3="x",Hoja1!$BS$2,""))))),"") | BJ3: =IF(C$58="SI",IF(Hoja1!BO3="x",Hoja1!$BO$2,IF(Hoja1!BP3="x",Hoja1!$BP$2,IF(Hoja1!BQ3="x",Hoja1!$BQ$2,IF(Hoja1!BR3="x",Hoja1!$BR$2,IF(Hoja1!BS3="x",Hoja1!$BS$2,""))))),"") | BK3: =IF(C$67="SI",IF(Hoja1!BT3="x",Hoja1!$BT$2,IF(Hoja1!BU3="x",Hoja1!$BU$2,IF(Hoja1!BV3="x",Hoja1!$BV$2,IF(Hoja1!BW3="x",Hoja1!$BW$2,IF(Hoja1!BX3="x",Hoja1!$BX$2,""))))),"") | BL3: =IF(C$68="SI",IF(Hoja1!BT3="x",Hoja1!$BT$2,IF(Hoja1!BU3="x",Hoja1!$BU$2,IF(Hoja1!BV3="x",Hoja1!$BV$2,IF(Hoja1!BW3="x",Hoja1!$BW$2,IF(Hoja1!BX3="x",Hoja1!$BX$2,""))))),"") | BM3: =IF(C$90="SI",IF(Hoja1!BT3="x",Hoja1!$BT$2,IF(Hoja1!BU3="x",Hoja1!$BU$2,IF(Hoja1!BV3="x",Hoja1!$BV$2,IF(Hoja1!BW3="x",Hoja1!$BW$2,IF(Hoja1!BX3="x",Hoja1!$BX$2,""))))),"") | BN3: =IF(C$91="SI",IF(Hoja1!BT3="x",Hoja1!$BT$2,IF(Hoja1!BU3="x",Hoja1!$BU$2,IF(Hoja1!BV3="x",Hoja1!$BV$2,IF(Hoja1!BW3="x",Hoja1!$BW$2,IF(Hoja1!BX3="x",Hoja1!$BX$2,""))))),"") | BO3: =IF(C$92="SI",IF(Hoja1!BT3="x",Hoja1!$BT$2,IF(Hoja1!BU3="x",Hoja1!$BU$2,IF(Hoja1!BV3="x",Hoja1!$BV$2,IF(Hoja1!BW3="x",Hoja1!$BW$2,IF(Hoja1!BX3="x",Hoja1!$BX$2,""))))),"") | BP3: =IF(C$67="SI",IF(Hoja1!BY3="x",Hoja1!$BY$2,IF(Hoja1!BZ3="x",Hoja1!$BZ$2,IF(Hoja1!CA3="x",Hoja1!$CA$2,IF(Hoja1!CB3="x",Hoja1!$CB$2,IF(Hoja1!CC3="x",Hoja1!$CC$2,""))))),"") | BQ3: =IF(C$68="SI",IF(Hoja1!BY3="x",Hoja1!$BY$2,IF(Hoja1!BZ3="x",Hoja1!$BZ$2,IF(Hoja1!CA3="x",Hoja1!$CA$2,IF(Hoja1!CB3="x",Hoja1!$CB$2,IF(Hoja1!CC3="x",Hoja1!$CC$2,""))))),"") | BR3: =IF(C$69="SI",IF(Hoja1!BY3="x",Hoja1!$BY$2,IF(Hoja1!BZ3="x",Hoja1!$BZ$2,IF(Hoja1!CA3="x",Hoja1!$CA$2,IF(Hoja1!CB3="x",Hoja1!$CB$2,IF(Hoja1!CC3="x",Hoja1!$CC$2,""))))),"") | BS3: =IF(C$90="SI",IF(Hoja1!BY3="x",Hoja1!$BY$2,IF(Hoja1!BZ3="x",Hoja1!$BZ$2,IF(Hoja1!CA3="x",Hoja1!$CA$2,IF(Hoja1!CB3="x",Hoja1!$CB$2,IF(Hoja1!CC3="x",Hoja1!$CC$2,""))))),"") | BT3: =IF(C$91="SI",IF(Hoja1!BY3="x",Hoja1!$BY$2,IF(Hoja1!BZ3="x",Hoja1!$BZ$2,IF(Hoja1!CA3="x",Hoja1!$CA$2,IF(Hoja1!CB3="x",Hoja1!$CB$2,IF(Hoja1!CC3="x",Hoja1!$CC$2,""))))),"") | BU3: =IF(C$92="SI",IF(Hoja1!BY3="x",Hoja1!$BY$2,IF(Hoja1!BZ3="x",Hoja1!$BZ$2,IF(Hoja1!CA3="x",Hoja1!$CA$2,IF(Hoja1!CB3="x",Hoja1!$CB$2,IF(Hoja1!CC3="x",Hoja1!$CC$2,""))))),"") | BV3: =IF(C$59="SI",IF(Hoja1!CD3="x",Hoja1!$CD$2,IF(Hoja1!CE3="x",Hoja1!$CE$2,IF(Hoja1!CF3="x",Hoja1!$CF$2,IF(Hoja1!CG3="x",Hoja1!$CG$2,IF(Hoja1!CH3="x",Hoja1!$CH$2,""))))),"") -> B | BW3: =IF(C$67="SI",IF(Hoja1!CD3="x",Hoja1!$CD$2,IF(Hoja1!CE3="x",Hoja1!$CE$2,IF(Hoja1!CF3="x",Hoja1!$CF$2,IF(Hoja1!CG3="x",Hoja1!$CG$2,IF(Hoja1!CH3="x",Hoja1!$CH$2,""))))),"") -> B | BX3: =IF(C$68="SI",IF(Hoja1!CD3="x",Hoja1!$CD$2,IF(Hoja1!CE3="x",Hoja1!$CE$2,IF(Hoja1!CF3="x",Hoja1!$CF$2,IF(Hoja1!CG3="x",Hoja1!$CG$2,IF(Hoja1!CH3="x",Hoja1!$CH$2,""))))),"") -> B | BY3: =IF(C$69="SI",IF(Hoja1!CD3="x",Hoja1!$CD$2,IF(Hoja1!CE3="x",Hoja1!$CE$2,IF(Hoja1!CF3="x",Hoja1!$CF$2,IF(Hoja1!CG3="x",Hoja1!$CG$2,IF(Hoja1!CH3="x",Hoja1!$CH$2,""))))),"") -> B | BZ3: =IF(C$90="SI",IF(Hoja1!CD3="x",Hoja1!$CD$2,IF(Hoja1!CE3="x",Hoja1!$CE$2,IF(Hoja1!CF3="x",Hoja1!$CF$2,IF(Hoja1!CG3="x",Hoja1!$CG$2,IF(Hoja1!CH3="x",Hoja1!$CH$2,""))))),"") -> B | CA3: =IF(C$91="SI",IF(Hoja1!CD3="x",Hoja1!$CD$2,IF(Hoja1!CE3="x",Hoja1!$CE$2,IF(Hoja1!CF3="x",Hoja1!$CF$2,IF(Hoja1!CG3="x",Hoja1!$CG$2,IF(Hoja1!CH3="x",Hoja1!$CH$2,""))))),"") -> B | CB3: =IF(C$92="SI",IF(Hoja1!CD3="x",Hoja1!$CD$2,IF(Hoja1!CE3="x",Hoja1!$CE$2,IF(Hoja1!CF3="x",Hoja1!$CF$2,IF(Hoja1!CG3="x",Hoja1!$CG$2,IF(Hoja1!CH3="x",Hoja1!$CH$2,""))))),"") -> B | CD3: =IF(C$90="SI",IF(Hoja1!CD3="x",Hoja1!$CD$2,IF(Hoja1!CE3="x",Hoja1!$CE$2,IF(Hoja1!CF3="x",Hoja1!$CF$2,IF(Hoja1!CG3="x",Hoja1!$CG$2,IF(Hoja1!CH3="x",Hoja1!$CH$2,""))))),"") -> B | CE3: =IF(C$91="SI",IF(Hoja1!CD3="x",Hoja1!$CD$2,IF(Hoja1!CE3="x",Hoja1!$CE$2,IF(Hoja1!CF3="x",Hoja1!$CF$2,IF(Hoja1!CG3="x",Hoja1!$CG$2,IF(Hoja1!CH3="x",Hoja1!$CH$2,""))))),"") -> B | CF3: =IF(C$92="SI",IF(Hoja1!CD3="x",Hoja1!$CD$2,IF(Hoja1!CE3="x",Hoja1!$CE$2,IF(Hoja1!CF3="x",Hoja1!$CF$2,IF(Hoja1!CG3="x",Hoja1!$CG$2,IF(Hoja1!CH3="x",Hoja1!$CH$2,""))))),"") -> B
A4: 2 | B4: =IF(D62="SI",IF(Hoja1!$B$4="x",Hoja1!$B$2,IF(Hoja1!$C$4="x",Hoja1!$C$2,IF(Hoja1!$D$4="x",Hoja1!$D$2,IF(Hoja1!$E$4="x",Hoja1!$E$2,IF(Hoja1!$F$4="x",Hoja1!$F$2,""))))),"") -> B | C4: =IF(D43="SI",IF(Hoja1!B4="x",Hoja1!$B$2,IF(Hoja1!C4="x",Hoja1!$C$2,IF(Hoja1!D4="x",Hoja1!$D$2,IF(Hoja1!E4="x",Hoja1!$E$2,IF(Hoja1!F4="x",Hoja1!$F$2,""))))),"") -> B | D4: =IF(D44="SI",IF(Hoja1!B4="x",Hoja1!$B$2,IF(Hoja1!C4="x",Hoja1!$C$2,IF(Hoja1!D4="x",Hoja1!$D$2,IF(Hoja1!E4="x",Hoja1!$E$2,IF(Hoja1!F4="x",Hoja1!$F$2,""))))),"") -> B | E4: =IF(D$82="SI",IF(Hoja1!B4="x",Hoja1!$B$2,IF(Hoja1!C4="x",Hoja1!$C$2,IF(Hoja1!D4="x",Hoja1!$D$2,IF(Hoja1!E4="x",Hoja1!$E$2,IF(Hoja1!F4="x",Hoja1!$F$2,""))))),"") -> B | F4: =IF(D$84="SI",IF(Hoja1!B4="x",Hoja1!$B$2,IF(Hoja1!C4="x",Hoja1!$C$2,IF(Hoja1!D4="x",Hoja1!$D$2,IF(Hoja1!E4="x",Hoja1!$E$2,IF(Hoja1!F4="x",Hoja1!$F$2,""))))),"") -> B | G4: =IF(D$70="SI",IF(Hoja1!B4="x",Hoja1!$B$2,IF(Hoja1!C4="x",Hoja1!$C$2,IF(Hoja1!D4="x",Hoja1!$D$2,IF(Hoja1!E4="x",Hoja1!$E$2,IF(Hoja1!F4="x",Hoja1!$F$2,""))))),"") -> B | H4: =IF(D$82="SI",IF(Hoja1!G4="x",Hoja1!$G$2,IF(Hoja1!H4="x",Hoja1!$H$2,IF(Hoja1!I4="x",Hoja1!$I$2,IF(Hoja1!J4="x",Hoja1!$J$2,IF(Hoja1!K4="x",Hoja1!$K$2,""))))),"") -> B | I4: =IF(D$85="SI",IF(Hoja1!G4="x",Hoja1!$G$2,IF(Hoja1!H4="x",Hoja1!$H$2,IF(Hoja1!I4="x",Hoja1!$I$2,IF(Hoja1!J4="x",Hoja1!$J$2,IF(Hoja1!K4="x",Hoja1!$K$2,""))))),"") -> B | J4: =IF(D$86="SI",IF(Hoja1!G4="x",Hoja1!$G$2,IF(Hoja1!H4="x",Hoja1!$H$2,IF(Hoja1!I4="x",Hoja1!$I$2,IF(Hoja1!J4="x",Hoja1!$J$2,IF(Hoja1!K4="x",Hoja1!$K$2,""))))),"") -> B | K4: =IF(D$87="SI",IF(Hoja1!G4="x",Hoja1!$G$2,IF(Hoja1!H4="x",Hoja1!$H$2,IF(Hoja1!I4="x",Hoja1!$I$2,IF(Hoja1!J4="x",Hoja1!$J$2,IF(Hoja1!K4="x",Hoja1!$K$2,""))))),"") -> B | L4: =IF(D$64="SI",IF(Hoja1!G4="x",Hoja1!$G$2,IF(Hoja1!H4="x",Hoja1!$H$2,IF(Hoja1!I4="x",Hoja1!$I$2,IF(Hoja1!J4="x",Hoja1!$J$2,IF(Hoja1!K4="x",Hoja1!$K$2,""))))),"") -> B | M4: =IF(D$73="SI",IF(Hoja1!G4="x",Hoja1!$G$2,IF(Hoja1!H4="x",Hoja1!$H$2,IF(Hoja1!I4="x",Hoja1!$I$2,IF(Hoja1!J4="x",Hoja1!$J$2,IF(Hoja1!K4="x",Hoja1!$K$2,""))))),"") -> B | N4: =IF(D$74="SI",IF(Hoja1!G4="x",Hoja1!$G$2,IF(Hoja1!H4="x",Hoja1!$H$2,IF(Hoja1!I4="x",Hoja1!$I$2,IF(Hoja1!J4="x",Hoja1!$J$2,IF(Hoja1!K4="x",Hoja1!$K$2,""))))),"") -> B | O4: =IF(D$60="SI",IF(Hoja1!L4="x",Hoja1!$L$2,IF(Hoja1!M4="x",Hoja1!$M$2,IF(Hoja1!N4="x",Hoja1!$N$2,IF(Hoja1!O4="x",Hoja1!$O$2,IF(Hoja1!P4="x",Hoja1!$P$2,""))))),"") | P4: =IF(D$80="SI",IF(Hoja1!L4="x",Hoja1!$L$2,IF(Hoja1!M4="x",Hoja1!$M$2,IF(Hoja1!N4="x",Hoja1!$N$2,IF(Hoja1!O4="x",Hoja1!$O$2,IF(Hoja1!P4="x",Hoja1!$P$2,""))))),"") -> B | Q4: =IF(D$43="SI",IF(Hoja1!L4="x",Hoja1!$L$2,IF(Hoja1!M4="x",Hoja1!$M$2,IF(Hoja1!N4="x",Hoja1!$N$2,IF(Hoja1!O4="x",Hoja1!$O$2,IF(Hoja1!P4="x",Hoja1!$P$2,""))))),"") -> B | R4: =IF(D$82="SI",IF(Hoja1!L4="x",Hoja1!$L$2,IF(Hoja1!M4="x",Hoja1!$M$2,IF(Hoja1!N4="x",Hoja1!$N$2,IF(Hoja1!O4="x",Hoja1!$O$2,IF(Hoja1!P4="x",Hoja1!$P$2,""))))),"") -> B | S4: =IF(D$76="SI",IF(Hoja1!L4="x",Hoja1!$L$2,IF(Hoja1!M4="x",Hoja1!$M$2,IF(Hoja1!N4="x",Hoja1!$N$2,IF(Hoja1!O4="x",Hoja1!$O$2,IF(Hoja1!P4="x",Hoja1!$P$2,""))))),"") -> B | T4: =IF(D$77="SI",IF(Hoja1!L4="x",Hoja1!$L$2,IF(Hoja1!M4="x",Hoja1!$M$2,IF(Hoja1!N4="x",Hoja1!$N$2,IF(Hoja1!O4="x",Hoja1!$O$2,IF(Hoja1!P4="x",Hoja1!$P$2,""))))),"") -> B | U4: =IF(D$78="SI",IF(Hoja1!L4="x",Hoja1!$L$2,IF(Hoja1!M4="x",Hoja1!$M$2,IF(Hoja1!N4="x",Hoja1!$N$2,IF(Hoja1!O4="x",Hoja1!$O$2,IF(Hoja1!P4="x",Hoja1!$P$2,""))))),"") -> B | V4: =IF(D$60="SI",IF(Hoja1!Q4="x",Hoja1!$Q$2,IF(Hoja1!R4="x",Hoja1!$R$2,IF(Hoja1!S4="x",Hoja1!$S$2,IF(Hoja1!T4="x",Hoja1!$T$2,IF(Hoja1!U4="x",Hoja1!$U$2,""))))),"") | W4: =IF(D$61="SI",IF(Hoja1!Q4="x",Hoja1!$Q$2,IF(Hoja1!R4="x",Hoja1!$R$2,IF(Hoja1!S4="x",Hoja1!$S$2,IF(Hoja1!T4="x",Hoja1!$T$2,IF(Hoja1!U4="x",Hoja1!$U$2,""))))),"") | X4: =IF(D$62="SI",IF(Hoja1!Q4="x",Hoja1!$Q$2,IF(Hoja1!R4="x",Hoja1!$R$2,IF(Hoja1!S4="x",Hoja1!$S$2,IF(Hoja1!T4="x",Hoja1!$T$2,IF(Hoja1!U4="x",Hoja1!$U$2,""))))),"") | Y4: =IF(D$79="SI",IF(Hoja1!Q4="x",Hoja1!$Q$2,IF(Hoja1!R4="x",Hoja1!$R$2,IF(Hoja1!S4="x",Hoja1!$S$2,IF(Hoja1!T4="x",Hoja1!$T$2,IF(Hoja1!U4="x",Hoja1!$U$2,""))))),"") | Z4: =IF(D$81="SI",IF(Hoja1!Q4="x",Hoja1!$Q$2,IF(Hoja1!R4="x",Hoja1!$R$2,IF(Hoja1!S4="x",Hoja1!$S$2,IF(Hoja1!T4="x",Hoja1!$T$2,IF(Hoja1!U4="x",Hoja1!$U$2,""))))),"") | AA4: =IF(D$63="SI",IF(Hoja1!Q4="x",Hoja1!$Q$2,IF(Hoja1!R4="x",Hoja1!$R$2,IF(Hoja1!S4="x",Hoja1!$S$2,IF(Hoja1!T4="x",Hoja1!$T$2,IF(Hoja1!U4="x",Hoja1!$U$2,""))))),"") | AB4: =IF(D$64="SI",IF(Hoja1!Q4="x",Hoja1!$Q$2,IF(Hoja1!R4="x",Hoja1!$R$2,IF(Hoja1!S4="x",Hoja1!$S$2,IF(Hoja1!T4="x",Hoja1!$T$2,IF(Hoja1!U4="x",Hoja1!$U$2,""))))),"") | AC4: =IF(D$65="SI",IF(Hoja1!Q4="x",Hoja1!$Q$2,IF(Hoja1!R4="x",Hoja1!$R$2,IF(Hoja1!S4="x",Hoja1!$S$2,IF(Hoja1!T4="x",Hoja1!$T$2,IF(Hoja1!U4="x",Hoja1!$U$2,""))))),"") | AD4: =IF(D$45="SI",IF(Hoja1!V4="x",Hoja1!$V$2,IF(Hoja1!W4="x",Hoja1!$W$2,IF(Hoja1!X4="x",Hoja1!$X$2,IF(Hoja1!Y4="x",Hoja1!$Y$2,IF(Hoja1!Z4="x",Hoja1!$Z$2,""))))),"") | AE4: =IF(D$53="SI",IF(Hoja1!V4="x",Hoja1!$V$2,IF(Hoja1!W4="x",Hoja1!$W$2,IF(Hoja1!X4="x",Hoja1!$X$2,IF(Hoja1!Y4="x",Hoja1!$Y$2,IF(Hoja1!Z4="x",Hoja1!$Z$2,""))))),"") | AF4: =IF(D$43="SI",IF(Hoja1!AA4="x",Hoja1!$AA$2,IF(Hoja1!AB4="x",Hoja1!$AB$2,IF(Hoja1!AC4="x",Hoja1!$AC$2,IF(Hoja1!AD4="x",Hoja1!$AD$2,IF(Hoja1!AE4="x",Hoja1!$AE$2,""))))),"") | AG4: =IF(D$54="SI",IF(Hoja1!AA4="x",Hoja1!$AA$2,IF(Hoja1!AB4="x",Hoja1!$AB$2,IF(Hoja1!AC4="x",Hoja1!$AC$2,IF(Hoja1!AD4="x",Hoja1!$AD$2,IF(Hoja1!AE4="x",Hoja1!$AE$2,""))))),"") | AH4: =IF(D$88="SI",IF(Hoja1!AF4="x",Hoja1!$AF$2,IF(Hoja1!AG4="x",Hoja1!$AG$2,IF(Hoja1!AH4="x",Hoja1!$AH$2,IF(Hoja1!AI4="x",Hoja1!$AI$2,IF(Hoja1!AJ4="x",Hoja1!$AJ$2,""))))),"") | AI4: =IF(D$48="SI",IF(Hoja1!AF4="x",Hoja1!$AF$2,IF(Hoja1!AG4="x",Hoja1!$AG$2,IF(Hoja1!AH4="x",Hoja1!$AH$2,IF(Hoja1!AI4="x",Hoja1!$AI$2,IF(Hoja1!AJ4="x",Hoja1!$AJ$2,""))))),"") | AJ4: =IF(D$51="SI",IF(Hoja1!AF4="x",Hoja1!$AF$2,IF(Hoja1!AG4="x",Hoja1!$AG$2,IF(Hoja1!AH4="x",Hoja1!$AH$2,IF(Hoja1!AI4="x",Hoja1!$AI$2,IF(Hoja1!AJ4="x",Hoja1!$AJ$2,""))))),"") | AK4: =IF(D$88="SI",IF(Hoja1!AK4="x",Hoja1!$AK$2,IF(Hoja1!AL4="x",Hoja1!$AL$2,IF(Hoja1!AM4="x",Hoja1!$AM$2,IF(Hoja1!AN4="x",Hoja1!$AN$2,IF(Hoja1!AO4="x",Hoja1!$AO$2,""))))),"") | AL4: =IF(D$48="SI",IF(Hoja1!AK4="x",Hoja1!$AK$2,IF(Hoja1!AL4="x",Hoja1!$AL$2,IF(Hoja1!AM4="x",Hoja1!$AM$2,IF(Hoja1!AN4="x",Hoja1!$AN$2,IF(Hoja1!AO4="x",Hoja1!$AO$2,""))))),"") | AM4: =IF(D$49="SI",IF(Hoja1!AK4="x",Hoja1!$AK$2,IF(Hoja1!AL4="x",Hoja1!$AL$2,IF(Hoja1!AM4="x",Hoja1!$AM$2,IF(Hoja1!AN4="x",Hoja1!$AN$2,IF(Hoja1!AO4="x",Hoja1!$AO$2,""))))),"") | AN4: =IF(D$50="SI",IF(Hoja1!AK4="x",Hoja1!$AK$2,IF(Hoja1!AL4="x",Hoja1!$AL$2,IF(Hoja1!AM4="x",Hoja1!$AM$2,IF(Hoja1!AN4="x",Hoja1!$AN$2,IF(Hoja1!AO4="x",Hoja1!$AO$2,""))))),"") | AO4: =IF(D$59="SI",IF(Hoja1!AP4="x",Hoja1!$AP$2,IF(Hoja1!AQ4="x",Hoja1!$AQ$2,IF(Hoja1!AR4="x",Hoja1!$AR$2,IF(Hoja1!AS4="x",Hoja1!$AS$2,IF(Hoja1!AT4="x",Hoja1!$AT$2,""))))),"") | AP4: =IF(D$80="SI",IF(Hoja1!AP4="x",Hoja1!$AP$2,IF(Hoja1!AQ4="x",Hoja1!$AQ$2,IF(Hoja1!AR4="x",Hoja1!$AR$2,IF(Hoja1!AS4="x",Hoja1!$AS$2,IF(Hoja1!AT4="x",Hoja1!$AT$2,""))))),"") | AQ4: =IF(D$89="SI",IF(Hoja1!AP4="x",Hoja1!$AP$2,IF(Hoja1!AQ4="x",Hoja1!$AQ$2,IF(Hoja1!AR4="x",Hoja1!$AR$2,IF(Hoja1!AS4="x",Hoja1!$AS$2,IF(Hoja1!AT4="x",Hoja1!$AT$2,""))))),"") | AR4: =IF(D$83="SI",IF(Hoja1!AU4="x",Hoja1!$AU$2,IF(Hoja1!AV4="x",Hoja1!$AV$2,IF(Hoja1!AW4="x",Hoja1!$AW$2,IF(Hoja1!AX4="x",Hoja1!$AX$2,IF(Hoja1!AY4="x",Hoja1!$AY$2,""))))),"") | AS4: =IF(D$55="SI",IF(Hoja1!AU4="x",Hoja1!$AU$2,IF(Hoja1!AV4="x",Hoja1!$AV$2,IF(Hoja1!AW4="x",Hoja1!$AW$2,IF(Hoja1!AX4="x",Hoja1!$AX$2,IF(Hoja1!AY4="x",Hoja1!$AY$2,""))))),"") | AT4: =IF(D$57="SI",IF(Hoja1!AU4="x",Hoja1!$AU$2,IF(Hoja1!AV4="x",Hoja1!$AV$2,IF(Hoja1!AW4="x",Hoja1!$AW$2,IF(Hoja1!AX4="x",Hoja1!$AX$2,IF(Hoja1!AY4="x",Hoja1!$AY$2,""))))),"") | AU4: =IF(D$47="SI",IF(Hoja1!AZ4="x",Hoja1!$AZ$2,IF(Hoja1!BA4="x",Hoja1!$BA$2,IF(Hoja1!BB4="x",Hoja1!$BB$2,IF(Hoja1!BC4="x",Hoja1!$BC$2,IF(Hoja1!BD4="x",Hoja1!$BD$2,""))))),"") | AV4: =IF(D$62="SI",IF(Hoja1!AZ4="x",Hoja1!$AZ$2,IF(Hoja1!BA4="x",Hoja1!$BA$2,IF(Hoja1!BB4="x",Hoja1!$BB$2,IF(Hoja1!BC4="x",Hoja1!$BC$2,IF(Hoja1!BD4="x",Hoja1!$BD$2,""))))),"") | AW4: =IF(D$83="SI",IF(Hoja1!AZ4="x",Hoja1!$AZ$2,IF(Hoja1!BA4="x",Hoja1!$BA$2,IF(Hoja1!BB4="x",Hoja1!$BB$2,IF(Hoja1!BC4="x",Hoja1!$BC$2,IF(Hoja1!BD4="x",Hoja1!$BD$2,""))))),"") | AX4: =IF(D$84="SI",IF(Hoja1!AZ4="x",Hoja1!$AZ$2,IF(Hoja1!BA4="x",Hoja1!$BA$2,IF(Hoja1!BB4="x",Hoja1!$BB$2,IF(Hoja1!BC4="x",Hoja1!$BC$2,IF(Hoja1!BD4="x",Hoja1!$BD$2,""))))),"") | AY4: =IF(D$86="SI",IF(Hoja1!AZ4="x",Hoja1!$AZ$2,IF(Hoja1!BA4="x",Hoja1!$BA$2,IF(Hoja1!BB4="x",Hoja1!$BB$2,IF(Hoja1!BC4="x",Hoja1!$BC$2,IF(Hoja1!BD4="x",Hoja1!$BD$2,""))))),"") | AZ4: =IF(D$46="SI",IF(Hoja1!BE4="x",Hoja1!$BE$2,IF(Hoja1!BF4="x",Hoja1!$BF$2,IF(Hoja1!BG4="x",Hoja1!$BG$2,IF(Hoja1!BH4="x",Hoja1!$BH$2,IF(Hoja1!BI4="x",Hoja1!$BI$2,""))))),"") | BA4: =IF(D$84="SI",IF(Hoja1!BE4="x",Hoja1!$BE$2,IF(Hoja1!BF4="x",Hoja1!$BF$2,IF(Hoja1!BG4="x",Hoja1!$BG$2,IF(Hoja1!BH4="x",Hoja1!$BH$2,IF(Hoja1!BI4="x",Hoja1!$BI$2,""))))),"") | BB4: =IF(D$45="SI",IF(Hoja1!BJ4="x",Hoja1!$BJ$2,IF(Hoja1!BK4="x",Hoja1!$BK$2,IF(Hoja1!BL4="x",Hoja1!$BL$2,IF(Hoja1!BM4="x",Hoja1!$BM$2,IF(Hoja1!BN4="x",Hoja1!$BN$2,""))))),"") | BC4: =IF(D$56="SI",IF(Hoja1!BJ4="x",Hoja1!$BJ$2,IF(Hoja1!BK4="x",Hoja1!$BK$2,IF(Hoja1!BL4="x",Hoja1!$BL$2,IF(Hoja1!BM4="x",Hoja1!$BM$2,IF(Hoja1!BN4="x",Hoja1!$BN$2,""))))),"") | BD4: =IF(D$59="SI",IF(Hoja1!BJ4="x",Hoja1!$BJ$2,IF(Hoja1!BK4="x",Hoja1!$BK$2,IF(Hoja1!BL4="x",Hoja1!$BL$2,IF(Hoja1!BM4="x",Hoja1!$BM$2,IF(Hoja1!BN4="x",Hoja1!$BN$2,""))))),"") | BE4: =IF(D$62="SI",IF(Hoja1!BJ4="x",Hoja1!$BJ$2,IF(Hoja1!BK4="x",Hoja1!$BK$2,IF(Hoja1!BL4="x",Hoja1!$BL$2,IF(Hoja1!BM4="x",Hoja1!$BM$2,IF(Hoja1!BN4="x",Hoja1!$BN$2,""))))),"") | BF4: =IF(D$52="SI",IF(Hoja1!BJ4="x",Hoja1!$BJ$2,IF(Hoja1!BK4="x",Hoja1!$BK$2,IF(Hoja1!BL4="x",Hoja1!$BL$2,IF(Hoja1!BM4="x",Hoja1!$BM$2,IF(Hoja1!BN4="x",Hoja1!$BN$2,""))))),"") | BG4: =IF(D$75="SI",IF(Hoja1!BJ4="x",Hoja1!$BJ$2,IF(Hoja1!BK4="x",Hoja1!$BK$2,IF(Hoja1!BL4="x",Hoja1!$BL$2,IF(Hoja1!BM4="x",Hoja1!$BM$2,IF(Hoja1!BN4="x",Hoja1!$BN$2,""))))),"") | BH4: =IF(D$71="SI",IF(Hoja1!BO4="x",Hoja1!$BO$2,IF(Hoja1!BP4="x",Hoja1!$BP$2,IF(Hoja1!BQ4="x",Hoja1!$BQ$2,IF(Hoja1!BR4="x",Hoja1!$BR$2,IF(Hoja1!BS4="x",Hoja1!$BS$2,""))))),"") | BI4: =IF(D$72="SI",IF(Hoja1!BO4="x",Hoja1!$BO$2,IF(Hoja1!BP4="x",Hoja1!$BP$2,IF(Hoja1!BQ4="x",Hoja1!$BQ$2,IF(Hoja1!BR4="x",Hoja1!$BR$2,IF(Hoja1!BS4="x",Hoja1!$BS$2,""))))),"") | BJ4: =IF(D$58="SI",IF(Hoja1!BO4="x",Hoja1!$BO$2,IF(Hoja1!BP4="x",Hoja1!$BP$2,IF(Hoja1!BQ4="x",Hoja1!$BQ$2,IF(Hoja1!BR4="x",Hoja1!$BR$2,IF(Hoja1!BS4="x",Hoja1!$BS$2,""))))),"") | BK4: =IF(D$67="SI",IF(Hoja1!BT4="x",Hoja1!$BT$2,IF(Hoja1!BU4="x",Hoja1!$BU$2,IF(Hoja1!BV4="x",Hoja1!$BV$2,IF(Hoja1!BW4="x",Hoja1!$BW$2,IF(Hoja1!BX4="x",Hoja1!$BX$2,""))))),"") | BL4: =IF(D$68="SI",IF(Hoja1!BT4="x",Hoja1!$BT$2,IF(Hoja1!BU4="x",Hoja1!$BU$2,IF(Hoja1!BV4="x",Hoja1!$BV$2,IF(Hoja1!BW4="x",Hoja1!$BW$2,IF(Hoja1!BX4="x",Hoja1!$BX$2,""))))),"") | BM4: =IF(D$90="SI",IF(Hoja1!BT4="x",Hoja1!$BT$2,IF(Hoja1!BU4="x",Hoja1!$BU$2,IF(Hoja1!BV4="x",Hoja1!$BV$2,IF(Hoja1!BW4="x",Hoja1!$BW$2,IF(Hoja1!BX4="x",Hoja1!$BX$2,""))))),"") | BN4: =IF(D$91="SI",IF(Hoja1!BT4="x",Hoja1!$BT$2,IF(Hoja1!BU4="x",Hoja1!$BU$2,IF(Hoja1!BV4="x",Hoja1!$BV$2,IF(Hoja1!BW4="x",Hoja1!$BW$2,IF(Hoja1!BX4="x",Hoja1!$BX$2,""))))),"") | BO4: =IF(D$92="SI",IF(Hoja1!BT4="x",Hoja1!$BT$2,IF(Hoja1!BU4="x",Hoja1!$BU$2,IF(Hoja1!BV4="x",Hoja1!$BV$2,IF(Hoja1!BW4="x",Hoja1!$BW$2,IF(Hoja1!BX4="x",Hoja1!$BX$2,""))))),"") | BP4: =IF(D$67="SI",IF(Hoja1!BY4="x",Hoja1!$BY$2,IF(Hoja1!BZ4="x",Hoja1!$BZ$2,IF(Hoja1!CA4="x",Hoja1!$CA$2,IF(Hoja1!CB4="x",Hoja1!$CB$2,IF(Hoja1!CC4="x",Hoja1!$CC$2,""))))),"") | BQ4: =IF(D$68="SI",IF(Hoja1!BY4="x",Hoja1!$BY$2,IF(Hoja1!BZ4="x",Hoja1!$BZ$2,IF(Hoja1!CA4="x",Hoja1!$CA$2,IF(Hoja1!CB4="x",Hoja1!$CB$2,IF(Hoja1!CC4="x",Hoja1!$CC$2,""))))),"") | BR4: =IF(D$69="SI",IF(Hoja1!BY4="x",Hoja1!$BY$2,IF(Hoja1!BZ4="x",Hoja1!$BZ$2,IF(Hoja1!CA4="x",Hoja1!$CA$2,IF(Hoja1!CB4="x",Hoja1!$CB$2,IF(Hoja1!CC4="x",Hoja1!$CC$2,""))))),"") | BS4: =IF(D$90="SI",IF(Hoja1!BY4="x",Hoja1!$BY$2,IF(Hoja1!BZ4="x",Hoja1!$BZ$2,IF(Hoja1!CA4="x",Hoja1!$CA$2,IF(Hoja1!CB4="x",Hoja1!$CB$2,IF(Hoja1!CC4="x",Hoja1!$CC$2,""))))),"") | BT4: =IF(D$91="SI",IF(Hoja1!BY4="x",Hoja1!$BY$2,IF(Hoja1!BZ4="x",Hoja1!$BZ$2,IF(Hoja1!CA4="x",Hoja1!$CA$2,IF(Hoja1!CB4="x",Hoja1!$CB$2,IF(Hoja1!CC4="x",Hoja1!$CC$2,""))))),"") | BU4: =IF(D$92="SI",IF(Hoja1!BY4="x",Hoja1!$BY$2,IF(Hoja1!BZ4="x",Hoja1!$BZ$2,IF(Hoja1!CA4="x",Hoja1!$CA$2,IF(Hoja1!CB4="x",Hoja1!$CB$2,IF(Hoja1!CC4="x",Hoja1!$CC$2,""))))),"") | BV4: =IF(D$59="SI",IF(Hoja1!CD4="x",Hoja1!$CD$2,IF(Hoja1!CE4="x",Hoja1!$CE$2,IF(Hoja1!CF4="x",Hoja1!$CF$2,IF(Hoja1!CG4="x",Hoja1!$CG$2,IF(Hoja1!CH4="x",Hoja1!$CH$2,""))))),"") -> B | BW4: =IF(D$67="SI",IF(Hoja1!CD4="x",Hoja1!$CD$2,IF(Hoja1!CE4="x",Hoja1!$CE$2,IF(Hoja1!CF4="x",Hoja1!$CF$2,IF(Hoja1!CG4="x",Hoja1!$CG$2,IF(Hoja1!CH4="x",Hoja1!$CH$2,""))))),"") -> B | BX4: =IF(D$68="SI",IF(Hoja1!CD4="x",Hoja1!$CD$2,IF(Hoja1!CE4="x",Hoja1!$CE$2,IF(Hoja1!CF4="x",Hoja1!$CF$2,IF(Hoja1!CG4="x",Hoja1!$CG$2,IF(Hoja1!CH4="x",Hoja1!$CH$2,""))))),"") -> B | BY4: =IF(D$69="SI",IF(Hoja1!CD4="x",Hoja1!$CD$2,IF(Hoja1!CE4="x",Hoja1!$CE$2,IF(Hoja1!CF4="x",Hoja1!$CF$2,IF(Hoja1!CG4="x",Hoja1!$CG$2,IF(Hoja1!CH4="x",Hoja1!$CH$2,""))))),"") -> B | BZ4: =IF(D$90="SI",IF(Hoja1!CD4="x",Hoja1!$CD$2,IF(Hoja1!CE4="x",Hoja1!$CE$2,IF(Hoja1!CF4="x",Hoja1!$CF$2,IF(Hoja1!CG4="x",Hoja1!$CG$2,IF(Hoja1!CH4="x",Hoja1!$CH$2,""))))),"") -> B | CA4: =IF(D$91="SI",IF(Hoja1!CD4="x",Hoja1!$CD$2,IF(Hoja1!CE4="x",Hoja1!$CE$2,IF(Hoja1!CF4="x",Hoja1!$CF$2,IF(Hoja1!CG4="x",Hoja1!$CG$2,IF(Hoja1!CH4="x",Hoja1!$CH$2,""))))),"") -> B | CB4: =IF(D$92="SI",IF(Hoja1!CD4="x",Hoja1!$CD$2,IF(Hoja1!CE4="x",Hoja1!$CE$2,IF(Hoja1!CF4="x",Hoja1!$CF$2,IF(Hoja1!CG4="x",Hoja1!$CG$2,IF(Hoja1!CH4="x",Hoja1!$CH$2,""))))),"") -> B | CC4: =IF(D$69="SI",IF(Hoja1!CD4="x",Hoja1!$CD$2,IF(Hoja1!CE4="x",Hoja1!$CE$2,IF(Hoja1!CF4="x",Hoja1!$CF$2,IF(Hoja1!CG4="x",Hoja1!$CG$2,IF(Hoja1!CH4="x",Hoja1!$CH$2,""))))),"") -> B | CD4: =IF(D$90="SI",IF(Hoja1!CD4="x",Hoja1!$CD$2,IF(Hoja1!CE4="x",Hoja1!$CE$2,IF(Hoja1!CF4="x",Hoja1!$CF$2,IF(Hoja1!CG4="x",Hoja1!$CG$2,IF(Hoja1!CH4="x",Hoja1!$CH$2,""))))),"") -> B | CE4: =IF(D$91="SI",IF(Hoja1!CD4="x",Hoja1!$CD$2,IF(Hoja1!CE4="x",Hoja1!$CE$2,IF(Hoja1!CF4="x",Hoja1!$CF$2,IF(Hoja1!CG4="x",Hoja1!$CG$2,IF(Hoja1!CH4="x",Hoja1!$CH$2,""))))),"") -> B | CF4: =IF(D$92="SI",IF(Hoja1!CD4="x",Hoja1!$CD$2,IF(Hoja1!CE4="x",Hoja1!$CE$2,IF(Hoja1!CF4="x",Hoja1!$CF$2,IF(Hoja1!CG4="x",Hoja1!$CG$2,IF(Hoja1!CH4="x",Hoja1!$CH$2,""))))),"") -> B
A5: 3 | B5: =IF(E62="SI",IF(Hoja1!B5="x",Hoja1!$B$2,IF(Hoja1!C5="x",Hoja1!$C$2,IF(Hoja1!D5="x",Hoja1!$D$2,IF(Hoja1!E5="x",Hoja1!$E$2,IF(Hoja1!F5="x",Hoja1!$F$2,""))))),"") -> B | C5: =IF(E43="SI",IF(Hoja1!B5="x",Hoja1!$B$2,IF(Hoja1!C5="x",Hoja1!$C$2,IF(Hoja1!D5="x",Hoja1!$D$2,IF(Hoja1!E5="x",Hoja1!$E$2,IF(Hoja1!F5="x",Hoja1!$F$2,""))))),"") -> B | D5: =IF(E44="SI",IF(Hoja1!B5="x",Hoja1!$B$2,IF(Hoja1!C5="x",Hoja1!$C$2,IF(Hoja1!D5="x",Hoja1!$D$2,IF(Hoja1!E5="x",Hoja1!$E$2,IF(Hoja1!F5="x",Hoja1!$F$2,""))))),"") -> B | E5: =IF(E$82="SI",IF(Hoja1!B5="x",Hoja1!$B$2,IF(Hoja1!C5="x",Hoja1!$C$2,IF(Hoja1!D5="x",Hoja1!$D$2,IF(Hoja1!E5="x",Hoja1!$E$2,IF(Hoja1!F5="x",Hoja1!$F$2,""))))),"") -> B | F5: =IF(E$84="SI",IF(Hoja1!B5="x",Hoja1!$B$2,IF(Hoja1!C5="x",Hoja1!$C$2,IF(Hoja1!D5="x",Hoja1!$D$2,IF(Hoja1!E5="x",Hoja1!$E$2,IF(Hoja1!F5="x",Hoja1!$F$2,""))))),"") -> B | G5: =IF(E$70="SI",IF(Hoja1!B5="x",Hoja1!$B$2,IF(Hoja1!C5="x",Hoja1!$C$2,IF(Hoja1!D5="x",Hoja1!$D$2,IF(Hoja1!E5="x",Hoja1!$E$2,IF(Hoja1!F5="x",Hoja1!$F$2,""))))),"") -> B | H5: =IF(E$82="SI",IF(Hoja1!G5="x",Hoja1!$G$2,IF(Hoja1!H5="x",Hoja1!$H$2,IF(Hoja1!I5="x",Hoja1!$I$2,IF(Hoja1!J5="x",Hoja1!$J$2,IF(Hoja1!K5="x",Hoja1!$K$2,""))))),"") -> B | I5: =IF(E$85="SI",IF(Hoja1!G5="x",Hoja1!$G$2,IF(Hoja1!H5="x",Hoja1!$H$2,IF(Hoja1!I5="x",Hoja1!$I$2,IF(Hoja1!J5="x",Hoja1!$J$2,IF(Hoja1!K5="x",Hoja1!$K$2,""))))),"") -> B | J5: =IF(E$86="SI",IF(Hoja1!G5="x",Hoja1!$G$2,IF(Hoja1!H5="x",Hoja1!$H$2,IF(Hoja1!I5="x",Hoja1!$I$2,IF(Hoja1!J5="x",Hoja1!$J$2,IF(Hoja1!K5="x",Hoja1!$K$2,""))))),"") -> B | K5: =IF(E$87="SI",IF(Hoja1!G5="x",Hoja1!$G$2,IF(Hoja1!H5="x",Hoja1!$H$2,IF(Hoja1!I5="x",Hoja1!$I$2,IF(Hoja1!J5="x",Hoja1!$J$2,IF(Hoja1!K5="x",Hoja1!$K$2,""))))),"") -> B | L5: =IF(E$64="SI",IF(Hoja1!G5="x",Hoja1!$G$2,IF(Hoja1!H5="x",Hoja1!$H$2,IF(Hoja1!I5="x",Hoja1!$I$2,IF(Hoja1!J5="x",Hoja1!$J$2,IF(Hoja1!K5="x",Hoja1!$K$2,""))))),"") -> B | M5: =IF(E$73="SI",IF(Hoja1!G5="x",Hoja1!$G$2,IF(Hoja1!H5="x",Hoja1!$H$2,IF(Hoja1!I5="x",Hoja1!$I$2,IF(Hoja1!J5="x",Hoja1!$J$2,IF(Hoja1!K5="x",Hoja1!$K$2,""))))),"") -> B | N5: =IF(E$74="SI",IF(Hoja1!G5="x",Hoja1!$G$2,IF(Hoja1!H5="x",Hoja1!$H$2,IF(Hoja1!I5="x",Hoja1!$I$2,IF(Hoja1!J5="x",Hoja1!$J$2,IF(Hoja1!K5="x",Hoja1!$K$2,""))))),"") -> B | O5: =IF(E$60="SI",IF(Hoja1!L5="x",Hoja1!$L$2,IF(Hoja1!M5="x",Hoja1!$M$2,IF(Hoja1!N5="x",Hoja1!$N$2,IF(Hoja1!O5="x",Hoja1!$O$2,IF(Hoja1!P5="x",Hoja1!$P$2,""))))),"") -> B | P5: =IF(E$80="SI",IF(Hoja1!L5="x",Hoja1!$L$2,IF(Hoja1!M5="x",Hoja1!$M$2,IF(Hoja1!N5="x",Hoja1!$N$2,IF(Hoja1!O5="x",Hoja1!$O$2,IF(Hoja1!P5="x",Hoja1!$P$2,""))))),"") -> B | Q5: =IF(E$43="SI",IF(Hoja1!L5="x",Hoja1!$L$2,IF(Hoja1!M5="x",Hoja1!$M$2,IF(Hoja1!N5="x",Hoja1!$N$2,IF(Hoja1!O5="x",Hoja1!$O$2,IF(Hoja1!P5="x",Hoja1!$P$2,""))))),"") -> B | R5: =IF(E$82="SI",IF(Hoja1!L5="x",Hoja1!$L$2,IF(Hoja1!M5="x",Hoja1!$M$2,IF(Hoja1!N5="x",Hoja1!$N$2,IF(Hoja1!O5="x",Hoja1!$O$2,IF(Hoja1!P5="x",Hoja1!$P$2,""))))),"") -> B | S5: =IF(E$76="SI",IF(Hoja1!L5="x",Hoja1!$L$2,IF(Hoja1!M5="x",Hoja1!$M$2,IF(Hoja1!N5="x",Hoja1!$N$2,IF(Hoja1!O5="x",Hoja1!$O$2,IF(Hoja1!P5="x",Hoja1!$P$2,""))))),"") -> B | T5: =IF(E$77="SI",IF(Hoja1!L5="x",Hoja1!$L$2,IF(Hoja1!M5="x",Hoja1!$M$2,IF(Hoja1!N5="x",Hoja1!$N$2,IF(Hoja1!O5="x",Hoja1!$O$2,IF(Hoja1!P5="x",Hoja1!$P$2,""))))),"") -> B | U5: =IF(E$78="SI",IF(Hoja1!L5="x",Hoja1!$L$2,IF(Hoja1!M5="x",Hoja1!$M$2,IF(Hoja1!N5="x",Hoja1!$N$2,IF(Hoja1!O5="x",Hoja1!$O$2,IF(Hoja1!P5="x",Hoja1!$P$2,""))))),"") -> B | V5: =IF(E$60="SI",IF(Hoja1!Q5="x",Hoja1!$Q$2,IF(Hoja1!R5="x",Hoja1!$R$2,IF(Hoja1!S5="x",Hoja1!$S$2,IF(Hoja1!T5="x",Hoja1!$T$2,IF(Hoja1!U5="x",Hoja1!$U$2,""))))),"") -> B | W5: =IF(E$61="SI",IF(Hoja1!Q5="x",Hoja1!$Q$2,IF(Hoja1!R5="x",Hoja1!$R$2,IF(Hoja1!S5="x",Hoja1!$S$2,IF(Hoja1!T5="x",Hoja1!$T$2,IF(Hoja1!U5="x",Hoja1!$U$2,""))))),"") -> B | X5: =IF(E$62="SI",IF(Hoja1!Q5="x",Hoja1!$Q$2,IF(Hoja1!R5="x",Hoja1!$R$2,IF(Hoja1!S5="x",Hoja1!$S$2,IF(Hoja1!T5="x",Hoja1!$T$2,IF(Hoja1!U5="x",Hoja1!$U$2,""))))),"") -> B | Y5: =IF(E$79="SI",IF(Hoja1!Q5="x",Hoja1!$Q$2,IF(Hoja1!R5="x",Hoja1!$R$2,IF(Hoja1!S5="x",Hoja1!$S$2,IF(Hoja1!T5="x",Hoja1!$T$2,IF(Hoja1!U5="x",Hoja1!$U$2,""))))),"") -> B | Z5: =IF(E$81="SI",IF(Hoja1!Q5="x",Hoja1!$Q$2,IF(Hoja1!R5="x",Hoja1!$R$2,IF(Hoja1!S5="x",Hoja1!$S$2,IF(Hoja1!T5="x",Hoja1!$T$2,IF(Hoja1!U5="x",Hoja1!$U$2,""))))),"") -> B | AA5: =IF(E$63="SI",IF(Hoja1!Q5="x",Hoja1!$Q$2,IF(Hoja1!R5="x",Hoja1!$R$2,IF(Hoja1!S5="x",Hoja1!$S$2,IF(Hoja1!T5="x",Hoja1!$T$2,IF(Hoja1!U5="x",Hoja1!$U$2,""))))),"") -> B | AB5: =IF(E$64="SI",IF(Hoja1!Q5="x",Hoja1!$Q$2,IF(Hoja1!R5="x",Hoja1!$R$2,IF(Hoja1!S5="x",Hoja1!$S$2,IF(Hoja1!T5="x",Hoja1!$T$2,IF(Hoja1!U5="x",Hoja1!$U$2,""))))),"") -> B | AC5: =IF(E$65="SI",IF(Hoja1!Q5="x",Hoja1!$Q$2,IF(Hoja1!R5="x",Hoja1!$R$2,IF(Hoja1!S5="x",Hoja1!$S$2,IF(Hoja1!T5="x",Hoja1!$T$2,IF(Hoja1!U5="x",Hoja1!$U$2,""))))),"") -> B | AD5: =IF(E$45="SI",IF(Hoja1!V5="x",Hoja1!$V$2,IF(Hoja1!W5="x",Hoja1!$W$2,IF(Hoja1!X5="x",Hoja1!$X$2,IF(Hoja1!Y5="x",Hoja1!$Y$2,IF(Hoja1!Z5="x",Hoja1!$Z$2,""))))),"") | AE5: =IF(E$53="SI",IF(Hoja1!V5="x",Hoja1!$V$2,IF(Hoja1!W5="x",Hoja1!$W$2,IF(Hoja1!X5="x",Hoja1!$X$2,IF(Hoja1!Y5="x",Hoja1!$Y$2,IF(Hoja1!Z5="x",Hoja1!$Z$2,""))))),"") | AF5: =IF(E$43="SI",IF(Hoja1!AA5="x",Hoja1!$AA$2,IF(Hoja1!AB5="x",Hoja1!$AB$2,IF(Hoja1!AC5="x",Hoja1!$AC$2,IF(Hoja1!AD5="x",Hoja1!$AD$2,IF(Hoja1!AE5="x",Hoja1!$AE$2,""))))),"") | AG5: =IF(E$54="SI",IF(Hoja1!AA5="x",Hoja1!$AA$2,IF(Hoja1!AB5="x",Hoja1!$AB$2,IF(Hoja1!AC5="x",Hoja1!$AC$2,IF(Hoja1!AD5="x",Hoja1!$AD$2,IF(Hoja1!AE5="x",Hoja1!$AE$2,""))))),"") | AH5: =IF(E$88="SI",IF(Hoja1!AF5="x",Hoja1!$AF$2,IF(Hoja1!AG5="x",Hoja1!$AG$2,IF(Hoja1!AH5="x",Hoja1!$AH$2,IF(Hoja1!AI5="x",Hoja1!$AI$2,IF(Hoja1!AJ5="x",Hoja1!$AJ$2,""))))),"") | AI5: =IF(E$48="SI",IF(Hoja1!AF5="x",Hoja1!$AF$2,IF(Hoja1!AG5="x",Hoja1!$AG$2,IF(Hoja1!AH5="x",Hoja1!$AH$2,IF(Hoja1!AI5="x",Hoja1!$AI$2,IF(Hoja1!AJ5="x",Hoja1!$AJ$2,""))))),"") | AJ5: =IF(E$51="SI",IF(Hoja1!AF5="x",Hoja1!$AF$2,IF(Hoja1!AG5="x",Hoja1!$AG$2,IF(Hoja1!AH5="x",Hoja1!$AH$2,IF(Hoja1!AI5="x",Hoja1!$AI$2,IF(Hoja1!AJ5="x",Hoja1!$AJ$2,""))))),"") | AK5: =IF(E$88="SI",IF(Hoja1!AK5="x",Hoja1!$AK$2,IF(Hoja1!AL5="x",Hoja1!$AL$2,IF(Hoja1!AM5="x",Hoja1!$AM$2,IF(Hoja1!AN5="x",Hoja1!$AN$2,IF(Hoja1!AO5="x",Hoja1!$AO$2,""))))),"") | AL5: =IF(E$48="SI",IF(Hoja1!AK5="x",Hoja1!$AK$2,IF(Hoja1!AL5="x",Hoja1!$AL$2,IF(Hoja1!AM5="x",Hoja1!$AM$2,IF(Hoja1!AN5="x",Hoja1!$AN$2,IF(Hoja1!AO5="x",Hoja1!$AO$2,""))))),"") | AM5: =IF(E$49="SI",IF(Hoja1!AK5="x",Hoja1!$AK$2,IF(Hoja1!AL5="x",Hoja1!$AL$2,IF(Hoja1!AM5="x",Hoja1!$AM$2,IF(Hoja1!AN5="x",Hoja1!$AN$2,IF(Hoja1!AO5="x",Hoja1!$AO$2,""))))),"") | AN5: =IF(E$50="SI",IF(Hoja1!AK5="x",Hoja1!$AK$2,IF(Hoja1!AL5="x",Hoja1!$AL$2,IF(Hoja1!AM5="x",Hoja1!$AM$2,IF(Hoja1!AN5="x",Hoja1!$AN$2,IF(Hoja1!AO5="x",Hoja1!$AO$2,""))))),"") | AO5: =IF(E$59="SI",IF(Hoja1!AP5="x",Hoja1!$AP$2,IF(Hoja1!AQ5="x",Hoja1!$AQ$2,IF(Hoja1!AR5="x",Hoja1!$AR$2,IF(Hoja1!AS5="x",Hoja1!$AS$2,IF(Hoja1!AT5="x",Hoja1!$AT$2,""))))),"") | AP5: =IF(E$80="SI",IF(Hoja1!AP5="x",Hoja1!$AP$2,IF(Hoja1!AQ5="x",Hoja1!$AQ$2,IF(Hoja1!AR5="x",Hoja1!$AR$2,IF(Hoja1!AS5="x",Hoja1!$AS$2,IF(Hoja1!AT5="x",Hoja1!$AT$2,""))))),"") | AQ5: =IF(E$89="SI",IF(Hoja1!AP5="x",Hoja1!$AP$2,IF(Hoja1!AQ5="x",Hoja1!$AQ$2,IF(Hoja1!AR5="x",Hoja1!$AR$2,IF(Hoja1!AS5="x",Hoja1!$AS$2,IF(Hoja1!AT5="x",Hoja1!$AT$2,""))))),"") | AR5: =IF(E$83="SI",IF(Hoja1!AU5="x",Hoja1!$AU$2,IF(Hoja1!AV5="x",Hoja1!$AV$2,IF(Hoja1!AW5="x",Hoja1!$AW$2,IF(Hoja1!AX5="x",Hoja1!$AX$2,IF(Hoja1!AY5="x",Hoja1!$AY$2,""))))),"") | AS5: =IF(E$55="SI",IF(Hoja1!AU5="x",Hoja1!$AU$2,IF(Hoja1!AV5="x",Hoja1!$AV$2,IF(Hoja1!AW5="x",Hoja1!$AW$2,IF(Hoja1!AX5="x",Hoja1!$AX$2,IF(Hoja1!AY5="x",Hoja1!$AY$2,""))))),"") | AT5: =IF(E$57="SI",IF(Hoja1!AU5="x",Hoja1!$AU$2,IF(Hoja1!AV5="x",Hoja1!$AV$2,IF(Hoja1!AW5="x",Hoja1!$AW$2,IF(Hoja1!AX5="x",Hoja1!$AX$2,IF(Hoja1!AY5="x",Hoja1!$AY$2,""))))),"") | AU5: =IF(E$47="SI",IF(Hoja1!AZ5="x",Hoja1!$AZ$2,IF(Hoja1!BA5="x",Hoja1!$BA$2,IF(Hoja1!BB5="x",Hoja1!$BB$2,IF(Hoja1!BC5="x",Hoja1!$BC$2,IF(Hoja1!BD5="x",Hoja1!$BD$2,""))))),"") -> B | AV5: =IF(E$62="SI",IF(Hoja1!AZ5="x",Hoja1!$AZ$2,IF(Hoja1!BA5="x",Hoja1!$BA$2,IF(Hoja1!BB5="x",Hoja1!$BB$2,IF(Hoja1!BC5="x",Hoja1!$BC$2,IF(Hoja1!BD5="x",Hoja1!$BD$2,""))))),"") -> B | AW5: =IF(E$83="SI",IF(Hoja1!AZ5="x",Hoja1!$AZ$2,IF(Hoja1!BA5="x",Hoja1!$BA$2,IF(Hoja1!BB5="x",Hoja1!$BB$2,IF(Hoja1!BC5="x",Hoja1!$BC$2,IF(Hoja1!BD5="x",Hoja1!$BD$2,""))))),"") -> B | AX5: =IF(E$84="SI",IF(Hoja1!AZ5="x",Hoja1!$AZ$2,IF(Hoja1!BA5="x",Hoja1!$BA$2,IF(Hoja1!BB5="x",Hoja1!$BB$2,IF(Hoja1!BC5="x",Hoja1!$BC$2,IF(Hoja1!BD5="x",Hoja1!$BD$2,""))))),"") -> B | AY5: =IF(E$86="SI",IF(Hoja1!AZ5="x",Hoja1!$AZ$2,IF(Hoja1!BA5="x",Hoja1!$BA$2,IF(Hoja1!BB5="x",Hoja1!$BB$2,IF(Hoja1!BC5="x",Hoja1!$BC$2,IF(Hoja1!BD5="x",Hoja1!$BD$2,""))))),"") -> B | AZ5: =IF(E$46="SI",IF(Hoja1!BE5="x",Hoja1!$BE$2,IF(Hoja1!BF5="x",Hoja1!$BF$2,IF(Hoja1!BG5="x",Hoja1!$BG$2,IF(Hoja1!BH5="x",Hoja1!$BH$2,IF(Hoja1!BI5="x",Hoja1!$BI$2,""))))),"") -> B | BA5: =IF(E$84="SI",IF(Hoja1!BE5="x",Hoja1!$BE$2,IF(Hoja1!BF5="x",Hoja1!$BF$2,IF(Hoja1!BG5="x",Hoja1!$BG$2,IF(Hoja1!BH5="x",Hoja1!$BH$2,IF(Hoja1!BI5="x",Hoja1!$BI$2,""))))),"") -> B | BB5: =IF(E$45="SI",IF(Hoja1!BJ5="x",Hoja1!$BJ$2,IF(Hoja1!BK5="x",Hoja1!$BK$2,IF(Hoja1!BL5="x",Hoja1!$BL$2,IF(Hoja1!BM5="x",Hoja1!$BM$2,IF(Hoja1!BN5="x",Hoja1!$BN$2,""))))),"") | BC5: =IF(E$56="SI",IF(Hoja1!BJ5="x",Hoja1!$BJ$2,IF(Hoja1!BK5="x",Hoja1!$BK$2,IF(Hoja1!BL5="x",Hoja1!$BL$2,IF(Hoja1!BM5="x",Hoja1!$BM$2,IF(Hoja1!BN5="x",Hoja1!$BN$2,""))))),"") | BD5: =IF(E$59="SI",IF(Hoja1!BJ5="x",Hoja1!$BJ$2,IF(Hoja1!BK5="x",Hoja1!$BK$2,IF(Hoja1!BL5="x",Hoja1!$BL$2,IF(Hoja1!BM5="x",Hoja1!$BM$2,IF(Hoja1!BN5="x",Hoja1!$BN$2,""))))),"") | BE5: =IF(E$62="SI",IF(Hoja1!BJ5="x",Hoja1!$BJ$2,IF(Hoja1!BK5="x",Hoja1!$BK$2,IF(Hoja1!BL5="x",Hoja1!$BL$2,IF(Hoja1!BM5="x",Hoja1!$BM$2,IF(Hoja1!BN5="x",Hoja1!$BN$2,""))))),"") | BF5: =IF(E$52="SI",IF(Hoja1!BJ5="x",Hoja1!$BJ$2,IF(Hoja1!BK5="x",Hoja1!$BK$2,IF(Hoja1!BL5="x",Hoja1!$BL$2,IF(Hoja1!BM5="x",Hoja1!$BM$2,IF(Hoja1!BN5="x",Hoja1!$BN$2,""))))),"") | BG5: =IF(E$75="SI",IF(Hoja1!BJ5="x",Hoja1!$BJ$2,IF(Hoja1!BK5="x",Hoja1!$BK$2,IF(Hoja1!BL5="x",Hoja1!$BL$2,IF(Hoja1!BM5="x",Hoja1!$BM$2,IF(Hoja1!BN5="x",Hoja1!$BN$2,""))))),"") | BH5: =IF(E$71="SI",IF(Hoja1!BO5="x",Hoja1!$BO$2,IF(Hoja1!BP5="x",Hoja1!$BP$2,IF(Hoja1!BQ5="x",Hoja1!$BQ$2,IF(Hoja1!BR5="x",Hoja1!$BR$2,IF(Hoja1!BS5="x",Hoja1!$BS$2,""))))),"") -> B | BI5: =IF(E$72="SI",IF(Hoja1!BO5="x",Hoja1!$BO$2,IF(Hoja1!BP5="x",Hoja1!$BP$2,IF(Hoja1!BQ5="x",Hoja1!$BQ$2,IF(Hoja1!BR5="x",Hoja1!$BR$2,IF(Hoja1!BS5="x",Hoja1!$BS$2,""))))),"") -> B | BJ5: =IF(E$58="SI",IF(Hoja1!BO5="x",Hoja1!$BO$2,IF(Hoja1!BP5="x",Hoja1!$BP$2,IF(Hoja1!BQ5="x",Hoja1!$BQ$2,IF(Hoja1!BR5="x",Hoja1!$BR$2,IF(Hoja1!BS5="x",Hoja1!$BS$2,""))))),"") -> B | BK5: =IF(E$67="SI",IF(Hoja1!BT5="x",Hoja1!$BT$2,IF(Hoja1!BU5="x",Hoja1!$BU$2,IF(Hoja1!BV5="x",Hoja1!$BV$2,IF(Hoja1!BW5="x",Hoja1!$BW$2,IF(Hoja1!BX5="x",Hoja1!$BX$2,""))))),"") -> B | BL5: =IF(E$68="SI",IF(Hoja1!BT5="x",Hoja1!$BT$2,IF(Hoja1!BU5="x",Hoja1!$BU$2,IF(Hoja1!BV5="x",Hoja1!$BV$2,IF(Hoja1!BW5="x",Hoja1!$BW$2,IF(Hoja1!BX5="x",Hoja1!$BX$2,""))))),"") -> B | BM5: =IF(E$90="SI",IF(Hoja1!BT5="x",Hoja1!$BT$2,IF(Hoja1!BU5="x",Hoja1!$BU$2,IF(Hoja1!BV5="x",Hoja1!$BV$2,IF(Hoja1!BW5="x",Hoja1!$BW$2,IF(Hoja1!BX5="x",Hoja1!$BX$2,""))))),"") -> B | BN5: =IF(E$91="SI",IF(Hoja1!BT5="x",Hoja1!$BT$2,IF(Hoja1!BU5="x",Hoja1!$BU$2,IF(Hoja1!BV5="x",Hoja1!$BV$2,IF(Hoja1!BW5="x",Hoja1!$BW$2,IF(Hoja1!BX5="x",Hoja1!$BX$2,""))))),"") -> B | BO5: =IF(E$92="SI",IF(Hoja1!BT5="x",Hoja1!$BT$2,IF(Hoja1!BU5="x",Hoja1!$BU$2,IF(Hoja1!BV5="x",Hoja1!$BV$2,IF(Hoja1!BW5="x",Hoja1!$BW$2,IF(Hoja1!BX5="x",Hoja1!$BX$2,""))))),"") -> B | BP5: =IF(E$67="SI",IF(Hoja1!BY5="x",Hoja1!$BY$2,IF(Hoja1!BZ5="x",Hoja1!$BZ$2,IF(Hoja1!CA5="x",Hoja1!$CA$2,IF(Hoja1!CB5="x",Hoja1!$CB$2,IF(Hoja1!CC5="x",Hoja1!$CC$2,""))))),"") -> B | BQ5: =IF(E$68="SI",IF(Hoja1!BY5="x",Hoja1!$BY$2,IF(Hoja1!BZ5="x",Hoja1!$BZ$2,IF(Hoja1!CA5="x",Hoja1!$CA$2,IF(Hoja1!CB5="x",Hoja1!$CB$2,IF(Hoja1!CC5="x",Hoja1!$CC$2,""))))),"") -> B | BR5: =IF(E$69="SI",IF(Hoja1!BY5="x",Hoja1!$BY$2,IF(Hoja1!BZ5="x",Hoja1!$BZ$2,IF(Hoja1!CA5="x",Hoja1!$CA$2,IF(Hoja1!CB5="x",Hoja1!$CB$2,IF(Hoja1!CC5="x",Hoja1!$CC$2,""))))),"") -> B | BS5: =IF(E$90="SI",IF(Hoja1!BY5="x",Hoja1!$BY$2,IF(Hoja1!BZ5="x",Hoja1!$BZ$2,IF(Hoja1!CA5="x",Hoja1!$CA$2,IF(Hoja1!CB5="x",Hoja1!$CB$2,IF(Hoja1!CC5="x",Hoja1!$CC$2,""))))),"") -> B | BT5: =IF(E$91="SI",IF(Hoja1!BY5="x",Hoja1!$BY$2,IF(Hoja1!BZ5="x",Hoja1!$BZ$2,IF(Hoja1!CA5="x",Hoja1!$CA$2,IF(Hoja1!CB5="x",Hoja1!$CB$2,IF(Hoja1!CC5="x",Hoja1!$CC$2,""))))),"") -> B | BU5: =IF(E$92="SI",IF(Hoja1!BY5="x",Hoja1!$BY$2,IF(Hoja1!BZ5="x",Hoja1!$BZ$2,IF(Hoja1!CA5="x",Hoja1!$CA$2,IF(Hoja1!CB5="x",Hoja1!$CB$2,IF(Hoja1!CC5="x",Hoja1!$CC$2,""))))),"") -> B | BV5: =IF(E$59="SI",IF(Hoja1!CD5="x",Hoja1!$CD$2,IF(Hoja1!CE5="x",Hoja1!$CE$2,IF(Hoja1!CF5="x",Hoja1!$CF$2,IF(Hoja1!CG5="x",Hoja1!$CG$2,IF(Hoja1!CH5="x",Hoja1!$CH$2,""))))),"") | BW5: =IF(E$67="SI",IF(Hoja1!CD5="x",Hoja1!$CD$2,IF(Hoja1!CE5="x",Hoja1!$CE$2,IF(Hoja1!CF5="x",Hoja1!$CF$2,IF(Hoja1!CG5="x",Hoja1!$CG$2,IF(Hoja1!CH5="x",Hoja1!$CH$2,""))))),"") | BX5: =IF(E$68="SI",IF(Hoja1!CD5="x",Hoja1!$CD$2,IF(Hoja1!CE5="x",Hoja1!$CE$2,IF(Hoja1!CF5="x",Hoja1!$CF$2,IF(Hoja1!CG5="x",Hoja1!$CG$2,IF(Hoja1!CH5="x",Hoja1!$CH$2,""))))),"") | BY5: =IF(E$69="SI",IF(Hoja1!CD5="x",Hoja1!$CD$2,IF(Hoja1!CE5="x",Hoja1!$CE$2,IF(Hoja1!CF5="x",Hoja1!$CF$2,IF(Hoja1!CG5="x",Hoja1!$CG$2,IF(Hoja1!CH5="x",Hoja1!$CH$2,""))))),"") | BZ5: =IF(E$90="SI",IF(Hoja1!CD5="x",Hoja1!$CD$2,IF(Hoja1!CE5="x",Hoja1!$CE$2,IF(Hoja1!CF5="x",Hoja1!$CF$2,IF(Hoja1!CG5="x",Hoja1!$CG$2,IF(Hoja1!CH5="x",Hoja1!$CH$2,""))))),"") | CA5: =IF(E$91="SI",IF(Hoja1!CD5="x",Hoja1!$CD$2,IF(Hoja1!CE5="x",Hoja1!$CE$2,IF(Hoja1!CF5="x",Hoja1!$CF$2,IF(Hoja1!CG5="x",Hoja1!$CG$2,IF(Hoja1!CH5="x",Hoja1!$CH$2,""))))),"") | CB5: =IF(E$92="SI",IF(Hoja1!CD5="x",Hoja1!$CD$2,IF(Hoja1!CE5="x",Hoja1!$CE$2,IF(Hoja1!CF5="x",Hoja1!$CF$2,IF(Hoja1!CG5="x",Hoja1!$CG$2,IF(Hoja1!CH5="x",Hoja1!$CH$2,""))))),"") | CC5: =IF(E$69="SI",IF(Hoja1!CD5="x",Hoja1!$CD$2,IF(Hoja1!CE5="x",Hoja1!$CE$2,IF(Hoja1!CF5="x",Hoja1!$CF$2,IF(Hoja1!CG5="x",Hoja1!$CG$2,IF(Hoja1!CH5="x",Hoja1!$CH$2,""))))),"") | CD5: =IF(E$90="SI",IF(Hoja1!CD5="x",Hoja1!$CD$2,IF(Hoja1!CE5="x",Hoja1!$CE$2,IF(Hoja1!CF5="x",Hoja1!$CF$2,IF(Hoja1!CG5="x",Hoja1!$CG$2,IF(Hoja1!CH5="x",Hoja1!$CH$2,""))))),"") | CE5: =IF(E$91="SI",IF(Hoja1!CD5="x",Hoja1!$CD$2,IF(Hoja1!CE5="x",Hoja1!$CE$2,IF(Hoja1!CF5="x",Hoja1!$CF$2,IF(Hoja1!CG5="x",Hoja1!$CG$2,IF(Hoja1!CH5="x",Hoja1!$CH$2,""))))),"") | CF5: =IF(E$92="SI",IF(Hoja1!CD5="x",Hoja1!$CD$2,IF(Hoja1!CE5="x",Hoja1!$CE$2,IF(Hoja1!CF5="x",Hoja1!$CF$2,IF(Hoja1!CG5="x",Hoja1!$CG$2,IF(Hoja1!CH5="x",Hoja1!$CH$2,""))))),"")
A6: 4 | B6: =IF(F62="SI",IF(Hoja1!B6="x",Hoja1!$B$2,IF(Hoja1!C6="x",Hoja1!$C$2,IF(Hoja1!D6="x",Hoja1!$D$2,IF(Hoja1!E6="x",Hoja1!$E$2,IF(Hoja1!F6="x",Hoja1!$F$2,""))))),"") | C6: =IF(F43="SI",IF(Hoja1!B6="x",Hoja1!$B$2,IF(Hoja1!C6="x",Hoja1!$C$2,IF(Hoja1!D6="x",Hoja1!$D$2,IF(Hoja1!E6="x",Hoja1!$E$2,IF(Hoja1!F6="x",Hoja1!$F$2,""))))),"") | D6: =IF(F44="SI",IF(Hoja1!B6="x",Hoja1!$B$2,IF(Hoja1!C6="x",Hoja1!$C$2,IF(Hoja1!D6="x",Hoja1!$D$2,IF(Hoja1!E6="x",Hoja1!$E$2,IF(Hoja1!F6="x",Hoja1!$F$2,""))))),"") | E6: =IF(F$82="SI",IF(Hoja1!B6="x",Hoja1!$B$2,IF(Hoja1!C6="x",Hoja1!$C$2,IF(Hoja1!D6="x",Hoja1!$D$2,IF(Hoja1!E6="x",Hoja1!$E$2,IF(Hoja1!F6="x",Hoja1!$F$2,""))))),"") | F6: =IF(F$84="SI",IF(Hoja1!B6="x",Hoja1!$B$2,IF(Hoja1!C6="x",Hoja1!$C$2,IF(Hoja1!D6="x",Hoja1!$D$2,IF(Hoja1!E6="x",Hoja1!$E$2,IF(Hoja1!F6="x",Hoja1!$F$2,""))))),"") | G6: =IF(F$70="SI",IF(Hoja1!B6="x",Hoja1!$B$2,IF(Hoja1!C6="x",Hoja1!$C$2,IF(Hoja1!D6="x",Hoja1!$D$2,IF(Hoja1!E6="x",Hoja1!$E$2,IF(Hoja1!F6="x",Hoja1!$F$2,""))))),"") | H6: =IF(F$82="SI",IF(Hoja1!G6="x",Hoja1!$G$2,IF(Hoja1!H6="x",Hoja1!$H$2,IF(Hoja1!I6="x",Hoja1!$I$2,IF(Hoja1!J6="x",Hoja1!$J$2,IF(Hoja1!K6="x",Hoja1!$K$2,""))))),"") | I6: =IF(F$85="SI",IF(Hoja1!G6="x",Hoja1!$G$2,IF(Hoja1!H6="x",Hoja1!$H$2,IF(Hoja1!I6="x",Hoja1!$I$2,IF(Hoja1!J6="x",Hoja1!$J$2,IF(Hoja1!K6="x",Hoja1!$K$2,""))))),"") | J6: =IF(F$86="SI",IF(Hoja1!G6="x",Hoja1!$G$2,IF(Hoja1!H6="x",Hoja1!$H$2,IF(Hoja1!I6="x",Hoja1!$I$2,IF(Hoja1!J6="x",Hoja1!$J$2,IF(Hoja1!K6="x",Hoja1!$K$2,""))))),"") | K6: =IF(F$87="SI",IF(Hoja1!G6="x",Hoja1!$G$2,IF(Hoja1!H6="x",Hoja1!$H$2,IF(Hoja1!I6="x",Hoja1!$I$2,IF(Hoja1!J6="x",Hoja1!$J$2,IF(Hoja1!K6="x",Hoja1!$K$2,""))))),"") | L6: =IF(F$64="SI",IF(Hoja1!G6="x",Hoja1!$G$2,IF(Hoja1!H6="x",Hoja1!$H$2,IF(Hoja1!I6="x",Hoja1!$I$2,IF(Hoja1!J6="x",Hoja1!$J$2,IF(Hoja1!K6="x",Hoja1!$K$2,""))))),"") | M6: =IF(F$73="SI",IF(Hoja1!G6="x",Hoja1!$G$2,IF(Hoja1!H6="x",Hoja1!$H$2,IF(Hoja1!I6="x",Hoja1!$I$2,IF(Hoja1!J6="x",Hoja1!$J$2,IF(Hoja1!K6="x",Hoja1!$K$2,""))))),"") | N6: =IF(F$74="SI",IF(Hoja1!G6="x",Hoja1!$G$2,IF(Hoja1!H6="x",Hoja1!$H$2,IF(Hoja1!I6="x",Hoja1!$I$2,IF(Hoja1!J6="x",Hoja1!$J$2,IF(Hoja1!K6="x",Hoja1!$K$2,""))))),"") | O6: =IF(F$60="SI",IF(Hoja1!L6="x",Hoja1!$L$2,IF(Hoja1!M6="x",Hoja1!$M$2,IF(Hoja1!N6="x",Hoja1!$N$2,IF(Hoja1!O6="x",Hoja1!$O$2,IF(Hoja1!P6="x",Hoja1!$P$2,""))))),"") -> O | P6: =IF(F$80="SI",IF(Hoja1!L6="x",Hoja1!$L$2,IF(Hoja1!M6="x",Hoja1!$M$2,IF(Hoja1!N6="x",Hoja1!$N$2,IF(Hoja1!O6="x",Hoja1!$O$2,IF(Hoja1!P6="x",Hoja1!$P$2,""))))),"") -> O | Q6: =IF(F$43="SI",IF(Hoja1!L6="x",Hoja1!$L$2,IF(Hoja1!M6="x",Hoja1!$M$2,IF(Hoja1!N6="x",Hoja1!$N$2,IF(Hoja1!O6="x",Hoja1!$O$2,IF(Hoja1!P6="x",Hoja1!$P$2,""))))),"") -> O | R6: =IF(F$82="SI",IF(Hoja1!L6="x",Hoja1!$L$2,IF(Hoja1!M6="x",Hoja1!$M$2,IF(Hoja1!N6="x",Hoja1!$N$2,IF(Hoja1!O6="x",Hoja1!$O$2,IF(Hoja1!P6="x",Hoja1!$P$2,""))))),"") -> O | S6: =IF(F$76="SI",IF(Hoja1!L6="x",Hoja1!$L$2,IF(Hoja1!M6="x",Hoja1!$M$2,IF(Hoja1!N6="x",Hoja1!$N$2,IF(Hoja1!O6="x",Hoja1!$O$2,IF(Hoja1!P6="x",Hoja1!$P$2,""))))),"") -> O | T6: =IF(F$77="SI",IF(Hoja1!L6="x",Hoja1!$L$2,IF(Hoja1!M6="x",Hoja1!$M$2,IF(Hoja1!N6="x",Hoja1!$N$2,IF(Hoja1!O6="x",Hoja1!$O$2,IF(Hoja1!P6="x",Hoja1!$P$2,""))))),"") -> O | U6: =IF(F$78="SI",IF(Hoja1!L6="x",Hoja1!$L$2,IF(Hoja1!M6="x",Hoja1!$M$2,IF(Hoja1!N6="x",Hoja1!$N$2,IF(Hoja1!O6="x",Hoja1!$O$2,IF(Hoja1!P6="x",Hoja1!$P$2,""))))),"") -> O | V6: =IF(F$60="SI",IF(Hoja1!Q6="x",Hoja1!$Q$2,IF(Hoja1!R6="x",Hoja1!$R$2,IF(Hoja1!S6="x",Hoja1!$S$2,IF(Hoja1!T6="x",Hoja1!$T$2,IF(Hoja1!U6="x",Hoja1!$U$2,""))))),"") -> O | W6: =IF(F$61="SI",IF(Hoja1!Q6="x",Hoja1!$Q$2,IF(Hoja1!R6="x",Hoja1!$R$2,IF(Hoja1!S6="x",Hoja1!$S$2,IF(Hoja1!T6="x",Hoja1!$T$2,IF(Hoja1!U6="x",Hoja1!$U$2,""))))),"") -> O | X6: =IF(F$62="SI",IF(Hoja1!Q6="x",Hoja1!$Q$2,IF(Hoja1!R6="x",Hoja1!$R$2,IF(Hoja1!S6="x",Hoja1!$S$2,IF(Hoja1!T6="x",Hoja1!$T$2,IF(Hoja1!U6="x",Hoja1!$U$2,""))))),"") -> O | Y6: =IF(F$79="SI",IF(Hoja1!Q6="x",Hoja1!$Q$2,IF(Hoja1!R6="x",Hoja1!$R$2,IF(Hoja1!S6="x",Hoja1!$S$2,IF(Hoja1!T6="x",Hoja1!$T$2,IF(Hoja1!U6="x",Hoja1!$U$2,""))))),"") -> O | Z6: =IF(F$81="SI",IF(Hoja1!Q6="x",Hoja1!$Q$2,IF(Hoja1!R6="x",Hoja1!$R$2,IF(Hoja1!S6="x",Hoja1!$S$2,IF(Hoja1!T6="x",Hoja1!$T$2,IF(Hoja1!U6="x",Hoja1!$U$2,""))))),"") -> O | AA6: =IF(F$63="SI",IF(Hoja1!Q6="x",Hoja1!$Q$2,IF(Hoja1!R6="x",Hoja1!$R$2,IF(Hoja1!S6="x",Hoja1!$S$2,IF(Hoja1!T6="x",Hoja1!$T$2,IF(Hoja1!U6="x",Hoja1!$U$2,""))))),"") -> O | AB6: =IF(F$64="SI",IF(Hoja1!Q6="x",Hoja1!$Q$2,IF(Hoja1!R6="x",Hoja1!$R$2,IF(Hoja1!S6="x",Hoja1!$S$2,IF(Hoja1!T6="x",Hoja1!$T$2,IF(Hoja1!U6="x",Hoja1!$U$2,""))))),"") -> O | AC6: =IF(F$65="SI",IF(Hoja1!Q6="x",Hoja1!$Q$2,IF(Hoja1!R6="x",Hoja1!$R$2,IF(Hoja1!S6="x",Hoja1!$S$2,IF(Hoja1!T6="x",Hoja1!$T$2,IF(Hoja1!U6="x",Hoja1!$U$2,""))))),"") -> O | AD6: =IF(F45="SI",IF(Hoja1!V6="x",Hoja1!$V$2,IF(Hoja1!W6="x",Hoja1!$W$2,IF(Hoja1!X6="x",Hoja1!$X$2,IF(Hoja1!Y6="x",Hoja1!$Y$2,IF(Hoja1!Z6="x",Hoja1!$Z$2,""))))),"") | AE6: =IF(F$53="SI",IF(Hoja1!V6="x",Hoja1!$V$2,IF(Hoja1!W6="x",Hoja1!$W$2,IF(Hoja1!X6="x",Hoja1!$X$2,IF(Hoja1!Y6="x",Hoja1!$Y$2,IF(Hoja1!Z6="x",Hoja1!$Z$2,""))))),"") | AF6: =IF(F$43="SI",IF(Hoja1!AA6="x",Hoja1!$AA$2,IF(Hoja1!AB6="x",Hoja1!$AB$2,IF(Hoja1!AC6="x",Hoja1!$AC$2,IF(Hoja1!AD6="x",Hoja1!$AD$2,IF(Hoja1!AE6="x",Hoja1!$AE$2,""))))),"") | AG6: =IF(F$54="SI",IF(Hoja1!AA6="x",Hoja1!$AA$2,IF(Hoja1!AB6="x",Hoja1!$AB$2,IF(Hoja1!AC6="x",Hoja1!$AC$2,IF(Hoja1!AD6="x",Hoja1!$AD$2,IF(Hoja1!AE6="x",Hoja1!$AE$2,""))))),"") | AH6: =IF(F$88="SI",IF(Hoja1!AF6="x",Hoja1!$AF$2,IF(Hoja1!AG6="x",Hoja1!$AG$2,IF(Hoja1!AH6="x",Hoja1!$AH$2,IF(Hoja1!AI6="x",Hoja1!$AI$2,IF(Hoja1!AJ6="x",Hoja1!$AJ$2,""))))),"") | AI6: =IF(F$48="SI",IF(Hoja1!AF6="x",Hoja1!$AF$2,IF(Hoja1!AG6="x",Hoja1!$AG$2,IF(Hoja1!AH6="x",Hoja1!$AH$2,IF(Hoja1!AI6="x",Hoja1!$AI$2,IF(Hoja1!AJ6="x",Hoja1!$AJ$2,""))))),"") | AJ6: =IF(F$51="SI",IF(Hoja1!AF6="x",Hoja1!$AF$2,IF(Hoja1!AG6="x",Hoja1!$AG$2,IF(Hoja1!AH6="x",Hoja1!$AH$2,IF(Hoja1!AI6="x",Hoja1!$AI$2,IF(Hoja1!AJ6="x",Hoja1!$AJ$2,""))))),"") | AK6: =IF(F$88="SI",IF(Hoja1!AK6="x",Hoja1!$AK$2,IF(Hoja1!AL6="x",Hoja1!$AL$2,IF(Hoja1!AM6="x",Hoja1!$AM$2,IF(Hoja1!AN6="x",Hoja1!$AN$2,IF(Hoja1!AO6="x",Hoja1!$AO$2,""))))),"") | AL6: =IF(F$48="SI",IF(Hoja1!AK6="x",Hoja1!$AK$2,IF(Hoja1!AL6="x",Hoja1!$AL$2,IF(Hoja1!AM6="x",Hoja1!$AM$2,IF(Hoja1!AN6="x",Hoja1!$AN$2,IF(Hoja1!AO6="x",Hoja1!$AO$2,""))))),"") | AM6: =IF(F$49="SI",IF(Hoja1!AK6="x",Hoja1!$AK$2,IF(Hoja1!AL6="x",Hoja1!$AL$2,IF(Hoja1!AM6="x",Hoja1!$AM$2,IF(Hoja1!AN6="x",Hoja1!$AN$2,IF(Hoja1!AO6="x",Hoja1!$AO$2,""))))),"") | AN6: =IF(F$50="SI",IF(Hoja1!AK6="x",Hoja1!$AK$2,IF(Hoja1!AL6="x",Hoja1!$AL$2,IF(Hoja1!AM6="x",Hoja1!$AM$2,IF(Hoja1!AN6="x",Hoja1!$AN$2,IF(Hoja1!AO6="x",Hoja1!$AO$2,""))))),"") | AO6: =IF(F$59="SI",IF(Hoja1!AP6="x",Hoja1!$AP$2,IF(Hoja1!AQ6="x",Hoja1!$AQ$2,IF(Hoja1!AR6="x",Hoja1!$AR$2,IF(Hoja1!AS6="x",Hoja1!$AS$2,IF(Hoja1!AT6="x",Hoja1!$AT$2,""))))),"") | AP6: =IF(F$80="SI",IF(Hoja1!AP6="x",Hoja1!$AP$2,IF(Hoja1!AQ6="x",Hoja1!$AQ$2,IF(Hoja1!AR6="x",Hoja1!$AR$2,IF(Hoja1!AS6="x",Hoja1!$AS$2,IF(Hoja1!AT6="x",Hoja1!$AT$2,""))))),"") | AQ6: =IF(F$89="SI",IF(Hoja1!AP6="x",Hoja1!$AP$2,IF(Hoja1!AQ6="x",Hoja1!$AQ$2,IF(Hoja1!AR6="x",Hoja1!$AR$2,IF(Hoja1!AS6="x",Hoja1!$AS$2,IF(Hoja1!AT6="x",Hoja1!$AT$2,""))))),"") | AR6: =IF(F$83="SI",IF(Hoja1!AU6="x",Hoja1!$AU$2,IF(Hoja1!AV6="x",Hoja1!$AV$2,IF(Hoja1!AW6="x",Hoja1!$AW$2,IF(Hoja1!AX6="x",Hoja1!$AX$2,IF(Hoja1!AY6="x",Hoja1!$AY$2,""))))),"") | AS6: =IF(F$55="SI",IF(Hoja1!AU6="x",Hoja1!$AU$2,IF(Hoja1!AV6="x",Hoja1!$AV$2,IF(Hoja1!AW6="x",Hoja1!$AW$2,IF(Hoja1!AX6="x",Hoja1!$AX$2,IF(Hoja1!AY6="x",Hoja1!$AY$2,""))))),"") | AT6: =IF(F$57="SI",IF(Hoja1!AU6="x",Hoja1!$AU$2,IF(Hoja1!AV6="x",Hoja1!$AV$2,IF(Hoja1!AW6="x",Hoja1!$AW$2,IF(Hoja1!AX6="x",Hoja1!$AX$2,IF(Hoja1!AY6="x",Hoja1!$AY$2,""))))),"") | AU6: =IF(F$47="SI",IF(Hoja1!AZ6="x",Hoja1!$AZ$2,IF(Hoja1!BA6="x",Hoja1!$BA$2,IF(Hoja1!BB6="x",Hoja1!$BB$2,IF(Hoja1!BC6="x",Hoja1!$BC$2,IF(Hoja1!BD6="x",Hoja1!$BD$2,""))))),"") -> B | AV6: =IF(F$62="SI",IF(Hoja1!AZ6="x",Hoja1!$AZ$2,IF(Hoja1!BA6="x",Hoja1!$BA$2,IF(Hoja1!BB6="x",Hoja1!$BB$2,IF(Hoja1!BC6="x",Hoja1!$BC$2,IF(Hoja1!BD6="x",Hoja1!$BD$2,""))))),"") -> B | AW6: =IF(F$83="SI",IF(Hoja1!AZ6="x",Hoja1!$AZ$2,IF(Hoja1!BA6="x",Hoja1!$BA$2,IF(Hoja1!BB6="x",Hoja1!$BB$2,IF(Hoja1!BC6="x",Hoja1!$BC$2,IF(Hoja1!BD6="x",Hoja1!$BD$2,""))))),"") -> B | AX6: =IF(F$84="SI",IF(Hoja1!AZ6="x",Hoja1!$AZ$2,IF(Hoja1!BA6="x",Hoja1!$BA$2,IF(Hoja1!BB6="x",Hoja1!$BB$2,IF(Hoja1!BC6="x",Hoja1!$BC$2,IF(Hoja1!BD6="x",Hoja1!$BD$2,""))))),"") -> B | AY6: =IF(F$86="SI",IF(Hoja1!AZ6="x",Hoja1!$AZ$2,IF(Hoja1!BA6="x",Hoja1!$BA$2,IF(Hoja1!BB6="x",Hoja1!$BB$2,IF(Hoja1!BC6="x",Hoja1!$BC$2,IF(Hoja1!BD6="x",Hoja1!$BD$2,""))))),"") -> B | AZ6: =IF(F$46="SI",IF(Hoja1!BE6="x",Hoja1!$BE$2,IF(Hoja1!BF6="x",Hoja1!$BF$2,IF(Hoja1!BG6="x",Hoja1!$BG$2,IF(Hoja1!BH6="x",Hoja1!$BH$2,IF(Hoja1!BI6="x",Hoja1!$BI$2,""))))),"") -> O | BA6: =IF(F$84="SI",IF(Hoja1!BE6="x",Hoja1!$BE$2,IF(Hoja1!BF6="x",Hoja1!$BF$2,IF(Hoja1!BG6="x",Hoja1!$BG$2,IF(Hoja1!BH6="x",Hoja1!$BH$2,IF(Hoja1!BI6="x",Hoja1!$BI$2,""))))),"") -> O | BB6: =IF(F$45="SI",IF(Hoja1!BJ6="x",Hoja1!$BJ$2,IF(Hoja1!BK6="x",Hoja1!$BK$2,IF(Hoja1!BL6="x",Hoja1!$BL$2,IF(Hoja1!BM6="x",Hoja1!$BM$2,IF(Hoja1!BN6="x",Hoja1!$BN$2,""))))),"") | BC6: =IF(F$56="SI",IF(Hoja1!BJ6="x",Hoja1!$BJ$2,IF(Hoja1!BK6="x",Hoja1!$BK$2,IF(Hoja1!BL6="x",Hoja1!$BL$2,IF(Hoja1!BM6="x",Hoja1!$BM$2,IF(Hoja1!BN6="x",Hoja1!$BN$2,""))))),"") | BD6: =IF(F$59="SI",IF(Hoja1!BJ6="x",Hoja1!$BJ$2,IF(Hoja1!BK6="x",Hoja1!$BK$2,IF(Hoja1!BL6="x",Hoja1!$BL$2,IF(Hoja1!BM6="x",Hoja1!$BM$2,IF(Hoja1!BN6="x",Hoja1!$BN$2,""))))),"") | BE6: =IF(F$62="SI",IF(Hoja1!BJ6="x",Hoja1!$BJ$2,IF(Hoja1!BK6="x",Hoja1!$BK$2,IF(Hoja1!BL6="x",Hoja1!$BL$2,IF(Hoja1!BM6="x",Hoja1!$BM$2,IF(Hoja1!BN6="x",Hoja1!$BN$2,""))))),"") | BF6: =IF(F$52="SI",IF(Hoja1!BJ6="x",Hoja1!$BJ$2,IF(Hoja1!BK6="x",Hoja1!$BK$2,IF(Hoja1!BL6="x",Hoja1!$BL$2,IF(Hoja1!BM6="x",Hoja1!$BM$2,IF(Hoja1!BN6="x",Hoja1!$BN$2,""))))),"") | BG6: =IF(F$75="SI",IF(Hoja1!BJ6="x",Hoja1!$BJ$2,IF(Hoja1!BK6="x",Hoja1!$BK$2,IF(Hoja1!BL6="x",Hoja1!$BL$2,IF(Hoja1!BM6="x",Hoja1!$BM$2,IF(Hoja1!BN6="x",Hoja1!$BN$2,""))))),"") | BH6: =IF(F$71="SI",IF(Hoja1!BO6="x",Hoja1!$BO$2,IF(Hoja1!BP6="x",Hoja1!$BP$2,IF(Hoja1!BQ6="x",Hoja1!$BQ$2,IF(Hoja1!BR6="x",Hoja1!$BR$2,IF(Hoja1!BS6="x",Hoja1!$BS$2,""))))),"") | BI6: =IF(F$72="SI",IF(Hoja1!BO6="x",Hoja1!$BO$2,IF(Hoja1!BP6="x",Hoja1!$BP$2,IF(Hoja1!BQ6="x",Hoja1!$BQ$2,IF(Hoja1!BR6="x",Hoja1!$BR$2,IF(Hoja1!BS6="x",Hoja1!$BS$2,""))))),"") | BJ6: =IF(F$58="SI",IF(Hoja1!BO6="x",Hoja1!$BO$2,IF(Hoja1!BP6="x",Hoja1!$BP$2,IF(Hoja1!BQ6="x",Hoja1!$BQ$2,IF(Hoja1!BR6="x",Hoja1!$BR$2,IF(Hoja1!BS6="x",Hoja1!$BS$2,""))))),"") | BK6: =IF(F$67="SI",IF(Hoja1!BT6="x",Hoja1!$BT$2,IF(Hoja1!BU6="x",Hoja1!$BU$2,IF(Hoja1!BV6="x",Hoja1!$BV$2,IF(Hoja1!BW6="x",Hoja1!$BW$2,IF(Hoja1!BX6="x",Hoja1!$BX$2,""))))),"") | BL6: =IF(F$68="SI",IF(Hoja1!BT6="x",Hoja1!$BT$2,IF(Hoja1!BU6="x",Hoja1!$BU$2,IF(Hoja1!BV6="x",Hoja1!$BV$2,IF(Hoja1!BW6="x",Hoja1!$BW$2,IF(Hoja1!BX6="x",Hoja1!$BX$2,""))))),"") | BM6: =IF(F$90="SI",IF(Hoja1!BT6="x",Hoja1!$BT$2,IF(Hoja1!BU6="x",Hoja1!$BU$2,IF(Hoja1!BV6="x",Hoja1!$BV$2,IF(Hoja1!BW6="x",Hoja1!$BW$2,IF(Hoja1!BX6="x",Hoja1!$BX$2,""))))),"") | BN6: =IF(F$91="SI",IF(Hoja1!BT6="x",Hoja1!$BT$2,IF(Hoja1!BU6="x",Hoja1!$BU$2,IF(Hoja1!BV6="x",Hoja1!$BV$2,IF(Hoja1!BW6="x",Hoja1!$BW$2,IF(Hoja1!BX6="x",Hoja1!$BX$2,""))))),"") | BO6: =IF(F$92="SI",IF(Hoja1!BT6="x",Hoja1!$BT$2,IF(Hoja1!BU6="x",Hoja1!$BU$2,IF(Hoja1!BV6="x",Hoja1!$BV$2,IF(Hoja1!BW6="x",Hoja1!$BW$2,IF(Hoja1!BX6="x",Hoja1!$BX$2,""))))),"") | BP6: =IF(F$67="SI",IF(Hoja1!BY6="x",Hoja1!$BY$2,IF(Hoja1!BZ6="x",Hoja1!$BZ$2,IF(Hoja1!CA6="x",Hoja1!$CA$2,IF(Hoja1!CB6="x",Hoja1!$CB$2,IF(Hoja1!CC6="x",Hoja1!$CC$2,""))))),"") | BQ6: =IF(F$68="SI",IF(Hoja1!BY6="x",Hoja1!$BY$2,IF(Hoja1!BZ6="x",Hoja1!$BZ$2,IF(Hoja1!CA6="x",Hoja1!$CA$2,IF(Hoja1!CB6="x",Hoja1!$CB$2,IF(Hoja1!CC6="x",Hoja1!$CC$2,""))))),"") | BR6: =IF(F$69="SI",IF(Hoja1!BY6="x",Hoja1!$BY$2,IF(Hoja1!BZ6="x",Hoja1!$BZ$2,IF(Hoja1!CA6="x",Hoja1!$CA$2,IF(Hoja1!CB6="x",Hoja1!$CB$2,IF(Hoja1!CC6="x",Hoja1!$CC$2,""))))),"") | BS6: =IF(F$90="SI",IF(Hoja1!BY6="x",Hoja1!$BY$2,IF(Hoja1!BZ6="x",Hoja1!$BZ$2,IF(Hoja1!CA6="x",Hoja1!$CA$2,IF(Hoja1!CB6="x",Hoja1!$CB$2,IF(Hoja1!CC6="x",Hoja1!$CC$2,""))))),"") | BT6: =IF(F$91="SI",IF(Hoja1!BY6="x",Hoja1!$BY$2,IF(Hoja1!BZ6="x",Hoja1!$BZ$2,IF(Hoja1!CA6="x",Hoja1!$CA$2,IF(Hoja1!CB6="x",Hoja1!$CB$2,IF(Hoja1!CC6="x",Hoja1!$CC$2,""))))),"") | BU6: =IF(F$92="SI",IF(Hoja1!BY6="x",Hoja1!$BY$2,IF(Hoja1!BZ6="x",Hoja1!$BZ$2,IF(Hoja1!CA6="x",Hoja1!$CA$2,IF(Hoja1!CB6="x",Hoja1!$CB$2,IF(Hoja1!CC6="x",Hoja1!$CC$2,""))))),"") | BV6: =IF(F$59="SI",IF(Hoja1!CD6="x",Hoja1!$CD$2,IF(Hoja1!CE6="x",Hoja1!$CE$2,IF(Hoja1!CF6="x",Hoja1!$CF$2,IF(Hoja1!CG6="x",Hoja1!$CG$2,IF(Hoja1!CH6="x",Hoja1!$CH$2,""))))),"") | BW6: =IF(F$67="SI",IF(Hoja1!CD6="x",Hoja1!$CD$2,IF(Hoja1!CE6="x",Hoja1!$CE$2,IF(Hoja1!CF6="x",Hoja1!$CF$2,IF(Hoja1!CG6="x",Hoja1!$CG$2,IF(Hoja1!CH6="x",Hoja1!$CH$2,""))))),"") | BX6: =IF(F$68="SI",IF(Hoja1!CD6="x",Hoja1!$CD$2,IF(Hoja1!CE6="x",Hoja1!$CE$2,IF(Hoja1!CF6="x",Hoja1!$CF$2,IF(Hoja1!CG6="x",Hoja1!$CG$2,IF(Hoja1!CH6="x",Hoja1!$CH$2,""))))),"") | BY6: =IF(F$69="SI",IF(Hoja1!CD6="x",Hoja1!$CD$2,IF(Hoja1!CE6="x",Hoja1!$CE$2,IF(Hoja1!CF6="x",Hoja1!$CF$2,IF(Hoja1!CG6="x",Hoja1!$CG$2,IF(Hoja1!CH6="x",Hoja1!$CH$2,""))))),"") | BZ6: =IF(F$90="SI",IF(Hoja1!CD6="x",Hoja1!$CD$2,IF(Hoja1!CE6="x",Hoja1!$CE$2,IF(Hoja1!CF6="x",Hoja1!$CF$2,IF(Hoja1!CG6="x",Hoja1!$CG$2,IF(Hoja1!CH6="x",Hoja1!$CH$2,""))))),"") | CA6: =IF(F$91="SI",IF(Hoja1!CD6="x",Hoja1!$CD$2,IF(Hoja1!CE6="x",Hoja1!$CE$2,IF(Hoja1!CF6="x",Hoja1!$CF$2,IF(Hoja1!CG6="x",Hoja1!$CG$2,IF(Hoja1!CH6="x",Hoja1!$CH$2,""))))),"") | CB6: =IF(F$92="SI",IF(Hoja1!CD6="x",Hoja1!$CD$2,IF(Hoja1!CE6="x",Hoja1!$CE$2,IF(Hoja1!CF6="x",Hoja1!$CF$2,IF(Hoja1!CG6="x",Hoja1!$CG$2,IF(Hoja1!CH6="x",Hoja1!$CH$2,""))))),"") | CC6: =IF(F$69="SI",IF(Hoja1!CD6="x",Hoja1!$CD$2,IF(Hoja1!CE6="x",Hoja1!$CE$2,IF(Hoja1!CF6="x",Hoja1!$CF$2,IF(Hoja1!CG6="x",Hoja1!$CG$2,IF(Hoja1!CH6="x",Hoja1!$CH$2,""))))),"") | CD6: =IF(F$90="SI",IF(Hoja1!CD6="x",Hoja1!$CD$2,IF(Hoja1!CE6="x",Hoja1!$CE$2,IF(Hoja1!CF6="x",Hoja1!$CF$2,IF(Hoja1!CG6="x",Hoja1!$CG$2,IF(Hoja1!CH6="x",Hoja1!$CH$2,""))))),"") | CE6: =IF(F$91="SI",IF(Hoja1!CD6="x",Hoja1!$CD$2,IF(Hoja1!CE6="x",Hoja1!$CE$2,IF(Hoja1!CF6="x",Hoja1!$CF$2,IF(Hoja1!CG6="x",Hoja1!$CG$2,IF(Hoja1!CH6="x",Hoja1!$CH$2,""))))),"") | CF6: =IF(F$92="SI",IF(Hoja1!CD6="x",Hoja1!$CD$2,IF(Hoja1!CE6="x",Hoja1!$CE$2,IF(Hoja1!CF6="x",Hoja1!$CF$2,IF(Hoja1!CG6="x",Hoja1!$CG$2,IF(Hoja1!CH6="x",Hoja1!$CH$2,""))))),"")
A7: 5 | B7: =IF(G62="SI",IF(Hoja1!B7="x",Hoja1!$B$2,IF(Hoja1!C7="x",Hoja1!$C$2,IF(Hoja1!D7="x",Hoja1!$D$2,IF(Hoja1!E7="x",Hoja1!$E$2,IF(Hoja1!F7="x",Hoja1!$F$2,""))))),"") | C7: =IF(G43="SI",IF(Hoja1!B7="x",Hoja1!$B$2,IF(Hoja1!C7="x",Hoja1!$C$2,IF(Hoja1!D7="x",Hoja1!$D$2,IF(Hoja1!E7="x",Hoja1!$E$2,IF(Hoja1!F7="x",Hoja1!$F$2,""))))),"") | D7: =IF(G44="SI",IF(Hoja1!B7="x",Hoja1!$B$2,IF(Hoja1!C7="x",Hoja1!$C$2,IF(Hoja1!D7="x",Hoja1!$D$2,IF(Hoja1!E7="x",Hoja1!$E$2,IF(Hoja1!F7="x",Hoja1!$F$2,""))))),"") | E7: =IF(G$82="SI",IF(Hoja1!B7="x",Hoja1!$B$2,IF(Hoja1!C7="x",Hoja1!$C$2,IF(Hoja1!D7="x",Hoja1!$D$2,IF(Hoja1!E7="x",Hoja1!$E$2,IF(Hoja1!F7="x",Hoja1!$F$2,""))))),"") | F7: =IF(G$84="SI",IF(Hoja1!B7="x",Hoja1!$B$2,IF(Hoja1!C7="x",Hoja1!$C$2,IF(Hoja1!D7="x",Hoja1!$D$2,IF(Hoja1!E7="x",Hoja1!$E$2,IF(Hoja1!F7="x",Hoja1!$F$2,""))))),"") | G7: =IF(G$70="SI",IF(Hoja1!B7="x",Hoja1!$B$2,IF(Hoja1!C7="x",Hoja1!$C$2,IF(Hoja1!D7="x",Hoja1!$D$2,IF(Hoja1!E7="x",Hoja1!$E$2,IF(Hoja1!F7="x",Hoja1!$F$2,""))))),"") | H7: =IF(G$82="SI",IF(Hoja1!G7="x",Hoja1!$G$2,IF(Hoja1!H7="x",Hoja1!$H$2,IF(Hoja1!I7="x",Hoja1!$I$2,IF(Hoja1!J7="x",Hoja1!$J$2,IF(Hoja1!K7="x",Hoja1!$K$2,""))))),"") -> B | I7: =IF(G$85="SI",IF(Hoja1!G7="x",Hoja1!$G$2,IF(Hoja1!H7="x",Hoja1!$H$2,IF(Hoja1!I7="x",Hoja1!$I$2,IF(Hoja1!J7="x",Hoja1!$J$2,IF(Hoja1!K7="x",Hoja1!$K$2,""))))),"") -> B | J7: =IF(G$86="SI",IF(Hoja1!G7="x",Hoja1!$G$2,IF(Hoja1!H7="x",Hoja1!$H$2,IF(Hoja1!I7="x",Hoja1!$I$2,IF(Hoja1!J7="x",Hoja1!$J$2,IF(Hoja1!K7="x",Hoja1!$K$2,""))))),"") -> B | K7: =IF(G$87="SI",IF(Hoja1!G7="x",Hoja1!$G$2,IF(Hoja1!H7="x",Hoja1!$H$2,IF(Hoja1!I7="x",Hoja1!$I$2,IF(Hoja1!J7="x",Hoja1!$J$2,IF(Hoja1!K7="x",Hoja1!$K$2,""))))),"") -> B | L7: =IF(G$64="SI",IF(Hoja1!G7="x",Hoja1!$G$2,IF(Hoja1!H7="x",Hoja1!$H$2,IF(Hoja1!I7="x",Hoja1!$I$2,IF(Hoja1!J7="x",Hoja1!$J$2,IF(Hoja1!K7="x",Hoja1!$K$2,""))))),"") -> B | M7: =IF(G$73="SI",IF(Hoja1!G7="x",Hoja1!$G$2,IF(Hoja1!H7="x",Hoja1!$H$2,IF(Hoja1!I7="x",Hoja1!$I$2,IF(Hoja1!J7="x",Hoja1!$J$2,IF(Hoja1!K7="x",Hoja1!$K$2,""))))),"") -> B | N7: =IF(G$74="SI",IF(Hoja1!G7="x",Hoja1!$G$2,IF(Hoja1!H7="x",Hoja1!$H$2,IF(Hoja1!I7="x",Hoja1!$I$2,IF(Hoja1!J7="x",Hoja1!$J$2,IF(Hoja1!K7="x",Hoja1!$K$2,""))))),"") -> B | O7: =IF(G$60="SI",IF(Hoja1!L7="x",Hoja1!$L$2,IF(Hoja1!M7="x",Hoja1!$M$2,IF(Hoja1!N7="x",Hoja1!$N$2,IF(Hoja1!O7="x",Hoja1!$O$2,IF(Hoja1!P7="x",Hoja1!$P$2,""))))),"") -> O | P7: =IF(G$80="SI",IF(Hoja1!L7="x",Hoja1!$L$2,IF(Hoja1!M7="x",Hoja1!$M$2,IF(Hoja1!N7="x",Hoja1!$N$2,IF(Hoja1!O7="x",Hoja1!$O$2,IF(Hoja1!P7="x",Hoja1!$P$2,""))))),"") -> O | Q7: =IF(G$43="SI",IF(Hoja1!L7="x",Hoja1!$L$2,IF(Hoja1!M7="x",Hoja1!$M$2,IF(Hoja1!N7="x",Hoja1!$N$2,IF(Hoja1!O7="x",Hoja1!$O$2,IF(Hoja1!P7="x",Hoja1!$P$2,""))))),"") -> O | R7: =IF(G$82="SI",IF(Hoja1!L7="x",Hoja1!$L$2,IF(Hoja1!M7="x",Hoja1!$M$2,IF(Hoja1!N7="x",Hoja1!$N$2,IF(Hoja1!O7="x",Hoja1!$O$2,IF(Hoja1!P7="x",Hoja1!$P$2,""))))),"") -> O | S7: =IF(G$76="SI",IF(Hoja1!L7="x",Hoja1!$L$2,IF(Hoja1!M7="x",Hoja1!$M$2,IF(Hoja1!N7="x",Hoja1!$N$2,IF(Hoja1!O7="x",Hoja1!$O$2,IF(Hoja1!P7="x",Hoja1!$P$2,""))))),"") -> O | T7: =IF(G$77="SI",IF(Hoja1!L7="x",Hoja1!$L$2,IF(Hoja1!M7="x",Hoja1!$M$2,IF(Hoja1!N7="x",Hoja1!$N$2,IF(Hoja1!O7="x",Hoja1!$O$2,IF(Hoja1!P7="x",Hoja1!$P$2,""))))),"") -> O | U7: =IF(G$78="SI",IF(Hoja1!L7="x",Hoja1!$L$2,IF(Hoja1!M7="x",Hoja1!$M$2,IF(Hoja1!N7="x",Hoja1!$N$2,IF(Hoja1!O7="x",Hoja1!$O$2,IF(Hoja1!P7="x",Hoja1!$P$2,""))))),"") -> O | V7: =IF(G$60="SI",IF(Hoja1!Q7="x",Hoja1!$Q$2,IF(Hoja1!R7="x",Hoja1!$R$2,IF(Hoja1!S7="x",Hoja1!$S$2,IF(Hoja1!T7="x",Hoja1!$T$2,IF(Hoja1!U7="x",Hoja1!$U$2,""))))),"") -> O | W7: =IF(G$61="SI",IF(Hoja1!Q7="x",Hoja1!$Q$2,IF(Hoja1!R7="x",Hoja1!$R$2,IF(Hoja1!S7="x",Hoja1!$S$2,IF(Hoja1!T7="x",Hoja1!$T$2,IF(Hoja1!U7="x",Hoja1!$U$2,""))))),"") -> O | X7: =IF(G$62="SI",IF(Hoja1!Q7="x",Hoja1!$Q$2,IF(Hoja1!R7="x",Hoja1!$R$2,IF(Hoja1!S7="x",Hoja1!$S$2,IF(Hoja1!T7="x",Hoja1!$T$2,IF(Hoja1!U7="x",Hoja1!$U$2,""))))),"") -> O | Y7: =IF(G$79="SI",IF(Hoja1!Q7="x",Hoja1!$Q$2,IF(Hoja1!R7="x",Hoja1!$R$2,IF(Hoja1!S7="x",Hoja1!$S$2,IF(Hoja1!T7="x",Hoja1!$T$2,IF(Hoja1!U7="x",Hoja1!$U$2,""))))),"") -> O | Z7: =IF(G$81="SI",IF(Hoja1!Q7="x",Hoja1!$Q$2,IF(Hoja1!R7="x",Hoja1!$R$2,IF(Hoja1!S7="x",Hoja1!$S$2,IF(Hoja1!T7="x",Hoja1!$T$2,IF(Hoja1!U7="x",Hoja1!$U$2,""))))),"") -> O | AA7: =IF(G$63="SI",IF(Hoja1!Q7="x",Hoja1!$Q$2,IF(Hoja1!R7="x",Hoja1!$R$2,IF(Hoja1!S7="x",Hoja1!$S$2,IF(Hoja1!T7="x",Hoja1!$T$2,IF(Hoja1!U7="x",Hoja1!$U$2,""))))),"") -> O | AB7: =IF(G$64="SI",IF(Hoja1!Q7="x",Hoja1!$Q$2,IF(Hoja1!R7="x",Hoja1!$R$2,IF(Hoja1!S7="x",Hoja1!$S$2,IF(Hoja1!T7="x",Hoja1!$T$2,IF(Hoja1!U7="x",Hoja1!$U$2,""))))),"") -> O | AC7: =IF(G$65="SI",IF(Hoja1!Q7="x",Hoja1!$Q$2,IF(Hoja1!R7="x",Hoja1!$R$2,IF(Hoja1!S7="x",Hoja1!$S$2,IF(Hoja1!T7="x",Hoja1!$T$2,IF(Hoja1!U7="x",Hoja1!$U$2,""))))),"") -> O | AD7: =IF(G45="SI",IF(Hoja1!V7="x",Hoja1!$V$2,IF(Hoja1!W7="x",Hoja1!$W$2,IF(Hoja1!X7="x",Hoja1!$X$2,IF(Hoja1!Y7="x",Hoja1!$Y$2,IF(Hoja1!Z7="x",Hoja1!$Z$2,""))))),"") | AE7: =IF(G$53="SI",IF(Hoja1!V7="x",Hoja1!$V$2,IF(Hoja1!W7="x",Hoja1!$W$2,IF(Hoja1!X7="x",Hoja1!$X$2,IF(Hoja1!Y7="x",Hoja1!$Y$2,IF(Hoja1!Z7="x",Hoja1!$Z$2,""))))),"") | AF7: =IF(G$43="SI",IF(Hoja1!AA7="x",Hoja1!$AA$2,IF(Hoja1!AB7="x",Hoja1!$AB$2,IF(Hoja1!AC7="x",Hoja1!$AC$2,IF(Hoja1!AD7="x",Hoja1!$AD$2,IF(Hoja1!AE7="x",Hoja1!$AE$2,""))))),"") | AG7: =IF(G$54="SI",IF(Hoja1!AA7="x",Hoja1!$AA$2,IF(Hoja1!AB7="x",Hoja1!$AB$2,IF(Hoja1!AC7="x",Hoja1!$AC$2,IF(Hoja1!AD7="x",Hoja1!$AD$2,IF(Hoja1!AE7="x",Hoja1!$AE$2,""))))),"") | AH7: =IF(G$88="SI",IF(Hoja1!AF7="x",Hoja1!$AF$2,IF(Hoja1!AG7="x",Hoja1!$AG$2,IF(Hoja1!AH7="x",Hoja1!$AH$2,IF(Hoja1!AI7="x",Hoja1!$AI$2,IF(Hoja1!AJ7="x",Hoja1!$AJ$2,""))))),"") | AI7: =IF(G$48="SI",IF(Hoja1!AF7="x",Hoja1!$AF$2,IF(Hoja1!AG7="x",Hoja1!$AG$2,IF(Hoja1!AH7="x",Hoja1!$AH$2,IF(Hoja1!AI7="x",Hoja1!$AI$2,IF(Hoja1!AJ7="x",Hoja1!$AJ$2,""))))),"") | AJ7: =IF(G$51="SI",IF(Hoja1!AF7="x",Hoja1!$AF$2,IF(Hoja1!AG7="x",Hoja1!$AG$2,IF(Hoja1!AH7="x",Hoja1!$AH$2,IF(Hoja1!AI7="x",Hoja1!$AI$2,IF(Hoja1!AJ7="x",Hoja1!$AJ$2,""))))),"") | AK7: =IF(G$88="SI",IF(Hoja1!AK7="x",Hoja1!$AK$2,IF(Hoja1!AL7="x",Hoja1!$AL$2,IF(Hoja1!AM7="x",Hoja1!$AM$2,IF(Hoja1!AN7="x",Hoja1!$AN$2,IF(Hoja1!AO7="x",Hoja1!$AO$2,""))))),"") | AL7: =IF(G$48="SI",IF(Hoja1!AK7="x",Hoja1!$AK$2,IF(Hoja1!AL7="x",Hoja1!$AL$2,IF(Hoja1!AM7="x",Hoja1!$AM$2,IF(Hoja1!AN7="x",Hoja1!$AN$2,IF(Hoja1!AO7="x",Hoja1!$AO$2,""))))),"") | AM7: =IF(G$49="SI",IF(Hoja1!AK7="x",Hoja1!$AK$2,IF(Hoja1!AL7="x",Hoja1!$AL$2,IF(Hoja1!AM7="x",Hoja1!$AM$2,IF(Hoja1!AN7="x",Hoja1!$AN$2,IF(Hoja1!AO7="x",Hoja1!$AO$2,""))))),"") | AN7: =IF(G$50="SI",IF(Hoja1!AK7="x",Hoja1!$AK$2,IF(Hoja1!AL7="x",Hoja1!$AL$2,IF(Hoja1!AM7="x",Hoja1!$AM$2,IF(Hoja1!AN7="x",Hoja1!$AN$2,IF(Hoja1!AO7="x",Hoja1!$AO$2,""))))),"") | AO7: =IF(G$59="SI",IF(Hoja1!AP7="x",Hoja1!$AP$2,IF(Hoja1!AQ7="x",Hoja1!$AQ$2,IF(Hoja1!AR7="x",Hoja1!$AR$2,IF(Hoja1!AS7="x",Hoja1!$AS$2,IF(Hoja1!AT7="x",Hoja1!$AT$2,""))))),"") | AP7: =IF(G$80="SI",IF(Hoja1!AP7="x",Hoja1!$AP$2,IF(Hoja1!AQ7="x",Hoja1!$AQ$2,IF(Hoja1!AR7="x",Hoja1!$AR$2,IF(Hoja1!AS7="x",Hoja1!$AS$2,IF(Hoja1!AT7="x",Hoja1!$AT$2,""))))),"") | AQ7: =IF(G$89="SI",IF(Hoja1!AP7="x",Hoja1!$AP$2,IF(Hoja1!AQ7="x",Hoja1!$AQ$2,IF(Hoja1!AR7="x",Hoja1!$AR$2,IF(Hoja1!AS7="x",Hoja1!$AS$2,IF(Hoja1!AT7="x",Hoja1!$AT$2,""))))),"") | AR7: =IF(G$83="SI",IF(Hoja1!AU7="x",Hoja1!$AU$2,IF(Hoja1!AV7="x",Hoja1!$AV$2,IF(Hoja1!AW7="x",Hoja1!$AW$2,IF(Hoja1!AX7="x",Hoja1!$AX$2,IF(Hoja1!AY7="x",Hoja1!$AY$2,""))))),"") | AS7: =IF(G$55="SI",IF(Hoja1!AU7="x",Hoja1!$AU$2,IF(Hoja1!AV7="x",Hoja1!$AV$2,IF(Hoja1!AW7="x",Hoja1!$AW$2,IF(Hoja1!AX7="x",Hoja1!$AX$2,IF(Hoja1!AY7="x",Hoja1!$AY$2,""))))),"") | AT7: =IF(G$57="SI",IF(Hoja1!AU7="x",Hoja1!$AU$2,IF(Hoja1!AV7="x",Hoja1!$AV$2,IF(Hoja1!AW7="x",Hoja1!$AW$2,IF(Hoja1!AX7="x",Hoja1!$AX$2,IF(Hoja1!AY7="x",Hoja1!$AY$2,""))))),"") | AU7: =IF(G$47="SI",IF(Hoja1!AZ7="x",Hoja1!$AZ$2,IF(Hoja1!BA7="x",Hoja1!$BA$2,IF(Hoja1!BB7="x",Hoja1!$BB$2,IF(Hoja1!BC7="x",Hoja1!$BC$2,IF(Hoja1!BD7="x",Hoja1!$BD$2,""))))),"") | AV7: =IF(G$62="SI",IF(Hoja1!AZ7="x",Hoja1!$AZ$2,IF(Hoja1!BA7="x",Hoja1!$BA$2,IF(Hoja1!BB7="x",Hoja1!$BB$2,IF(Hoja1!BC7="x",Hoja1!$BC$2,IF(Hoja1!BD7="x",Hoja1!$BD$2,""))))),"") | AW7: =IF(G$83="SI",IF(Hoja1!AZ7="x",Hoja1!$AZ$2,IF(Hoja1!BA7="x",Hoja1!$BA$2,IF(Hoja1!BB7="x",Hoja1!$BB$2,IF(Hoja1!BC7="x",Hoja1!$BC$2,IF(Hoja1!BD7="x",Hoja1!$BD$2,""))))),"") | AX7: =IF(G$84="SI",IF(Hoja1!AZ7="x",Hoja1!$AZ$2,IF(Hoja1!BA7="x",Hoja1!$BA$2,IF(Hoja1!BB7="x",Hoja1!$BB$2,IF(Hoja1!BC7="x",Hoja1!$BC$2,IF(Hoja1!BD7="x",Hoja1!$BD$2,""))))),"") | AY7: =IF(G$86="SI",IF(Hoja1!AZ7="x",Hoja1!$AZ$2,IF(Hoja1!BA7="x",Hoja1!$BA$2,IF(Hoja1!BB7="x",Hoja1!$BB$2,IF(Hoja1!BC7="x",Hoja1!$BC$2,IF(Hoja1!BD7="x",Hoja1!$BD$2,""))))),"") | AZ7: =IF(G$46="SI",IF(Hoja1!BE7="x",Hoja1!$BE$2,IF(Hoja1!BF7="x",Hoja1!$BF$2,IF(Hoja1!BG7="x",Hoja1!$BG$2,IF(Hoja1!BH7="x",Hoja1!$BH$2,IF(Hoja1!BI7="x",Hoja1!$BI$2,""))))),"") -> O | BA7: =IF(G$84="SI",IF(Hoja1!BE7="x",Hoja1!$BE$2,IF(Hoja1!BF7="x",Hoja1!$BF$2,IF(Hoja1!BG7="x",Hoja1!$BG$2,IF(Hoja1!BH7="x",Hoja1!$BH$2,IF(Hoja1!BI7="x",Hoja1!$BI$2,""))))),"") -> O | BB7: =IF(G$45="SI",IF(Hoja1!BJ7="x",Hoja1!$BJ$2,IF(Hoja1!BK7="x",Hoja1!$BK$2,IF(Hoja1!BL7="x",Hoja1!$BL$2,IF(Hoja1!BM7="x",Hoja1!$BM$2,IF(Hoja1!BN7="x",Hoja1!$BN$2,""))))),"") | BC7: =IF(G$56="SI",IF(Hoja1!BJ7="x",Hoja1!$BJ$2,IF(Hoja1!BK7="x",Hoja1!$BK$2,IF(Hoja1!BL7="x",Hoja1!$BL$2,IF(Hoja1!BM7="x",Hoja1!$BM$2,IF(Hoja1!BN7="x",Hoja1!$BN$2,""))))),"") | BD7: =IF(G$59="SI",IF(Hoja1!BJ7="x",Hoja1!$BJ$2,IF(Hoja1!BK7="x",Hoja1!$BK$2,IF(Hoja1!BL7="x",Hoja1!$BL$2,IF(Hoja1!BM7="x",Hoja1!$BM$2,IF(Hoja1!BN7="x",Hoja1!$BN$2,""))))),"") | BE7: =IF(G$62="SI",IF(Hoja1!BJ7="x",Hoja1!$BJ$2,IF(Hoja1!BK7="x",Hoja1!$BK$2,IF(Hoja1!BL7="x",Hoja1!$BL$2,IF(Hoja1!BM7="x",Hoja1!$BM$2,IF(Hoja1!BN7="x",Hoja1!$BN$2,""))))),"") | BF7: =IF(G$52="SI",IF(Hoja1!BJ7="x",Hoja1!$BJ$2,IF(Hoja1!BK7="x",Hoja1!$BK$2,IF(Hoja1!BL7="x",Hoja1!$BL$2,IF(Hoja1!BM7="x",Hoja1!$BM$2,IF(Hoja1!BN7="x",Hoja1!$BN$2,""))))),"") | BG7: =IF(G$75="SI",IF(Hoja1!BJ7="x",Hoja1!$BJ$2,IF(Hoja1!BK7="x",Hoja1!$BK$2,IF(Hoja1!BL7="x",Hoja1!$BL$2,IF(Hoja1!BM7="x",Hoja1!$BM$2,IF(Hoja1!BN7="x",Hoja1!$BN$2,""))))),"") | BH7: =IF(G$71="SI",IF(Hoja1!BO7="x",Hoja1!$BO$2,IF(Hoja1!BP7="x",Hoja1!$BP$2,IF(Hoja1!BQ7="x",Hoja1!$BQ$2,IF(Hoja1!BR7="x",Hoja1!$BR$2,IF(Hoja1!BS7="x",Hoja1!$BS$2,""))))),"") -> B | BI7: =IF(G$72="SI",IF(Hoja1!BO7="x",Hoja1!$BO$2,IF(Hoja1!BP7="x",Hoja1!$BP$2,IF(Hoja1!BQ7="x",Hoja1!$BQ$2,IF(Hoja1!BR7="x",Hoja1!$BR$2,IF(Hoja1!BS7="x",Hoja1!$BS$2,""))))),"") -> B | BJ7: =IF(G$58="SI",IF(Hoja1!BO7="x",Hoja1!$BO$2,IF(Hoja1!BP7="x",Hoja1!$BP$2,IF(Hoja1!BQ7="x",Hoja1!$BQ$2,IF(Hoja1!BR7="x",Hoja1!$BR$2,IF(Hoja1!BS7="x",Hoja1!$BS$2,""))))),"") -> B | BK7: =IF(G$67="SI",IF(Hoja1!BT7="x",Hoja1!$BT$2,IF(Hoja1!BU7="x",Hoja1!$BU$2,IF(Hoja1!BV7="x",Hoja1!$BV$2,IF(Hoja1!BW7="x",Hoja1!$BW$2,IF(Hoja1!BX7="x",Hoja1!$BX$2,""))))),"") | BL7: =IF(G$68="SI",IF(Hoja1!BT7="x",Hoja1!$BT$2,IF(Hoja1!BU7="x",Hoja1!$BU$2,IF(Hoja1!BV7="x",Hoja1!$BV$2,IF(Hoja1!BW7="x",Hoja1!$BW$2,IF(Hoja1!BX7="x",Hoja1!$BX$2,""))))),"") | BM7: =IF(G$90="SI",IF(Hoja1!BT7="x",Hoja1!$BT$2,IF(Hoja1!BU7="x",Hoja1!$BU$2,IF(Hoja1!BV7="x",Hoja1!$BV$2,IF(Hoja1!BW7="x",Hoja1!$BW$2,IF(Hoja1!BX7="x",Hoja1!$BX$2,""))))),"") | BN7: =IF(G$91="SI",IF(Hoja1!BT7="x",Hoja1!$BT$2,IF(Hoja1!BU7="x",Hoja1!$BU$2,IF(Hoja1!BV7="x",Hoja1!$BV$2,IF(Hoja1!BW7="x",Hoja1!$BW$2,IF(Hoja1!BX7="x",Hoja1!$BX$2,""))))),"") | BO7: =IF(G$92="SI",IF(Hoja1!BT7="x",Hoja1!$BT$2,IF(Hoja1!BU7="x",Hoja1!$BU$2,IF(Hoja1!BV7="x",Hoja1!$BV$2,IF(Hoja1!BW7="x",Hoja1!$BW$2,IF(Hoja1!BX7="x",Hoja1!$BX$2,""))))),"") | BP7: =IF(G$67="SI",IF(Hoja1!BY7="x",Hoja1!$BY$2,IF(Hoja1!BZ7="x",Hoja1!$BZ$2,IF(Hoja1!CA7="x",Hoja1!$CA$2,IF(Hoja1!CB7="x",Hoja1!$CB$2,IF(Hoja1!CC7="x",Hoja1!$CC$2,""))))),"") -> B | BQ7: =IF(G$68="SI",IF(Hoja1!BY7="x",Hoja1!$BY$2,IF(Hoja1!BZ7="x",Hoja1!$BZ$2,IF(Hoja1!CA7="x",Hoja1!$CA$2,IF(Hoja1!CB7="x",Hoja1!$CB$2,IF(Hoja1!CC7="x",Hoja1!$CC$2,""))))),"") -> B | BR7: =IF(G$69="SI",IF(Hoja1!BY7="x",Hoja1!$BY$2,IF(Hoja1!BZ7="x",Hoja1!$BZ$2,IF(Hoja1!CA7="x",Hoja1!$CA$2,IF(Hoja1!CB7="x",Hoja1!$CB$2,IF(Hoja1!CC7="x",Hoja1!$CC$2,""))))),"") -> B | BS7: =IF(G$90="SI",IF(Hoja1!BY7="x",Hoja1!$BY$2,IF(Hoja1!BZ7="x",Hoja1!$BZ$2,IF(Hoja1!CA7="x",Hoja1!$CA$2,IF(Hoja1!CB7="x",Hoja1!$CB$2,IF(Hoja1!CC7="x",Hoja1!$CC$2,""))))),"") -> B | BT7: =IF(G$91="SI",IF(Hoja1!BY7="x",Hoja1!$BY$2,IF(Hoja1!BZ7="x",Hoja1!$BZ$2,IF(Hoja1!CA7="x",Hoja1!$CA$2,IF(Hoja1!CB7="x",Hoja1!$CB$2,IF(Hoja1!CC7="x",Hoja1!$CC$2,""))))),"") -> B | BU7: =IF(G$92="SI",IF(Hoja1!BY7="x",Hoja1!$BY$2,IF(Hoja1!BZ7="x",Hoja1!$BZ$2,IF(Hoja1!CA7="x",Hoja1!$CA$2,IF(Hoja1!CB7="x",Hoja1!$CB$2,IF(Hoja1!CC7="x",Hoja1!$CC$2,""))))),"") -> B | BV7: =IF(G$59="SI",IF(Hoja1!CD7="x",Hoja1!$CD$2,IF(Hoja1!CE7="x",Hoja1!$CE$2,IF(Hoja1!CF7="x",Hoja1!$CF$2,IF(Hoja1!CG7="x",Hoja1!$CG$2,IF(Hoja1!CH7="x",Hoja1!$CH$2,""))))),"") | BW7: =IF(G$67="SI",IF(Hoja1!CD7="x",Hoja1!$CD$2,IF(Hoja1!CE7="x",Hoja1!$CE$2,IF(Hoja1!CF7="x",Hoja1!$CF$2,IF(Hoja1!CG7="x",Hoja1!$CG$2,IF(Hoja1!CH7="x",Hoja1!$CH$2,""))))),"") | BX7: =IF(G$68="SI",IF(Hoja1!CD7="x",Hoja1!$CD$2,IF(Hoja1!CE7="x",Hoja1!$CE$2,IF(Hoja1!CF7="x",Hoja1!$CF$2,IF(Hoja1!CG7="x",Hoja1!$CG$2,IF(Hoja1!CH7="x",Hoja1!$CH$2,""))))),"") | BY7: =IF(G$69="SI",IF(Hoja1!CD7="x",Hoja1!$CD$2,IF(Hoja1!CE7="x",Hoja1!$CE$2,IF(Hoja1!CF7="x",Hoja1!$CF$2,IF(Hoja1!CG7="x",Hoja1!$CG$2,IF(Hoja1!CH7="x",Hoja1!$CH$2,""))))),"") | BZ7: =IF(G$90="SI",IF(Hoja1!CD7="x",Hoja1!$CD$2,IF(Hoja1!CE7="x",Hoja1!$CE$2,IF(Hoja1!CF7="x",Hoja1!$CF$2,IF(Hoja1!CG7="x",Hoja1!$CG$2,IF(Hoja1!CH7="x",Hoja1!$CH$2,""))))),"") | CA7: =IF(G$91="SI",IF(Hoja1!CD7="x",Hoja1!$CD$2,IF(Hoja1!CE7="x",Hoja1!$CE$2,IF(Hoja1!CF7="x",Hoja1!$CF$2,IF(Hoja1!CG7="x",Hoja1!$CG$2,IF(Hoja1!CH7="x",Hoja1!$CH$2,""))))),"") | CB7: =IF(G$92="SI",IF(Hoja1!CD7="x",Hoja1!$CD$2,IF(Hoja1!CE7="x",Hoja1!$CE$2,IF(Hoja1!CF7="x",Hoja1!$CF$2,IF(Hoja1!CG7="x",Hoja1!$CG$2,IF(Hoja1!CH7="x",Hoja1!$CH$2,""))))),"") | CC7: =IF(G$69="SI",IF(Hoja1!CD7="x",Hoja1!$CD$2,IF(Hoja1!CE7="x",Hoja1!$CE$2,IF(Hoja1!CF7="x",Hoja1!$CF$2,IF(Hoja1!CG7="x",Hoja1!$CG$2,IF(Hoja1!CH7="x",Hoja1!$CH$2,""))))),"") | CD7: =IF(G$90="SI",IF(Hoja1!CD7="x",Hoja1!$CD$2,IF(Hoja1!CE7="x",Hoja1!$CE$2,IF(Hoja1!CF7="x",Hoja1!$CF$2,IF(Hoja1!CG7="x",Hoja1!$CG$2,IF(Hoja1!CH7="x",Hoja1!$CH$2,""))))),"") | CE7: =IF(G$91="SI",IF(Hoja1!CD7="x",Hoja1!$CD$2,IF(Hoja1!CE7="x",Hoja1!$CE$2,IF(Hoja1!CF7="x",Hoja1!$CF$2,IF(Hoja1!CG7="x",Hoja1!$CG$2,IF(Hoja1!CH7="x",Hoja1!$CH$2,""))))),"") | CF7: =IF(G$92="SI",IF(Hoja1!CD7="x",Hoja1!$CD$2,IF(Hoja1!CE7="x",Hoja1!$CE$2,IF(Hoja1!CF7="x",Hoja1!$CF$2,IF(Hoja1!CG7="x",Hoja1!$CG$2,IF(Hoja1!CH7="x",Hoja1!$CH$2,""))))),"")
A8: 6 | B8: =IF(H62="SI",IF(Hoja1!B8="x",Hoja1!$B$2,IF(Hoja1!C8="x",Hoja1!$C$2,IF(Hoja1!D8="x",Hoja1!$D$2,IF(Hoja1!E8="x",Hoja1!$E$2,IF(Hoja1!F8="x",Hoja1!$F$2,""))))),"") -> O | C8: =IF(H43="SI",IF(Hoja1!B8="x",Hoja1!$B$2,IF(Hoja1!C8="x",Hoja1!$C$2,IF(Hoja1!D8="x",Hoja1!$D$2,IF(Hoja1!E8="x",Hoja1!$E$2,IF(Hoja1!F8="x",Hoja1!$F$2,""))))),"") -> O | D8: =IF(H44="SI",IF(Hoja1!B8="x",Hoja1!$B$2,IF(Hoja1!C8="x",Hoja1!$C$2,IF(Hoja1!D8="x",Hoja1!$D$2,IF(Hoja1!E8="x",Hoja1!$E$2,IF(Hoja1!F8="x",Hoja1!$F$2,""))))),"") -> O | E8: =IF(H$82="SI",IF(Hoja1!B8="x",Hoja1!$B$2,IF(Hoja1!C8="x",Hoja1!$C$2,IF(Hoja1!D8="x",Hoja1!$D$2,IF(Hoja1!E8="x",Hoja1!$E$2,IF(Hoja1!F8="x",Hoja1!$F$2,""))))),"") -> O | F8: =IF(H$84="SI",IF(Hoja1!B8="x",Hoja1!$B$2,IF(Hoja1!C8="x",Hoja1!$C$2,IF(Hoja1!D8="x",Hoja1!$D$2,IF(Hoja1!E8="x",Hoja1!$E$2,IF(Hoja1!F8="x",Hoja1!$F$2,""))))),"") -> O | G8: =IF(H$70="SI",IF(Hoja1!B8="x",Hoja1!$B$2,IF(Hoja1!C8="x",Hoja1!$C$2,IF(Hoja1!D8="x",Hoja1!$D$2,IF(Hoja1!E8="x",Hoja1!$E$2,IF(Hoja1!F8="x",Hoja1!$F$2,""))))),"") -> O | H8: =IF(H$82="SI",IF(Hoja1!G8="x",Hoja1!$G$2,IF(Hoja1!H8="x",Hoja1!$H$2,IF(Hoja1!I8="x",Hoja1!$I$2,IF(Hoja1!J8="x",Hoja1!$J$2,IF(Hoja1!K8="x",Hoja1!$K$2,""))))),"") | I8: =IF(H$85="SI",IF(Hoja1!G8="x",Hoja1!$G$2,IF(Hoja1!H8="x",Hoja1!$H$2,IF(Hoja1!I8="x",Hoja1!$I$2,IF(Hoja1!J8="x",Hoja1!$J$2,IF(Hoja1!K8="x",Hoja1!$K$2,""))))),"") | J8: =IF(H$86="SI",IF(Hoja1!G8="x",Hoja1!$G$2,IF(Hoja1!H8="x",Hoja1!$H$2,IF(Hoja1!I8="x",Hoja1!$I$2,IF(Hoja1!J8="x",Hoja1!$J$2,IF(Hoja1!K8="x",Hoja1!$K$2,""))))),"") | K8: =IF(H$87="SI",IF(Hoja1!G8="x",Hoja1!$G$2,IF(Hoja1!H8="x",Hoja1!$H$2,IF(Hoja1!I8="x",Hoja1!$I$2,IF(Hoja1!J8="x",Hoja1!$J$2,IF(Hoja1!K8="x",Hoja1!$K$2,""))))),"") | L8: =IF(H$64="SI",IF(Hoja1!G8="x",Hoja1!$G$2,IF(Hoja1!H8="x",Hoja1!$H$2,IF(Hoja1!I8="x",Hoja1!$I$2,IF(Hoja1!J8="x",Hoja1!$J$2,IF(Hoja1!K8="x",Hoja1!$K$2,""))))),"") | M8: =IF(H$73="SI",IF(Hoja1!G8="x",Hoja1!$G$2,IF(Hoja1!H8="x",Hoja1!$H$2,IF(Hoja1!I8="x",Hoja1!$I$2,IF(Hoja1!J8="x",Hoja1!$J$2,IF(Hoja1!K8="x",Hoja1!$K$2,""))))),"") | N8: =IF(H$74="SI",IF(Hoja1!G8="x",Hoja1!$G$2,IF(Hoja1!H8="x",Hoja1!$H$2,IF(Hoja1!I8="x",Hoja1!$I$2,IF(Hoja1!J8="x",Hoja1!$J$2,IF(Hoja1!K8="x",Hoja1!$K$2,""))))),"") | O8: =IF(H$60="SI",IF(Hoja1!L8="x",Hoja1!$L$2,IF(Hoja1!M8="x",Hoja1!$M$2,IF(Hoja1!N8="x",Hoja1!$N$2,IF(Hoja1!O8="x",Hoja1!$O$2,IF(Hoja1!P8="x",Hoja1!$P$2,""))))),"") -> O | P8: =IF(H$80="SI",IF(Hoja1!L8="x",Hoja1!$L$2,IF(Hoja1!M8="x",Hoja1!$M$2,IF(Hoja1!N8="x",Hoja1!$N$2,IF(Hoja1!O8="x",Hoja1!$O$2,IF(Hoja1!P8="x",Hoja1!$P$2,""))))),"") -> O | Q8: =IF(H$43="SI",IF(Hoja1!L8="x",Hoja1!$L$2,IF(Hoja1!M8="x",Hoja1!$M$2,IF(Hoja1!N8="x",Hoja1!$N$2,IF(Hoja1!O8="x",Hoja1!$O$2,IF(Hoja1!P8="x",Hoja1!$P$2,""))))),"") -> O | R8: =IF(H$82="SI",IF(Hoja1!L8="x",Hoja1!$L$2,IF(Hoja1!M8="x",Hoja1!$M$2,IF(Hoja1!N8="x",Hoja1!$N$2,IF(Hoja1!O8="x",Hoja1!$O$2,IF(Hoja1!P8="x",Hoja1!$P$2,""))))),"") -> O | S8: =IF(H$76="SI",IF(Hoja1!L8="x",Hoja1!$L$2,IF(Hoja1!M8="x",Hoja1!$M$2,IF(Hoja1!N8="x",Hoja1!$N$2,IF(Hoja1!O8="x",Hoja1!$O$2,IF(Hoja1!P8="x",Hoja1!$P$2,""))))),"") -> O | T8: =IF(H$77="SI",IF(Hoja1!L8="x",Hoja1!$L$2,IF(Hoja1!M8="x",Hoja1!$M$2,IF(Hoja1!N8="x",Hoja1!$N$2,IF(Hoja1!O8="x",Hoja1!$O$2,IF(Hoja1!P8="x",Hoja1!$P$2,""))))),"") -> O | U8: =IF(H$78="SI",IF(Hoja1!L8="x",Hoja1!$L$2,IF(Hoja1!M8="x",Hoja1!$M$2,IF(Hoja1!N8="x",Hoja1!$N$2,IF(Hoja1!O8="x",Hoja1!$O$2,IF(Hoja1!P8="x",Hoja1!$P$2,""))))),"") -> O | V8: =IF(H$60="SI",IF(Hoja1!Q8="x",Hoja1!$Q$2,IF(Hoja1!R8="x",Hoja1!$R$2,IF(Hoja1!S8="x",Hoja1!$S$2,IF(Hoja1!T8="x",Hoja1!$T$2,IF(Hoja1!U8="x",Hoja1!$U$2,""))))),"") -> R | W8: =IF(H$61="SI",IF(Hoja1!Q8="x",Hoja1!$Q$2,IF(Hoja1!R8="x",Hoja1!$R$2,IF(Hoja1!S8="x",Hoja1!$S$2,IF(Hoja1!T8="x",Hoja1!$T$2,IF(Hoja1!U8="x",Hoja1!$U$2,""))))),"") -> R | X8: =IF(H$62="SI",IF(Hoja1!Q8="x",Hoja1!$Q$2,IF(Hoja1!R8="x",Hoja1!$R$2,IF(Hoja1!S8="x",Hoja1!$S$2,IF(Hoja1!T8="x",Hoja1!$T$2,IF(Hoja1!U8="x",Hoja1!$U$2,""))))),"") -> R | Y8: =IF(H$79="SI",IF(Hoja1!Q8="x",Hoja1!$Q$2,IF(Hoja1!R8="x",Hoja1!$R$2,IF(Hoja1!S8="x",Hoja1!$S$2,IF(Hoja1!T8="x",Hoja1!$T$2,IF(Hoja1!U8="x",Hoja1!$U$2,""))))),"") -> R | Z8: =IF(H$81="SI",IF(Hoja1!Q8="x",Hoja1!$Q$2,IF(Hoja1!R8="x",Hoja1!$R$2,IF(Hoja1!S8="x",Hoja1!$S$2,IF(Hoja1!T8="x",Hoja1!$T$2,IF(Hoja1!U8="x",Hoja1!$U$2,""))))),"") -> R | AA8: =IF(H$63="SI",IF(Hoja1!Q8="x",Hoja1!$Q$2,IF(Hoja1!R8="x",Hoja1!$R$2,IF(Hoja1!S8="x",Hoja1!$S$2,IF(Hoja1!T8="x",Hoja1!$T$2,IF(Hoja1!U8="x",Hoja1!$U$2,""))))),"") -> R | AB8: =IF(H$64="SI",IF(Hoja1!Q8="x",Hoja1!$Q$2,IF(Hoja1!R8="x",Hoja1!$R$2,IF(Hoja1!S8="x",Hoja1!$S$2,IF(Hoja1!T8="x",Hoja1!$T$2,IF(Hoja1!U8="x",Hoja1!$U$2,""))))),"") -> R | AC8: =IF(H$65="SI",IF(Hoja1!Q8="x",Hoja1!$Q$2,IF(Hoja1!R8="x",Hoja1!$R$2,IF(Hoja1!S8="x",Hoja1!$S$2,IF(Hoja1!T8="x",Hoja1!$T$2,IF(Hoja1!U8="x",Hoja1!$U$2,""))))),"") -> R | AD8: =IF(H45="SI",IF(Hoja1!V8="x",Hoja1!$V$2,IF(Hoja1!W8="x",Hoja1!$W$2,IF(Hoja1!X8="x",Hoja1!$X$2,IF(Hoja1!Y8="x",Hoja1!$Y$2,IF(Hoja1!Z8="x",Hoja1!$Z$2,""))))),"") | AE8: =IF(H$53="SI",IF(Hoja1!V8="x",Hoja1!$V$2,IF(Hoja1!W8="x",Hoja1!$W$2,IF(Hoja1!X8="x",Hoja1!$X$2,IF(Hoja1!Y8="x",Hoja1!$Y$2,IF(Hoja1!Z8="x",Hoja1!$Z$2,""))))),"") | AF8: =IF(H$43="SI",IF(Hoja1!AA8="x",Hoja1!$AA$2,IF(Hoja1!AB8="x",Hoja1!$AB$2,IF(Hoja1!AC8="x",Hoja1!$AC$2,IF(Hoja1!AD8="x",Hoja1!$AD$2,IF(Hoja1!AE8="x",Hoja1!$AE$2,""))))),"") | AG8: =IF(H$54="SI",IF(Hoja1!AA8="x",Hoja1!$AA$2,IF(Hoja1!AB8="x",Hoja1!$AB$2,IF(Hoja1!AC8="x",Hoja1!$AC$2,IF(Hoja1!AD8="x",Hoja1!$AD$2,IF(Hoja1!AE8="x",Hoja1!$AE$2,""))))),"") | AH8: =IF(H$88="SI",IF(Hoja1!AF8="x",Hoja1!$AF$2,IF(Hoja1!AG8="x",Hoja1!$AG$2,IF(Hoja1!AH8="x",Hoja1!$AH$2,IF(Hoja1!AI8="x",Hoja1!$AI$2,IF(Hoja1!AJ8="x",Hoja1!$AJ$2,""))))),"") | AI8: =IF(H$48="SI",IF(Hoja1!AF8="x",Hoja1!$AF$2,IF(Hoja1!AG8="x",Hoja1!$AG$2,IF(Hoja1!AH8="x",Hoja1!$AH$2,IF(Hoja1!AI8="x",Hoja1!$AI$2,IF(Hoja1!AJ8="x",Hoja1!$AJ$2,""))))),"") | AJ8: =IF(H$51="SI",IF(Hoja1!AF8="x",Hoja1!$AF$2,IF(Hoja1!AG8="x",Hoja1!$AG$2,IF(Hoja1!AH8="x",Hoja1!$AH$2,IF(Hoja1!AI8="x",Hoja1!$AI$2,IF(Hoja1!AJ8="x",Hoja1!$AJ$2,""))))),"") | AK8: =IF(H$88="SI",IF(Hoja1!AK8="x",Hoja1!$AK$2,IF(Hoja1!AL8="x",Hoja1!$AL$2,IF(Hoja1!AM8="x",Hoja1!$AM$2,IF(Hoja1!AN8="x",Hoja1!$AN$2,IF(Hoja1!AO8="x",Hoja1!$AO$2,""))))),"") | AL8: =IF(H$48="SI",IF(Hoja1!AK8="x",Hoja1!$AK$2,IF(Hoja1!AL8="x",Hoja1!$AL$2,IF(Hoja1!AM8="x",Hoja1!$AM$2,IF(Hoja1!AN8="x",Hoja1!$AN$2,IF(Hoja1!AO8="x",Hoja1!$AO$2,""))))),"") | AM8: =IF(H$49="SI",IF(Hoja1!AK8="x",Hoja1!$AK$2,IF(Hoja1!AL8="x",Hoja1!$AL$2,IF(Hoja1!AM8="x",Hoja1!$AM$2,IF(Hoja1!AN8="x",Hoja1!$AN$2,IF(Hoja1!AO8="x",Hoja1!$AO$2,""))))),"") | AN8: =IF(H$50="SI",IF(Hoja1!AK8="x",Hoja1!$AK$2,IF(Hoja1!AL8="x",Hoja1!$AL$2,IF(Hoja1!AM8="x",Hoja1!$AM$2,IF(Hoja1!AN8="x",Hoja1!$AN$2,IF(Hoja1!AO8="x",Hoja1!$AO$2,""))))),"") | AO8: =IF(H$59="SI",IF(Hoja1!AP8="x",Hoja1!$AP$2,IF(Hoja1!AQ8="x",Hoja1!$AQ$2,IF(Hoja1!AR8="x",Hoja1!$AR$2,IF(Hoja1!AS8="x",Hoja1!$AS$2,IF(Hoja1!AT8="x",Hoja1!$AT$2,""))))),"") | AP8: =IF(H$80="SI",IF(Hoja1!AP8="x",Hoja1!$AP$2,IF(Hoja1!AQ8="x",Hoja1!$AQ$2,IF(Hoja1!AR8="x",Hoja1!$AR$2,IF(Hoja1!AS8="x",Hoja1!$AS$2,IF(Hoja1!AT8="x",Hoja1!$AT$2,""))))),"") | AQ8: =IF(H$89="SI",IF(Hoja1!AP8="x",Hoja1!$AP$2,IF(Hoja1!AQ8="x",Hoja1!$AQ$2,IF(Hoja1!AR8="x",Hoja1!$AR$2,IF(Hoja1!AS8="x",Hoja1!$AS$2,IF(Hoja1!AT8="x",Hoja1!$AT$2,""))))),"") | AR8: =IF(H$83="SI",IF(Hoja1!AU8="x",Hoja1!$AU$2,IF(Hoja1!AV8="x",Hoja1!$AV$2,IF(Hoja1!AW8="x",Hoja1!$AW$2,IF(Hoja1!AX8="x",Hoja1!$AX$2,IF(Hoja1!AY8="x",Hoja1!$AY$2,""))))),"") | AS8: =IF(H$55="SI",IF(Hoja1!AU8="x",Hoja1!$AU$2,IF(Hoja1!AV8="x",Hoja1!$AV$2,IF(Hoja1!AW8="x",Hoja1!$AW$2,IF(Hoja1!AX8="x",Hoja1!$AX$2,IF(Hoja1!AY8="x",Hoja1!$AY$2,""))))),"") | AT8: =IF(H$57="SI",IF(Hoja1!AU8="x",Hoja1!$AU$2,IF(Hoja1!AV8="x",Hoja1!$AV$2,IF(Hoja1!AW8="x",Hoja1!$AW$2,IF(Hoja1!AX8="x",Hoja1!$AX$2,IF(Hoja1!AY8="x",Hoja1!$AY$2,""))))),"") | AU8: =IF(H$47="SI",IF(Hoja1!AZ8="x",Hoja1!$AZ$2,IF(Hoja1!BA8="x",Hoja1!$BA$2,IF(Hoja1!BB8="x",Hoja1!$BB$2,IF(Hoja1!BC8="x",Hoja1!$BC$2,IF(Hoja1!BD8="x",Hoja1!$BD$2,""))))),"") -> B | AV8: =IF(H$62="SI",IF(Hoja1!AZ8="x",Hoja1!$AZ$2,IF(Hoja1!BA8="x",Hoja1!$BA$2,IF(Hoja1!BB8="x",Hoja1!$BB$2,IF(Hoja1!BC8="x",Hoja1!$BC$2,IF(Hoja1!BD8="x",Hoja1!$BD$2,""))))),"") -> B | AW8: =IF(H$83="SI",IF(Hoja1!AZ8="x",Hoja1!$AZ$2,IF(Hoja1!BA8="x",Hoja1!$BA$2,IF(Hoja1!BB8="x",Hoja1!$BB$2,IF(Hoja1!BC8="x",Hoja1!$BC$2,IF(Hoja1!BD8="x",Hoja1!$BD$2,""))))),"") -> B | AX8: =IF(H$84="SI",IF(Hoja1!AZ8="x",Hoja1!$AZ$2,IF(Hoja1!BA8="x",Hoja1!$BA$2,IF(Hoja1!BB8="x",Hoja1!$BB$2,IF(Hoja1!BC8="x",Hoja1!$BC$2,IF(Hoja1!BD8="x",Hoja1!$BD$2,""))))),"") -> B | AY8: =IF(H$86="SI",IF(Hoja1!AZ8="x",Hoja1!$AZ$2,IF(Hoja1!BA8="x",Hoja1!$BA$2,IF(Hoja1!BB8="x",Hoja1!$BB$2,IF(Hoja1!BC8="x",Hoja1!$BC$2,IF(Hoja1!BD8="x",Hoja1!$BD$2,""))))),"") -> B | AZ8: =IF(H$46="SI",IF(Hoja1!BE8="x",Hoja1!$BE$2,IF(Hoja1!BF8="x",Hoja1!$BF$2,IF(Hoja1!BG8="x",Hoja1!$BG$2,IF(Hoja1!BH8="x",Hoja1!$BH$2,IF(Hoja1!BI8="x",Hoja1!$BI$2,""))))),"") | BA8: =IF(H$84="SI",IF(Hoja1!BE8="x",Hoja1!$BE$2,IF(Hoja1!BF8="x",Hoja1!$BF$2,IF(Hoja1!BG8="x",Hoja1!$BG$2,IF(Hoja1!BH8="x",Hoja1!$BH$2,IF(Hoja1!BI8="x",Hoja1!$BI$2,""))))),"") | BB8: =IF(H$45="SI",IF(Hoja1!BJ8="x",Hoja1!$BJ$2,IF(Hoja1!BK8="x",Hoja1!$BK$2,IF(Hoja1!BL8="x",Hoja1!$BL$2,IF(Hoja1!BM8="x",Hoja1!$BM$2,IF(Hoja1!BN8="x",Hoja1!$BN$2,""))))),"") | BC8: =IF(H$56="SI",IF(Hoja1!BJ8="x",Hoja1!$BJ$2,IF(Hoja1!BK8="x",Hoja1!$BK$2,IF(Hoja1!BL8="x",Hoja1!$BL$2,IF(Hoja1!BM8="x",Hoja1!$BM$2,IF(Hoja1!BN8="x",Hoja1!$BN$2,""))))),"") | BD8: =IF(H$59="SI",IF(Hoja1!BJ8="x",Hoja1!$BJ$2,IF(Hoja1!BK8="x",Hoja1!$BK$2,IF(Hoja1!BL8="x",Hoja1!$BL$2,IF(Hoja1!BM8="x",Hoja1!$BM$2,IF(Hoja1!BN8="x",Hoja1!$BN$2,""))))),"") | BE8: =IF(H$62="SI",IF(Hoja1!BJ8="x",Hoja1!$BJ$2,IF(Hoja1!BK8="x",Hoja1!$BK$2,IF(Hoja1!BL8="x",Hoja1!$BL$2,IF(Hoja1!BM8="x",Hoja1!$BM$2,IF(Hoja1!BN8="x",Hoja1!$BN$2,""))))),"") | BF8: =IF(H$52="SI",IF(Hoja1!BJ8="x",Hoja1!$BJ$2,IF(Hoja1!BK8="x",Hoja1!$BK$2,IF(Hoja1!BL8="x",Hoja1!$BL$2,IF(Hoja1!BM8="x",Hoja1!$BM$2,IF(Hoja1!BN8="x",Hoja1!$BN$2,""))))),"") | BG8: =IF(H$75="SI",IF(Hoja1!BJ8="x",Hoja1!$BJ$2,IF(Hoja1!BK8="x",Hoja1!$BK$2,IF(Hoja1!BL8="x",Hoja1!$BL$2,IF(Hoja1!BM8="x",Hoja1!$BM$2,IF(Hoja1!BN8="x",Hoja1!$BN$2,""))))),"") | BH8: =IF(H$71="SI",IF(Hoja1!BO8="x",Hoja1!$BO$2,IF(Hoja1!BP8="x",Hoja1!$BP$2,IF(Hoja1!BQ8="x",Hoja1!$BQ$2,IF(Hoja1!BR8="x",Hoja1!$BR$2,IF(Hoja1!BS8="x",Hoja1!$BS$2,""))))),"") -> O | BI8: =IF(H$72="SI",IF(Hoja1!BO8="x",Hoja1!$BO$2,IF(Hoja1!BP8="x",Hoja1!$BP$2,IF(Hoja1!BQ8="x",Hoja1!$BQ$2,IF(Hoja1!BR8="x",Hoja1!$BR$2,IF(Hoja1!BS8="x",Hoja1!$BS$2,""))))),"") -> O | BJ8: =IF(H$58="SI",IF(Hoja1!BO8="x",Hoja1!$BO$2,IF(Hoja1!BP8="x",Hoja1!$BP$2,IF(Hoja1!BQ8="x",Hoja1!$BQ$2,IF(Hoja1!BR8="x",Hoja1!$BR$2,IF(Hoja1!BS8="x",Hoja1!$BS$2,""))))),"") -> O | BK8: =IF(H$67="SI",IF(Hoja1!BT8="x",Hoja1!$BT$2,IF(Hoja1!BU8="x",Hoja1!$BU$2,IF(Hoja1!BV8="x",Hoja1!$BV$2,IF(Hoja1!BW8="x",Hoja1!$BW$2,IF(Hoja1!BX8="x",Hoja1!$BX$2,""))))),"") -> R | BL8: =IF(H$68="SI",IF(Hoja1!BT8="x",Hoja1!$BT$2,IF(Hoja1!BU8="x",Hoja1!$BU$2,IF(Hoja1!BV8="x",Hoja1!$BV$2,IF(Hoja1!BW8="x",Hoja1!$BW$2,IF(Hoja1!BX8="x",Hoja1!$BX$2,""))))),"") -> R | BM8: =IF(H$90="SI",IF(Hoja1!BT8="x",Hoja1!$BT$2,IF(Hoja1!BU8="x",Hoja1!$BU$2,IF(Hoja1!BV8="x",Hoja1!$BV$2,IF(Hoja1!BW8="x",Hoja1!$BW$2,IF(Hoja1!BX8="x",Hoja1!$BX$2,""))))),"") -> R | BN8: =IF(H$91="SI",IF(Hoja1!BT8="x",Hoja1!$BT$2,IF(Hoja1!BU8="x",Hoja1!$BU$2,IF(Hoja1!BV8="x",Hoja1!$BV$2,IF(Hoja1!BW8="x",Hoja1!$BW$2,IF(Hoja1!BX8="x",Hoja1!$BX$2,""))))),"") -> R | BO8: =IF(H$92="SI",IF(Hoja1!BT8="x",Hoja1!$BT$2,IF(Hoja1!BU8="x",Hoja1!$BU$2,IF(Hoja1!BV8="x",Hoja1!$BV$2,IF(Hoja1!BW8="x",Hoja1!$BW$2,IF(Hoja1!BX8="x",Hoja1!$BX$2,""))))),"") -> R | BP8: =IF(H$67="SI",IF(Hoja1!BY8="x",Hoja1!$BY$2,IF(Hoja1!BZ8="x",Hoja1!$BZ$2,IF(Hoja1!CA8="x",Hoja1!$CA$2,IF(Hoja1!CB8="x",Hoja1!$CB$2,IF(Hoja1!CC8="x",Hoja1!$CC$2,""))))),"") -> O | BQ8: =IF(H$68="SI",IF(Hoja1!BY8="x",Hoja1!$BY$2,IF(Hoja1!BZ8="x",Hoja1!$BZ$2,IF(Hoja1!CA8="x",Hoja1!$CA$2,IF(Hoja1!CB8="x",Hoja1!$CB$2,IF(Hoja1!CC8="x",Hoja1!$CC$2,""))))),"") -> O | BR8: =IF(H$69="SI",IF(Hoja1!BY8="x",Hoja1!$BY$2,IF(Hoja1!BZ8="x",Hoja1!$BZ$2,IF(Hoja1!CA8="x",Hoja1!$CA$2,IF(Hoja1!CB8="x",Hoja1!$CB$2,IF(Hoja1!CC8="x",Hoja1!$CC$2,""))))),"") -> O | BS8: =IF(H$90="SI",IF(Hoja1!BY8="x",Hoja1!$BY$2,IF(Hoja1!BZ8="x",Hoja1!$BZ$2,IF(Hoja1!CA8="x",Hoja1!$CA$2,IF(Hoja1!CB8="x",Hoja1!$CB$2,IF(Hoja1!CC8="x",Hoja1!$CC$2,""))))),"") -> O | BT8: =IF(H$91="SI",IF(Hoja1!BY8="x",Hoja1!$BY$2,IF(Hoja1!BZ8="x",Hoja1!$BZ$2,IF(Hoja1!CA8="x",Hoja1!$CA$2,IF(Hoja1!CB8="x",Hoja1!$CB$2,IF(Hoja1!CC8="x",Hoja1!$CC$2,""))))),"") -> O | BU8: =IF(H$92="SI",IF(Hoja1!BY8="x",Hoja1!$BY$2,IF(Hoja1!BZ8="x",Hoja1!$BZ$2,IF(Hoja1!CA8="x",Hoja1!$CA$2,IF(Hoja1!CB8="x",Hoja1!$CB$2,IF(Hoja1!CC8="x",Hoja1!$CC$2,""))))),"") -> O | BV8: =IF(H$59="SI",IF(Hoja1!CD8="x",Hoja1!$CD$2,IF(Hoja1!CE8="x",Hoja1!$CE$2,IF(Hoja1!CF8="x",Hoja1!$CF$2,IF(Hoja1!CG8="x",Hoja1!$CG$2,IF(Hoja1!CH8="x",Hoja1!$CH$2,""))))),"") | BW8: =IF(H$67="SI",IF(Hoja1!CD8="x",Hoja1!$CD$2,IF(Hoja1!CE8="x",Hoja1!$CE$2,IF(Hoja1!CF8="x",Hoja1!$CF$2,IF(Hoja1!CG8="x",Hoja1!$CG$2,IF(Hoja1!CH8="x",Hoja1!$CH$2,""))))),"") | BX8: =IF(H$68="SI",IF(Hoja1!CD8="x",Hoja1!$CD$2,IF(Hoja1!CE8="x",Hoja1!$CE$2,IF(Hoja1!CF8="x",Hoja1!$CF$2,IF(Hoja1!CG8="x",Hoja1!$CG$2,IF(Hoja1!CH8="x",Hoja1!$CH$2,""))))),"") | BY8: =IF(H$69="SI",IF(Hoja1!CD8="x",Hoja1!$CD$2,IF(Hoja1!CE8="x",Hoja1!$CE$2,IF(Hoja1!CF8="x",Hoja1!$CF$2,IF(Hoja1!CG8="x",Hoja1!$CG$2,IF(Hoja1!CH8="x",Hoja1!$CH$2,""))))),"") | BZ8: =IF(H$90="SI",IF(Hoja1!CD8="x",Hoja1!$CD$2,IF(Hoja1!CE8="x",Hoja1!$CE$2,IF(Hoja1!CF8="x",Hoja1!$CF$2,IF(Hoja1!CG8="x",Hoja1!$CG$2,IF(Hoja1!CH8="x",Hoja1!$CH$2,""))))),"") | CA8: =IF(H$91="SI",IF(Hoja1!CD8="x",Hoja1!$CD$2,IF(Hoja1!CE8="x",Hoja1!$CE$2,IF(Hoja1!CF8="x",Hoja1!$CF$2,IF(Hoja1!CG8="x",Hoja1!$CG$2,IF(Hoja1!CH8="x",Hoja1!$CH$2,""))))),"") | CB8: =IF(H$92="SI",IF(Hoja1!CD8="x",Hoja1!$CD$2,IF(Hoja1!CE8="x",Hoja1!$CE$2,IF(Hoja1!CF8="x",Hoja1!$CF$2,IF(Hoja1!CG8="x",Hoja1!$CG$2,IF(Hoja1!CH8="x",Hoja1!$CH$2,""))))),"") | CC8: =IF(H$69="SI",IF(Hoja1!CD8="x",Hoja1!$CD$2,IF(Hoja1!CE8="x",Hoja1!$CE$2,IF(Hoja1!CF8="x",Hoja1!$CF$2,IF(Hoja1!CG8="x",Hoja1!$CG$2,IF(Hoja1!CH8="x",Hoja1!$CH$2,""))))),"") | CD8: =IF(H$90="SI",IF(Hoja1!CD8="x",Hoja1!$CD$2,IF(Hoja1!CE8="x",Hoja1!$CE$2,IF(Hoja1!CF8="x",Hoja1!$CF$2,IF(Hoja1!CG8="x",Hoja1!$CG$2,IF(Hoja1!CH8="x",Hoja1!$CH$2,""))))),"") | CE8: =IF(H$91="SI",IF(Hoja1!CD8="x",Hoja1!$CD$2,IF(Hoja1!CE8="x",Hoja1!$CE$2,IF(Hoja1!CF8="x",Hoja1!$CF$2,IF(Hoja1!CG8="x",Hoja1!$CG$2,IF(Hoja1!CH8="x",Hoja1!$CH$2,""))))),"") | CF8: =IF(H$92="SI",IF(Hoja1!CD8="x",Hoja1!$CD$2,IF(Hoja1!CE8="x",Hoja1!$CE$2,IF(Hoja1!CF8="x",Hoja1!$CF$2,IF(Hoja1!CG8="x",Hoja1!$CG$2,IF(Hoja1!CH8="x",Hoja1!$CH$2,""))))),"")
A9: 7 | B9: =IF(I62="SI",IF(Hoja1!B9="x",Hoja1!$B$2,IF(Hoja1!C9="x",Hoja1!$C$2,IF(Hoja1!D9="x",Hoja1!$D$2,IF(Hoja1!E9="x",Hoja1!$E$2,IF(Hoja1!F9="x",Hoja1!$F$2,""))))),"") | C9: =IF(I43="SI",IF(Hoja1!B9="x",Hoja1!$B$2,IF(Hoja1!C9="x",Hoja1!$C$2,IF(Hoja1!D9="x",Hoja1!$D$2,IF(Hoja1!E9="x",Hoja1!$E$2,IF(Hoja1!F9="x",Hoja1!$F$2,""))))),"") | D9: =IF(I44="SI",IF(Hoja1!B9="x",Hoja1!$B$2,IF(Hoja1!C9="x",Hoja1!$C$2,IF(Hoja1!D9="x",Hoja1!$D$2,IF(Hoja1!E9="x",Hoja1!$E$2,IF(Hoja1!F9="x",Hoja1!$F$2,""))))),"") | E9: =IF(I$82="SI",IF(Hoja1!B9="x",Hoja1!$B$2,IF(Hoja1!C9="x",Hoja1!$C$2,IF(Hoja1!D9="x",Hoja1!$D$2,IF(Hoja1!E9="x",Hoja1!$E$2,IF(Hoja1!F9="x",Hoja1!$F$2,""))))),"") | F9: =IF(I$84="SI",IF(Hoja1!B9="x",Hoja1!$B$2,IF(Hoja1!C9="x",Hoja1!$C$2,IF(Hoja1!D9="x",Hoja1!$D$2,IF(Hoja1!E9="x",Hoja1!$E$2,IF(Hoja1!F9="x",Hoja1!$F$2,""))))),"") | G9: =IF(I$70="SI",IF(Hoja1!B9="x",Hoja1!$B$2,IF(Hoja1!C9="x",Hoja1!$C$2,IF(Hoja1!D9="x",Hoja1!$D$2,IF(Hoja1!E9="x",Hoja1!$E$2,IF(Hoja1!F9="x",Hoja1!$F$2,""))))),"") | H9: =IF(I$82="SI",IF(Hoja1!G9="x",Hoja1!$G$2,IF(Hoja1!H9="x",Hoja1!$H$2,IF(Hoja1!I9="x",Hoja1!$I$2,IF(Hoja1!J9="x",Hoja1!$J$2,IF(Hoja1!K9="x",Hoja1!$K$2,""))))),"") | I9: =IF(I$85="SI",IF(Hoja1!G9="x",Hoja1!$G$2,IF(Hoja1!H9="x",Hoja1!$H$2,IF(Hoja1!I9="x",Hoja1!$I$2,IF(Hoja1!J9="x",Hoja1!$J$2,IF(Hoja1!K9="x",Hoja1!$K$2,""))))),"") | J9: =IF(I$86="SI",IF(Hoja1!G9="x",Hoja1!$G$2,IF(Hoja1!H9="x",Hoja1!$H$2,IF(Hoja1!I9="x",Hoja1!$I$2,IF(Hoja1!J9="x",Hoja1!$J$2,IF(Hoja1!K9="x",Hoja1!$K$2,""))))),"") | K9: =IF(I$87="SI",IF(Hoja1!G9="x",Hoja1!$G$2,IF(Hoja1!H9="x",Hoja1!$H$2,IF(Hoja1!I9="x",Hoja1!$I$2,IF(Hoja1!J9="x",Hoja1!$J$2,IF(Hoja1!K9="x",Hoja1!$K$2,""))))),"") | L9: =IF(I$64="SI",IF(Hoja1!G9="x",Hoja1!$G$2,IF(Hoja1!H9="x",Hoja1!$H$2,IF(Hoja1!I9="x",Hoja1!$I$2,IF(Hoja1!J9="x",Hoja1!$J$2,IF(Hoja1!K9="x",Hoja1!$K$2,""))))),"") | M9: =IF(I$73="SI",IF(Hoja1!G9="x",Hoja1!$G$2,IF(Hoja1!H9="x",Hoja1!$H$2,IF(Hoja1!I9="x",Hoja1!$I$2,IF(Hoja1!J9="x",Hoja1!$J$2,IF(Hoja1!K9="x",Hoja1!$K$2,""))))),"") | N9: =IF(I$74="SI",IF(Hoja1!G9="x",Hoja1!$G$2,IF(Hoja1!H9="x",Hoja1!$H$2,IF(Hoja1!I9="x",Hoja1!$I$2,IF(Hoja1!J9="x",Hoja1!$J$2,IF(Hoja1!K9="x",Hoja1!$K$2,""))))),"") | O9: =IF(I$60="SI",IF(Hoja1!L9="x",Hoja1!$L$2,IF(Hoja1!M9="x",Hoja1!$M$2,IF(Hoja1!N9="x",Hoja1!$N$2,IF(Hoja1!O9="x",Hoja1!$O$2,IF(Hoja1!P9="x",Hoja1!$P$2,""))))),"") -> O | P9: =IF(I$80="SI",IF(Hoja1!L9="x",Hoja1!$L$2,IF(Hoja1!M9="x",Hoja1!$M$2,IF(Hoja1!N9="x",Hoja1!$N$2,IF(Hoja1!O9="x",Hoja1!$O$2,IF(Hoja1!P9="x",Hoja1!$P$2,""))))),"") -> O | Q9: =IF(I$43="SI",IF(Hoja1!L9="x",Hoja1!$L$2,IF(Hoja1!M9="x",Hoja1!$M$2,IF(Hoja1!N9="x",Hoja1!$N$2,IF(Hoja1!O9="x",Hoja1!$O$2,IF(Hoja1!P9="x",Hoja1!$P$2,""))))),"") -> O | R9: =IF(I$82="SI",IF(Hoja1!L9="x",Hoja1!$L$2,IF(Hoja1!M9="x",Hoja1!$M$2,IF(Hoja1!N9="x",Hoja1!$N$2,IF(Hoja1!O9="x",Hoja1!$O$2,IF(Hoja1!P9="x",Hoja1!$P$2,""))))),"") -> O | S9: =IF(I$76="SI",IF(Hoja1!L9="x",Hoja1!$L$2,IF(Hoja1!M9="x",Hoja1!$M$2,IF(Hoja1!N9="x",Hoja1!$N$2,IF(Hoja1!O9="x",Hoja1!$O$2,IF(Hoja1!P9="x",Hoja1!$P$2,""))))),"") -> O | T9: =IF(I$77="SI",IF(Hoja1!L9="x",Hoja1!$L$2,IF(Hoja1!M9="x",Hoja1!$M$2,IF(Hoja1!N9="x",Hoja1!$N$2,IF(Hoja1!O9="x",Hoja1!$O$2,IF(Hoja1!P9="x",Hoja1!$P$2,""))))),"") -> O | U9: =IF(I$78="SI",IF(Hoja1!L9="x",Hoja1!$L$2,IF(Hoja1!M9="x",Hoja1!$M$2,IF(Hoja1!N9="x",Hoja1!$N$2,IF(Hoja1!O9="x",Hoja1!$O$2,IF(Hoja1!P9="x",Hoja1!$P$2,""))))),"") -> O | V9: =IF(I$60="SI",IF(Hoja1!Q9="x",Hoja1!$Q$2,IF(Hoja1!R9="x",Hoja1!$R$2,IF(Hoja1!S9="x",Hoja1!$S$2,IF(Hoja1!T9="x",Hoja1!$T$2,IF(Hoja1!U9="x",Hoja1!$U$2,""))))),"") -> O | W9: =IF(I$61="SI",IF(Hoja1!Q9="x",Hoja1!$Q$2,IF(Hoja1!R9="x",Hoja1!$R$2,IF(Hoja1!S9="x",Hoja1!$S$2,IF(Hoja1!T9="x",Hoja1!$T$2,IF(Hoja1!U9="x",Hoja1!$U$2,""))))),"") -> O | X9: =IF(I$62="SI",IF(Hoja1!Q9="x",Hoja1!$Q$2,IF(Hoja1!R9="x",Hoja1!$R$2,IF(Hoja1!S9="x",Hoja1!$S$2,IF(Hoja1!T9="x",Hoja1!$T$2,IF(Hoja1!U9="x",Hoja1!$U$2,""))))),"") -> O | Y9: =IF(I$79="SI",IF(Hoja1!Q9="x",Hoja1!$Q$2,IF(Hoja1!R9="x",Hoja1!$R$2,IF(Hoja1!S9="x",Hoja1!$S$2,IF(Hoja1!T9="x",Hoja1!$T$2,IF(Hoja1!U9="x",Hoja1!$U$2,""))))),"") -> O | Z9: =IF(I$81="SI",IF(Hoja1!Q9="x",Hoja1!$Q$2,IF(Hoja1!R9="x",Hoja1!$R$2,IF(Hoja1!S9="x",Hoja1!$S$2,IF(Hoja1!T9="x",Hoja1!$T$2,IF(Hoja1!U9="x",Hoja1!$U$2,""))))),"") -> O | AA9: =IF(I$63="SI",IF(Hoja1!Q9="x",Hoja1!$Q$2,IF(Hoja1!R9="x",Hoja1!$R$2,IF(Hoja1!S9="x",Hoja1!$S$2,IF(Hoja1!T9="x",Hoja1!$T$2,IF(Hoja1!U9="x",Hoja1!$U$2,""))))),"") -> O | AB9: =IF(I$64="SI",IF(Hoja1!Q9="x",Hoja1!$Q$2,IF(Hoja1!R9="x",Hoja1!$R$2,IF(Hoja1!S9="x",Hoja1!$S$2,IF(Hoja1!T9="x",Hoja1!$T$2,IF(Hoja1!U9="x",Hoja1!$U$2,""))))),"") -> O | AC9: =IF(I$65="SI",IF(Hoja1!Q9="x",Hoja1!$Q$2,IF(Hoja1!R9="x",Hoja1!$R$2,IF(Hoja1!S9="x",Hoja1!$S$2,IF(Hoja1!T9="x",Hoja1!$T$2,IF(Hoja1!U9="x",Hoja1!$U$2,""))))),"") -> O | AD9: =IF(I45="SI",IF(Hoja1!V9="x",Hoja1!$V$2,IF(Hoja1!W9="x",Hoja1!$W$2,IF(Hoja1!X9="x",Hoja1!$X$2,IF(Hoja1!Y9="x",Hoja1!$Y$2,IF(Hoja1!Z9="x",Hoja1!$Z$2,""))))),"") | AE9: =IF(I$53="SI",IF(Hoja1!V9="x",Hoja1!$V$2,IF(Hoja1!W9="x",Hoja1!$W$2,IF(Hoja1!X9="x",Hoja1!$X$2,IF(Hoja1!Y9="x",Hoja1!$Y$2,IF(Hoja1!Z9="x",Hoja1!$Z$2,""))))),"") | AF9: =IF(I$43="SI",IF(Hoja1!AA9="x",Hoja1!$AA$2,IF(Hoja1!AB9="x",Hoja1!$AB$2,IF(Hoja1!AC9="x",Hoja1!$AC$2,IF(Hoja1!AD9="x",Hoja1!$AD$2,IF(Hoja1!AE9="x",Hoja1!$AE$2,""))))),"") | AG9: =IF(I$54="SI",IF(Hoja1!AA9="x",Hoja1!$AA$2,IF(Hoja1!AB9="x",Hoja1!$AB$2,IF(Hoja1!AC9="x",Hoja1!$AC$2,IF(Hoja1!AD9="x",Hoja1!$AD$2,IF(Hoja1!AE9="x",Hoja1!$AE$2,""))))),"") | AH9: =IF(I$88="SI",IF(Hoja1!AF9="x",Hoja1!$AF$2,IF(Hoja1!AG9="x",Hoja1!$AG$2,IF(Hoja1!AH9="x",Hoja1!$AH$2,IF(Hoja1!AI9="x",Hoja1!$AI$2,IF(Hoja1!AJ9="x",Hoja1!$AJ$2,""))))),"") | AI9: =IF(I$48="SI",IF(Hoja1!AF9="x",Hoja1!$AF$2,IF(Hoja1!AG9="x",Hoja1!$AG$2,IF(Hoja1!AH9="x",Hoja1!$AH$2,IF(Hoja1!AI9="x",Hoja1!$AI$2,IF(Hoja1!AJ9="x",Hoja1!$AJ$2,""))))),"") | AJ9: =IF(I$51="SI",IF(Hoja1!AF9="x",Hoja1!$AF$2,IF(Hoja1!AG9="x",Hoja1!$AG$2,IF(Hoja1!AH9="x",Hoja1!$AH$2,IF(Hoja1!AI9="x",Hoja1!$AI$2,IF(Hoja1!AJ9="x",Hoja1!$AJ$2,""))))),"") | AK9: =IF(I$88="SI",IF(Hoja1!AK9="x",Hoja1!$AK$2,IF(Hoja1!AL9="x",Hoja1!$AL$2,IF(Hoja1!AM9="x",Hoja1!$AM$2,IF(Hoja1!AN9="x",Hoja1!$AN$2,IF(Hoja1!AO9="x",Hoja1!$AO$2,""))))),"") | AL9: =IF(I$48="SI",IF(Hoja1!AK9="x",Hoja1!$AK$2,IF(Hoja1!AL9="x",Hoja1!$AL$2,IF(Hoja1!AM9="x",Hoja1!$AM$2,IF(Hoja1!AN9="x",Hoja1!$AN$2,IF(Hoja1!AO9="x",Hoja1!$AO$2,""))))),"") | AM9: =IF(I$49="SI",IF(Hoja1!AK9="x",Hoja1!$AK$2,IF(Hoja1!AL9="x",Hoja1!$AL$2,IF(Hoja1!AM9="x",Hoja1!$AM$2,IF(Hoja1!AN9="x",Hoja1!$AN$2,IF(Hoja1!AO9="x",Hoja1!$AO$2,""))))),"") | AN9: =IF(I$50="SI",IF(Hoja1!AK9="x",Hoja1!$AK$2,IF(Hoja1!AL9="x",Hoja1!$AL$2,IF(Hoja1!AM9="x",Hoja1!$AM$2,IF(Hoja1!AN9="x",Hoja1!$AN$2,IF(Hoja1!AO9="x",Hoja1!$AO$2,""))))),"") | AO9: =IF(I$59="SI",IF(Hoja1!AP9="x",Hoja1!$AP$2,IF(Hoja1!AQ9="x",Hoja1!$AQ$2,IF(Hoja1!AR9="x",Hoja1!$AR$2,IF(Hoja1!AS9="x",Hoja1!$AS$2,IF(Hoja1!AT9="x",Hoja1!$AT$2,""))))),"") | AP9: =IF(I$80="SI",IF(Hoja1!AP9="x",Hoja1!$AP$2,IF(Hoja1!AQ9="x",Hoja1!$AQ$2,IF(Hoja1!AR9="x",Hoja1!$AR$2,IF(Hoja1!AS9="x",Hoja1!$AS$2,IF(Hoja1!AT9="x",Hoja1!$AT$2,""))))),"") | AQ9: =IF(I$89="SI",IF(Hoja1!AP9="x",Hoja1!$AP$2,IF(Hoja1!AQ9="x",Hoja1!$AQ$2,IF(Hoja1!AR9="x",Hoja1!$AR$2,IF(Hoja1!AS9="x",Hoja1!$AS$2,IF(Hoja1!AT9="x",Hoja1!$AT$2,""))))),"") | AR9: =IF(I$83="SI",IF(Hoja1!AU9="x",Hoja1!$AU$2,IF(Hoja1!AV9="x",Hoja1!$AV$2,IF(Hoja1!AW9="x",Hoja1!$AW$2,IF(Hoja1!AX9="x",Hoja1!$AX$2,IF(Hoja1!AY9="x",Hoja1!$AY$2,""))))),"") | AS9: =IF(I$55="SI",IF(Hoja1!AU9="x",Hoja1!$AU$2,IF(Hoja1!AV9="x",Hoja1!$AV$2,IF(Hoja1!AW9="x",Hoja1!$AW$2,IF(Hoja1!AX9="x",Hoja1!$AX$2,IF(Hoja1!AY9="x",Hoja1!$AY$2,""))))),"") | AT9: =IF(I$57="SI",IF(Hoja1!AU9="x",Hoja1!$AU$2,IF(Hoja1!AV9="x",Hoja1!$AV$2,IF(Hoja1!AW9="x",Hoja1!$AW$2,IF(Hoja1!AX9="x",Hoja1!$AX$2,IF(Hoja1!AY9="x",Hoja1!$AY$2,""))))),"") | AU9: =IF(I$47="SI",IF(Hoja1!AZ9="x",Hoja1!$AZ$2,IF(Hoja1!BA9="x",Hoja1!$BA$2,IF(Hoja1!BB9="x",Hoja1!$BB$2,IF(Hoja1!BC9="x",Hoja1!$BC$2,IF(Hoja1!BD9="x",Hoja1!$BD$2,""))))),"") -> B | AV9: =IF(I$62="SI",IF(Hoja1!AZ9="x",Hoja1!$AZ$2,IF(Hoja1!BA9="x",Hoja1!$BA$2,IF(Hoja1!BB9="x",Hoja1!$BB$2,IF(Hoja1!BC9="x",Hoja1!$BC$2,IF(Hoja1!BD9="x",Hoja1!$BD$2,""))))),"") -> B | AW9: =IF(I$83="SI",IF(Hoja1!AZ9="x",Hoja1!$AZ$2,IF(Hoja1!BA9="x",Hoja1!$BA$2,IF(Hoja1!BB9="x",Hoja1!$BB$2,IF(Hoja1!BC9="x",Hoja1!$BC$2,IF(Hoja1!BD9="x",Hoja1!$BD$2,""))))),"") -> B | AX9: =IF(I$84="SI",IF(Hoja1!AZ9="x",Hoja1!$AZ$2,IF(Hoja1!BA9="x",Hoja1!$BA$2,IF(Hoja1!BB9="x",Hoja1!$BB$2,IF(Hoja1!BC9="x",Hoja1!$BC$2,IF(Hoja1!BD9="x",Hoja1!$BD$2,""))))),"") -> B | AY9: =IF(I$86="SI",IF(Hoja1!AZ9="x",Hoja1!$AZ$2,IF(Hoja1!BA9="x",Hoja1!$BA$2,IF(Hoja1!BB9="x",Hoja1!$BB$2,IF(Hoja1!BC9="x",Hoja1!$BC$2,IF(Hoja1!BD9="x",Hoja1!$BD$2,""))))),"") -> B | AZ9: =IF(I$46="SI",IF(Hoja1!BE9="x",Hoja1!$BE$2,IF(Hoja1!BF9="x",Hoja1!$BF$2,IF(Hoja1!BG9="x",Hoja1!$BG$2,IF(Hoja1!BH9="x",Hoja1!$BH$2,IF(Hoja1!BI9="x",Hoja1!$BI$2,""))))),"") -> B | BA9: =IF(I$84="SI",IF(Hoja1!BE9="x",Hoja1!$BE$2,IF(Hoja1!BF9="x",Hoja1!$BF$2,IF(Hoja1!BG9="x",Hoja1!$BG$2,IF(Hoja1!BH9="x",Hoja1!$BH$2,IF(Hoja1!BI9="x",Hoja1!$BI$2,""))))),"") -> B | BB9: =IF(I$45="SI",IF(Hoja1!BJ9="x",Hoja1!$BJ$2,IF(Hoja1!BK9="x",Hoja1!$BK$2,IF(Hoja1!BL9="x",Hoja1!$BL$2,IF(Hoja1!BM9="x",Hoja1!$BM$2,IF(Hoja1!BN9="x",Hoja1!$BN$2,""))))),"") | BC9: =IF(I$56="SI",IF(Hoja1!BJ9="x",Hoja1!$BJ$2,IF(Hoja1!BK9="x",Hoja1!$BK$2,IF(Hoja1!BL9="x",Hoja1!$BL$2,IF(Hoja1!BM9="x",Hoja1!$BM$2,IF(Hoja1!BN9="x",Hoja1!$BN$2,""))))),"") | BD9: =IF(I$59="SI",IF(Hoja1!BJ9="x",Hoja1!$BJ$2,IF(Hoja1!BK9="x",Hoja1!$BK$2,IF(Hoja1!BL9="x",Hoja1!$BL$2,IF(Hoja1!BM9="x",Hoja1!$BM$2,IF(Hoja1!BN9="x",Hoja1!$BN$2,""))))),"") | BE9: =IF(I$62="SI",IF(Hoja1!BJ9="x",Hoja1!$BJ$2,IF(Hoja1!BK9="x",Hoja1!$BK$2,IF(Hoja1!BL9="x",Hoja1!$BL$2,IF(Hoja1!BM9="x",Hoja1!$BM$2,IF(Hoja1!BN9="x",Hoja1!$BN$2,""))))),"") | BF9: =IF(I$52="SI",IF(Hoja1!BJ9="x",Hoja1!$BJ$2,IF(Hoja1!BK9="x",Hoja1!$BK$2,IF(Hoja1!BL9="x",Hoja1!$BL$2,IF(Hoja1!BM9="x",Hoja1!$BM$2,IF(Hoja1!BN9="x",Hoja1!$BN$2,""))))),"") | BG9: =IF(I$75="SI",IF(Hoja1!BJ9="x",Hoja1!$BJ$2,IF(Hoja1!BK9="x",Hoja1!$BK$2,IF(Hoja1!BL9="x",Hoja1!$BL$2,IF(Hoja1!BM9="x",Hoja1!$BM$2,IF(Hoja1!BN9="x",Hoja1!$BN$2,""))))),"") | BH9: =IF(I$71="SI",IF(Hoja1!BO9="x",Hoja1!$BO$2,IF(Hoja1!BP9="x",Hoja1!$BP$2,IF(Hoja1!BQ9="x",Hoja1!$BQ$2,IF(Hoja1!BR9="x",Hoja1!$BR$2,IF(Hoja1!BS9="x",Hoja1!$BS$2,""))))),"") | BI9: =IF(I$72="SI",IF(Hoja1!BO9="x",Hoja1!$BO$2,IF(Hoja1!BP9="x",Hoja1!$BP$2,IF(Hoja1!BQ9="x",Hoja1!$BQ$2,IF(Hoja1!BR9="x",Hoja1!$BR$2,IF(Hoja1!BS9="x",Hoja1!$BS$2,""))))),"") | BJ9: =IF(I$58="SI",IF(Hoja1!BO9="x",Hoja1!$BO$2,IF(Hoja1!BP9="x",Hoja1!$BP$2,IF(Hoja1!BQ9="x",Hoja1!$BQ$2,IF(Hoja1!BR9="x",Hoja1!$BR$2,IF(Hoja1!BS9="x",Hoja1!$BS$2,""))))),"") | BK9: =IF(I$67="SI",IF(Hoja1!BT9="x",Hoja1!$BT$2,IF(Hoja1!BU9="x",Hoja1!$BU$2,IF(Hoja1!BV9="x",Hoja1!$BV$2,IF(Hoja1!BW9="x",Hoja1!$BW$2,IF(Hoja1!BX9="x",Hoja1!$BX$2,""))))),"") | BL9: =IF(I$68="SI",IF(Hoja1!BT9="x",Hoja1!$BT$2,IF(Hoja1!BU9="x",Hoja1!$BU$2,IF(Hoja1!BV9="x",Hoja1!$BV$2,IF(Hoja1!BW9="x",Hoja1!$BW$2,IF(Hoja1!BX9="x",Hoja1!$BX$2,""))))),"") | BM9: =IF(I$90="SI",IF(Hoja1!BT9="x",Hoja1!$BT$2,IF(Hoja1!BU9="x",Hoja1!$BU$2,IF(Hoja1!BV9="x",Hoja1!$BV$2,IF(Hoja1!BW9="x",Hoja1!$BW$2,IF(Hoja1!BX9="x",Hoja1!$BX$2,""))))),"") | BN9: =IF(I$91="SI",IF(Hoja1!BT9="x",Hoja1!$BT$2,IF(Hoja1!BU9="x",Hoja1!$BU$2,IF(Hoja1!BV9="x",Hoja1!$BV$2,IF(Hoja1!BW9="x",Hoja1!$BW$2,IF(Hoja1!BX9="x",Hoja1!$BX$2,""))))),"") | BO9: =IF(I$92="SI",IF(Hoja1!BT9="x",Hoja1!$BT$2,IF(Hoja1!BU9="x",Hoja1!$BU$2,IF(Hoja1!BV9="x",Hoja1!$BV$2,IF(Hoja1!BW9="x",Hoja1!$BW$2,IF(Hoja1!BX9="x",Hoja1!$BX$2,""))))),"") | BP9: =IF(I$67="SI",IF(Hoja1!BY9="x",Hoja1!$BY$2,IF(Hoja1!BZ9="x",Hoja1!$BZ$2,IF(Hoja1!CA9="x",Hoja1!$CA$2,IF(Hoja1!CB9="x",Hoja1!$CB$2,IF(Hoja1!CC9="x",Hoja1!$CC$2,""))))),"") | BQ9: =IF(I$68="SI",IF(Hoja1!BY9="x",Hoja1!$BY$2,IF(Hoja1!BZ9="x",Hoja1!$BZ$2,IF(Hoja1!CA9="x",Hoja1!$CA$2,IF(Hoja1!CB9="x",Hoja1!$CB$2,IF(Hoja1!CC9="x",Hoja1!$CC$2,""))))),"") | BR9: =IF(I$69="SI",IF(Hoja1!BY9="x",Hoja1!$BY$2,IF(Hoja1!BZ9="x",Hoja1!$BZ$2,IF(Hoja1!CA9="x",Hoja1!$CA$2,IF(Hoja1!CB9="x",Hoja1!$CB$2,IF(Hoja1!CC9="x",Hoja1!$CC$2,""))))),"") | BS9: =IF(I$90="SI",IF(Hoja1!BY9="x",Hoja1!$BY$2,IF(Hoja1!BZ9="x",Hoja1!$BZ$2,IF(Hoja1!CA9="x",Hoja1!$CA$2,IF(Hoja1!CB9="x",Hoja1!$CB$2,IF(Hoja1!CC9="x",Hoja1!$CC$2,""))))),"") | BT9: =IF(I$91="SI",IF(Hoja1!BY9="x",Hoja1!$BY$2,IF(Hoja1!BZ9="x",Hoja1!$BZ$2,IF(Hoja1!CA9="x",Hoja1!$CA$2,IF(Hoja1!CB9="x",Hoja1!$CB$2,IF(Hoja1!CC9="x",Hoja1!$CC$2,""))))),"") | BU9: =IF(I$92="SI",IF(Hoja1!BY9="x",Hoja1!$BY$2,IF(Hoja1!BZ9="x",Hoja1!$BZ$2,IF(Hoja1!CA9="x",Hoja1!$CA$2,IF(Hoja1!CB9="x",Hoja1!$CB$2,IF(Hoja1!CC9="x",Hoja1!$CC$2,""))))),"") | BV9: =IF(I$59="SI",IF(Hoja1!CD9="x",Hoja1!$CD$2,IF(Hoja1!CE9="x",Hoja1!$CE$2,IF(Hoja1!CF9="x",Hoja1!$CF$2,IF(Hoja1!CG9="x",Hoja1!$CG$2,IF(Hoja1!CH9="x",Hoja1!$CH$2,""))))),"") | BW9: =IF(I$67="SI",IF(Hoja1!CD9="x",Hoja1!$CD$2,IF(Hoja1!CE9="x",Hoja1!$CE$2,IF(Hoja1!CF9="x",Hoja1!$CF$2,IF(Hoja1!CG9="x",Hoja1!$CG$2,IF(Hoja1!CH9="x",Hoja1!$CH$2,""))))),"") | BX9: =IF(I$68="SI",IF(Hoja1!CD9="x",Hoja1!$CD$2,IF(Hoja1!CE9="x",Hoja1!$CE$2,IF(Hoja1!CF9="x",Hoja1!$CF$2,IF(Hoja1!CG9="x",Hoja1!$CG$2,IF(Hoja1!CH9="x",Hoja1!$CH$2,""))))),"") | BY9: =IF(I$69="SI",IF(Hoja1!CD9="x",Hoja1!$CD$2,IF(Hoja1!CE9="x",Hoja1!$CE$2,IF(Hoja1!CF9="x",Hoja1!$CF$2,IF(Hoja1!CG9="x",Hoja1!$CG$2,IF(Hoja1!CH9="x",Hoja1!$CH$2,""))))),"") | BZ9: =IF(I$90="SI",IF(Hoja1!CD9="x",Hoja1!$CD$2,IF(Hoja1!CE9="x",Hoja1!$CE$2,IF(Hoja1!CF9="x",Hoja1!$CF$2,IF(Hoja1!CG9="x",Hoja1!$CG$2,IF(Hoja1!CH9="x",Hoja1!$CH$2,""))))),"") | CA9: =IF(I$91="SI",IF(Hoja1!CD9="x",Hoja1!$CD$2,IF(Hoja1!CE9="x",Hoja1!$CE$2,IF(Hoja1!CF9="x",Hoja1!$CF$2,IF(Hoja1!CG9="x",Hoja1!$CG$2,IF(Hoja1!CH9="x",Hoja1!$CH$2,""))))),"") | CB9: =IF(I$92="SI",IF(Hoja1!CD9="x",Hoja1!$CD$2,IF(Hoja1!CE9="x",Hoja1!$CE$2,IF(Hoja1!CF9="x",Hoja1!$CF$2,IF(Hoja1!CG9="x",Hoja1!$CG$2,IF(Hoja1!CH9="x",Hoja1!$CH$2,""))))),"") | CC9: =IF(I$69="SI",IF(Hoja1!CD9="x",Hoja1!$CD$2,IF(Hoja1!CE9="x",Hoja1!$CE$2,IF(Hoja1!CF9="x",Hoja1!$CF$2,IF(Hoja1!CG9="x",Hoja1!$CG$2,IF(Hoja1!CH9="x",Hoja1!$CH$2,""))))),"") | CD9: =IF(I$90="SI",IF(Hoja1!CD9="x",Hoja1!$CD$2,IF(Hoja1!CE9="x",Hoja1!$CE$2,IF(Hoja1!CF9="x",Hoja1!$CF$2,IF(Hoja1!CG9="x",Hoja1!$CG$2,IF(Hoja1!CH9="x",Hoja1!$CH$2,""))))),"") | CE9: =IF(I$91="SI",IF(Hoja1!CD9="x",Hoja1!$CD$2,IF(Hoja1!CE9="x",Hoja1!$CE$2,IF(Hoja1!CF9="x",Hoja1!$CF$2,IF(Hoja1!CG9="x",Hoja1!$CG$2,IF(Hoja1!CH9="x",Hoja1!$CH$2,""))))),"") | CF9: =IF(I$92="SI",IF(Hoja1!CD9="x",Hoja1!$CD$2,IF(Hoja1!CE9="x",Hoja1!$CE$2,IF(Hoja1!CF9="x",Hoja1!$CF$2,IF(Hoja1!CG9="x",Hoja1!$CG$2,IF(Hoja1!CH9="x",Hoja1!$CH$2,""))))),"")
A10: 8 | B10: =IF(J62="SI",IF(Hoja1!B10="x",Hoja1!$B$2,IF(Hoja1!C10="x",Hoja1!$C$2,IF(Hoja1!D10="x",Hoja1!$D$2,IF(Hoja1!E10="x",Hoja1!$E$2,IF(Hoja1!F10="x",Hoja1!$F$2,""))))),"") -> B | C10: =IF(J43="SI",IF(Hoja1!B10="x",Hoja1!$B$2,IF(Hoja1!C10="x",Hoja1!$C$2,IF(Hoja1!D10="x",Hoja1!$D$2,IF(Hoja1!E10="x",Hoja1!$E$2,IF(Hoja1!F10="x",Hoja1!$F$2,""))))),"") -> B | D10: =IF(J44="SI",IF(Hoja1!B10="x",Hoja1!$B$2,IF(Hoja1!C10="x",Hoja1!$C$2,IF(Hoja1!D10="x",Hoja1!$D$2,IF(Hoja1!E10="x",Hoja1!$E$2,IF(Hoja1!F10="x",Hoja1!$F$2,""))))),"") -> B | E10: =IF(J$82="SI",IF(Hoja1!B10="x",Hoja1!$B$2,IF(Hoja1!C10="x",Hoja1!$C$2,IF(Hoja1!D10="x",Hoja1!$D$2,IF(Hoja1!E10="x",Hoja1!$E$2,IF(Hoja1!F10="x",Hoja1!$F$2,""))))),"") -> B | F10: =IF(J$84="SI",IF(Hoja1!B10="x",Hoja1!$B$2,IF(Hoja1!C10="x",Hoja1!$C$2,IF(Hoja1!D10="x",Hoja1!$D$2,IF(Hoja1!E10="x",Hoja1!$E$2,IF(Hoja1!F10="x",Hoja1!$F$2,""))))),"") -> B | G10: =IF(J$70="SI",IF(Hoja1!B10="x",Hoja1!$B$2,IF(Hoja1!C10="x",Hoja1!$C$2,IF(Hoja1!D10="x",Hoja1!$D$2,IF(Hoja1!E10="x",Hoja1!$E$2,IF(Hoja1!F10="x",Hoja1!$F$2,""))))),"") -> B | H10: =IF(J$82="SI",IF(Hoja1!G10="x",Hoja1!$G$2,IF(Hoja1!H10="x",Hoja1!$H$2,IF(Hoja1!I10="x",Hoja1!$I$2,IF(Hoja1!J10="x",Hoja1!$J$2,IF(Hoja1!K10="x",Hoja1!$K$2,""))))),"") | I10: =IF(J$85="SI",IF(Hoja1!G10="x",Hoja1!$G$2,IF(Hoja1!H10="x",Hoja1!$H$2,IF(Hoja1!I10="x",Hoja1!$I$2,IF(Hoja1!J10="x",Hoja1!$J$2,IF(Hoja1!K10="x",Hoja1!$K$2,""))))),"") | J10: =IF(J$86="SI",IF(Hoja1!G10="x",Hoja1!$G$2,IF(Hoja1!H10="x",Hoja1!$H$2,IF(Hoja1!I10="x",Hoja1!$I$2,IF(Hoja1!J10="x",Hoja1!$J$2,IF(Hoja1!K10="x",Hoja1!$K$2,""))))),"") | K10: =IF(J$87="SI",IF(Hoja1!G10="x",Hoja1!$G$2,IF(Hoja1!H10="x",Hoja1!$H$2,IF(Hoja1!I10="x",Hoja1!$I$2,IF(Hoja1!J10="x",Hoja1!$J$2,IF(Hoja1!K10="x",Hoja1!$K$2,""))))),"") | L10: =IF(J$64="SI",IF(Hoja1!G10="x",Hoja1!$G$2,IF(Hoja1!H10="x",Hoja1!$H$2,IF(Hoja1!I10="x",Hoja1!$I$2,IF(Hoja1!J10="x",Hoja1!$J$2,IF(Hoja1!K10="x",Hoja1!$K$2,""))))),"") | M10: =IF(J$73="SI",IF(Hoja1!G10="x",Hoja1!$G$2,IF(Hoja1!H10="x",Hoja1!$H$2,IF(Hoja1!I10="x",Hoja1!$I$2,IF(Hoja1!J10="x",Hoja1!$J$2,IF(Hoja1!K10="x",Hoja1!$K$2,""))))),"") | N10: =IF(J$74="SI",IF(Hoja1!G10="x",Hoja1!$G$2,IF(Hoja1!H10="x",Hoja1!$H$2,IF(Hoja1!I10="x",Hoja1!$I$2,IF(Hoja1!J10="x",Hoja1!$J$2,IF(Hoja1!K10="x",Hoja1!$K$2,""))))),"") | O10: =IF(J$60="SI",IF(Hoja1!L10="x",Hoja1!$L$2,IF(Hoja1!M10="x",Hoja1!$M$2,IF(Hoja1!N10="x",Hoja1!$N$2,IF(Hoja1!O10="x",Hoja1!$O$2,IF(Hoja1!P10="x",Hoja1!$P$2,""))))),"") -> O | P10: =IF(J$80="SI",IF(Hoja1!L10="x",Hoja1!$L$2,IF(Hoja1!M10="x",Hoja1!$M$2,IF(Hoja1!N10="x",Hoja1!$N$2,IF(Hoja1!O10="x",Hoja1!$O$2,IF(Hoja1!P10="x",Hoja1!$P$2,""))))),"") -> O | Q10: =IF(J$43="SI",IF(Hoja1!L10="x",Hoja1!$L$2,IF(Hoja1!M10="x",Hoja1!$M$2,IF(Hoja1!N10="x",Hoja1!$N$2,IF(Hoja1!O10="x",Hoja1!$O$2,IF(Hoja1!P10="x",Hoja1!$P$2,""))))),"") -> O | R10: =IF(J$82="SI",IF(Hoja1!L10="x",Hoja1!$L$2,IF(Hoja1!M10="x",Hoja1!$M$2,IF(Hoja1!N10="x",Hoja1!$N$2,IF(Hoja1!O10="x",Hoja1!$O$2,IF(Hoja1!P10="x",Hoja1!$P$2,""))))),"") -> O | S10: =IF(J$76="SI",IF(Hoja1!L10="x",Hoja1!$L$2,IF(Hoja1!M10="x",Hoja1!$M$2,IF(Hoja1!N10="x",Hoja1!$N$2,IF(Hoja1!O10="x",Hoja1!$O$2,IF(Hoja1!P10="x",Hoja1!$P$2,""))))),"") -> O | T10: =IF(J$77="SI",IF(Hoja1!L10="x",Hoja1!$L$2,IF(Hoja1!M10="x",Hoja1!$M$2,IF(Hoja1!N10="x",Hoja1!$N$2,IF(Hoja1!O10="x",Hoja1!$O$2,IF(Hoja1!P10="x",Hoja1!$P$2,""))))),"") -> O | U10: =IF(J$78="SI",IF(Hoja1!L10="x",Hoja1!$L$2,IF(Hoja1!M10="x",Hoja1!$M$2,IF(Hoja1!N10="x",Hoja1!$N$2,IF(Hoja1!O10="x",Hoja1!$O$2,IF(Hoja1!P10="x",Hoja1!$P$2,""))))),"") -> O | V10: =IF(J$60="SI",IF(Hoja1!Q10="x",Hoja1!$Q$2,IF(Hoja1!R10="x",Hoja1!$R$2,IF(Hoja1!S10="x",Hoja1!$S$2,IF(Hoja1!T10="x",Hoja1!$T$2,IF(Hoja1!U10="x",Hoja1!$U$2,""))))),"") -> R | W10: =IF(J$61="SI",IF(Hoja1!Q10="x",Hoja1!$Q$2,IF(Hoja1!R10="x",Hoja1!$R$2,IF(Hoja1!S10="x",Hoja1!$S$2,IF(Hoja1!T10="x",Hoja1!$T$2,IF(Hoja1!U10="x",Hoja1!$U$2,""))))),"") -> R | X10: =IF(J$62="SI",IF(Hoja1!Q10="x",Hoja1!$Q$2,IF(Hoja1!R10="x",Hoja1!$R$2,IF(Hoja1!S10="x",Hoja1!$S$2,IF(Hoja1!T10="x",Hoja1!$T$2,IF(Hoja1!U10="x",Hoja1!$U$2,""))))),"") -> R | Y10: =IF(J$79="SI",IF(Hoja1!Q10="x",Hoja1!$Q$2,IF(Hoja1!R10="x",Hoja1!$R$2,IF(Hoja1!S10="x",Hoja1!$S$2,IF(Hoja1!T10="x",Hoja1!$T$2,IF(Hoja1!U10="x",Hoja1!$U$2,""))))),"") -> R | Z10: =IF(J$81="SI",IF(Hoja1!Q10="x",Hoja1!$Q$2,IF(Hoja1!R10="x",Hoja1!$R$2,IF(Hoja1!S10="x",Hoja1!$S$2,IF(Hoja1!T10="x",Hoja1!$T$2,IF(Hoja1!U10="x",Hoja1!$U$2,""))))),"") -> R | AA10: =IF(J$63="SI",IF(Hoja1!Q10="x",Hoja1!$Q$2,IF(Hoja1!R10="x",Hoja1!$R$2,IF(Hoja1!S10="x",Hoja1!$S$2,IF(Hoja1!T10="x",Hoja1!$T$2,IF(Hoja1!U10="x",Hoja1!$U$2,""))))),"") -> R | AB10: =IF(J$64="SI",IF(Hoja1!Q10="x",Hoja1!$Q$2,IF(Hoja1!R10="x",Hoja1!$R$2,IF(Hoja1!S10="x",Hoja1!$S$2,IF(Hoja1!T10="x",Hoja1!$T$2,IF(Hoja1!U10="x",Hoja1!$U$2,""))))),"") -> R | AC10: =IF(J$65="SI",IF(Hoja1!Q10="x",Hoja1!$Q$2,IF(Hoja1!R10="x",Hoja1!$R$2,IF(Hoja1!S10="x",Hoja1!$S$2,IF(Hoja1!T10="x",Hoja1!$T$2,IF(Hoja1!U10="x",Hoja1!$U$2,""))))),"") -> R | AD10: =IF(J45="SI",IF(Hoja1!V10="x",Hoja1!$V$2,IF(Hoja1!W10="x",Hoja1!$W$2,IF(Hoja1!X10="x",Hoja1!$X$2,IF(Hoja1!Y10="x",Hoja1!$Y$2,IF(Hoja1!AA10="x",Hoja1!$Z$2,""))))),"") | AE10: =IF(J$53="SI",IF(Hoja1!V10="x",Hoja1!$V$2,IF(Hoja1!W10="x",Hoja1!$W$2,IF(Hoja1!X10="x",Hoja1!$X$2,IF(Hoja1!Y10="x",Hoja1!$Y$2,IF(Hoja1!AA10="x",Hoja1!$Z$2,""))))),"") | AF10: =IF(J$43="SI",IF(Hoja1!AA10="x",Hoja1!$AA$2,IF(Hoja1!AB10="x",Hoja1!$AB$2,IF(Hoja1!AC10="x",Hoja1!$AC$2,IF(Hoja1!AD10="x",Hoja1!$AD$2,IF(Hoja1!AE10="x",Hoja1!$AE$2,""))))),"") | AG10: =IF(J$54="SI",IF(Hoja1!AA10="x",Hoja1!$AA$2,IF(Hoja1!AB10="x",Hoja1!$AB$2,IF(Hoja1!AC10="x",Hoja1!$AC$2,IF(Hoja1!AD10="x",Hoja1!$AD$2,IF(Hoja1!AE10="x",Hoja1!$AE$2,""))))),"") | AH10: =IF(J$88="SI",IF(Hoja1!AF10="x",Hoja1!$AF$2,IF(Hoja1!AG10="x",Hoja1!$AG$2,IF(Hoja1!AH10="x",Hoja1!$AH$2,IF(Hoja1!AI10="x",Hoja1!$AI$2,IF(Hoja1!AJ10="x",Hoja1!$AJ$2,""))))),"") | AI10: =IF(J$48="SI",IF(Hoja1!AF10="x",Hoja1!$AF$2,IF(Hoja1!AG10="x",Hoja1!$AG$2,IF(Hoja1!AH10="x",Hoja1!$AH$2,IF(Hoja1!AI10="x",Hoja1!$AI$2,IF(Hoja1!AJ10="x",Hoja1!$AJ$2,""))))),"") | AJ10: =IF(J$51="SI",IF(Hoja1!AF10="x",Hoja1!$AF$2,IF(Hoja1!AG10="x",Hoja1!$AG$2,IF(Hoja1!AH10="x",Hoja1!$AH$2,IF(Hoja1!AI10="x",Hoja1!$AI$2,IF(Hoja1!AJ10="x",Hoja1!$AJ$2,""))))),"") | AK10: =IF(J$88="SI",IF(Hoja1!AK10="x",Hoja1!$AK$2,IF(Hoja1!AL10="x",Hoja1!$AL$2,IF(Hoja1!AM10="x",Hoja1!$AM$2,IF(Hoja1!AN10="x",Hoja1!$AN$2,IF(Hoja1!AO10="x",Hoja1!$AO$2,""))))),"") | AL10: =IF(J$48="SI",IF(Hoja1!AK10="x",Hoja1!$AK$2,IF(Hoja1!AL10="x",Hoja1!$AL$2,IF(Hoja1!AM10="x",Hoja1!$AM$2,IF(Hoja1!AN10="x",Hoja1!$AN$2,IF(Hoja1!AO10="x",Hoja1!$AO$2,""))))),"") | AM10: =IF(J$49="SI",IF(Hoja1!AK10="x",Hoja1!$AK$2,IF(Hoja1!AL10="x",Hoja1!$AL$2,IF(Hoja1!AM10="x",Hoja1!$AM$2,IF(Hoja1!AN10="x",Hoja1!$AN$2,IF(Hoja1!AO10="x",Hoja1!$AO$2,""))))),"") | AN10: =IF(J$50="SI",IF(Hoja1!AK10="x",Hoja1!$AK$2,IF(Hoja1!AL10="x",Hoja1!$AL$2,IF(Hoja1!AM10="x",Hoja1!$AM$2,IF(Hoja1!AN10="x",Hoja1!$AN$2,IF(Hoja1!AO10="x",Hoja1!$AO$2,""))))),"") | AO10: =IF(J$59="SI",IF(Hoja1!AP10="x",Hoja1!$AP$2,IF(Hoja1!AQ10="x",Hoja1!$AQ$2,IF(Hoja1!AR10="x",Hoja1!$AR$2,IF(Hoja1!AS10="x",Hoja1!$AS$2,IF(Hoja1!AT10="x",Hoja1!$AT$2,""))))),"") | AP10: =IF(J$80="SI",IF(Hoja1!AP10="x",Hoja1!$AP$2,IF(Hoja1!AQ10="x",Hoja1!$AQ$2,IF(Hoja1!AR10="x",Hoja1!$AR$2,IF(Hoja1!AS10="x",Hoja1!$AS$2,IF(Hoja1!AT10="x",Hoja1!$AT$2,""))))),"") | AQ10: =IF(J$89="SI",IF(Hoja1!AP10="x",Hoja1!$AP$2,IF(Hoja1!AQ10="x",Hoja1!$AQ$2,IF(Hoja1!AR10="x",Hoja1!$AR$2,IF(Hoja1!AS10="x",Hoja1!$AS$2,IF(Hoja1!AT10="x",Hoja1!$AT$2,""))))),"") | AR10: =IF(J$83="SI",IF(Hoja1!AU10="x",Hoja1!$AU$2,IF(Hoja1!AV10="x",Hoja1!$AV$2,IF(Hoja1!AW10="x",Hoja1!$AW$2,IF(Hoja1!AX10="x",Hoja1!$AX$2,IF(Hoja1!AY10="x",Hoja1!$AY$2,""))))),"") | AS10: =IF(J$55="SI",IF(Hoja1!AU10="x",Hoja1!$AU$2,IF(Hoja1!AV10="x",Hoja1!$AV$2,IF(Hoja1!AW10="x",Hoja1!$AW$2,IF(Hoja1!AX10="x",Hoja1!$AX$2,IF(Hoja1!AY10="x",Hoja1!$AY$2,""))))),"") | AT10: =IF(J$57="SI",IF(Hoja1!AU10="x",Hoja1!$AU$2,IF(Hoja1!AV10="x",Hoja1!$AV$2,IF(Hoja1!AW10="x",Hoja1!$AW$2,IF(Hoja1!AX10="x",Hoja1!$AX$2,IF(Hoja1!AY10="x",Hoja1!$AY$2,""))))),"") | AU10: =IF(J$47="SI",IF(Hoja1!AZ10="x",Hoja1!$AZ$2,IF(Hoja1!BA10="x",Hoja1!$BA$2,IF(Hoja1!BB10="x",Hoja1!$BB$2,IF(Hoja1!BC10="x",Hoja1!$BC$2,IF(Hoja1!BD10="x",Hoja1!$BD$2,""))))),"") -> O | AV10: =IF(J$62="SI",IF(Hoja1!AZ10="x",Hoja1!$AZ$2,IF(Hoja1!BA10="x",Hoja1!$BA$2,IF(Hoja1!BB10="x",Hoja1!$BB$2,IF(Hoja1!BC10="x",Hoja1!$BC$2,IF(Hoja1!BD10="x",Hoja1!$BD$2,""))))),"") -> O | AW10: =IF(J$83="SI",IF(Hoja1!AZ10="x",Hoja1!$AZ$2,IF(Hoja1!BA10="x",Hoja1!$BA$2,IF(Hoja1!BB10="x",Hoja1!$BB$2,IF(Hoja1!BC10="x",Hoja1!$BC$2,IF(Hoja1!BD10="x",Hoja1!$BD$2,""))))),"") -> O | AX10: =IF(J$84="SI",IF(Hoja1!AZ10="x",Hoja1!$AZ$2,IF(Hoja1!BA10="x",Hoja1!$BA$2,IF(Hoja1!BB10="x",Hoja1!$BB$2,IF(Hoja1!BC10="x",Hoja1!$BC$2,IF(Hoja1!BD10="x",Hoja1!$BD$2,""))))),"") -> O | AY10: =IF(J$86="SI",IF(Hoja1!AZ10="x",Hoja1!$AZ$2,IF(Hoja1!BA10="x",Hoja1!$BA$2,IF(Hoja1!BB10="x",Hoja1!$BB$2,IF(Hoja1!BC10="x",Hoja1!$BC$2,IF(Hoja1!BD10="x",Hoja1!$BD$2,""))))),"") -> O | AZ10: =IF(J$46="SI",IF(Hoja1!BE10="x",Hoja1!$BE$2,IF(Hoja1!BF10="x",Hoja1!$BF$2,IF(Hoja1!BG10="x",Hoja1!$BG$2,IF(Hoja1!BH10="x",Hoja1!$BH$2,IF(Hoja1!BI10="x",Hoja1!$BI$2,""))))),"") -> O | BA10: =IF(J$84="SI",IF(Hoja1!BE10="x",Hoja1!$BE$2,IF(Hoja1!BF10="x",Hoja1!$BF$2,IF(Hoja1!BG10="x",Hoja1!$BG$2,IF(Hoja1!BH10="x",Hoja1!$BH$2,IF(Hoja1!BI10="x",Hoja1!$BI$2,""))))),"") -> O | BB10: =IF(J$45="SI",IF(Hoja1!BJ10="x",Hoja1!$BJ$2,IF(Hoja1!BK10="x",Hoja1!$BK$2,IF(Hoja1!BL10="x",Hoja1!$BL$2,IF(Hoja1!BM10="x",Hoja1!$BM$2,IF(Hoja1!BN10="x",Hoja1!$BN$2,""))))),"") | BC10: =IF(J$56="SI",IF(Hoja1!BJ10="x",Hoja1!$BJ$2,IF(Hoja1!BK10="x",Hoja1!$BK$2,IF(Hoja1!BL10="x",Hoja1!$BL$2,IF(Hoja1!BM10="x",Hoja1!$BM$2,IF(Hoja1!BN10="x",Hoja1!$BN$2,""))))),"") | BD10: =IF(J$59="SI",IF(Hoja1!BJ10="x",Hoja1!$BJ$2,IF(Hoja1!BK10="x",Hoja1!$BK$2,IF(Hoja1!BL10="x",Hoja1!$BL$2,IF(Hoja1!BM10="x",Hoja1!$BM$2,IF(Hoja1!BN10="x",Hoja1!$BN$2,""))))),"") | BE10: =IF(J$62="SI",IF(Hoja1!BJ10="x",Hoja1!$BJ$2,IF(Hoja1!BK10="x",Hoja1!$BK$2,IF(Hoja1!BL10="x",Hoja1!$BL$2,IF(Hoja1!BM10="x",Hoja1!$BM$2,IF(Hoja1!BN10="x",Hoja1!$BN$2,""))))),"") | BF10: =IF(J$52="SI",IF(Hoja1!BJ10="x",Hoja1!$BJ$2,IF(Hoja1!BK10="x",Hoja1!$BK$2,IF(Hoja1!BL10="x",Hoja1!$BL$2,IF(Hoja1!BM10="x",Hoja1!$BM$2,IF(Hoja1!BN10="x",Hoja1!$BN$2,""))))),"") | BG10: =IF(J$75="SI",IF(Hoja1!BJ10="x",Hoja1!$BJ$2,IF(Hoja1!BK10="x",Hoja1!$BK$2,IF(Hoja1!BL10="x",Hoja1!$BL$2,IF(Hoja1!BM10="x",Hoja1!$BM$2,IF(Hoja1!BN10="x",Hoja1!$BN$2,""))))),"") | BH10: =IF(J$71="SI",IF(Hoja1!BO10="x",Hoja1!$BO$2,IF(Hoja1!BP10="x",Hoja1!$BP$2,IF(Hoja1!BQ10="x",Hoja1!$BQ$2,IF(Hoja1!BR10="x",Hoja1!$BR$2,IF(Hoja1!BS10="x",Hoja1!$BS$2,""))))),"") | BI10: =IF(J$72="SI",IF(Hoja1!BO10="x",Hoja1!$BO$2,IF(Hoja1!BP10="x",Hoja1!$BP$2,IF(Hoja1!BQ10="x",Hoja1!$BQ$2,IF(Hoja1!BR10="x",Hoja1!$BR$2,IF(Hoja1!BS10="x",Hoja1!$BS$2,""))))),"") | BJ10: =IF(J$58="SI",IF(Hoja1!BO10="x",Hoja1!$BO$2,IF(Hoja1!BP10="x",Hoja1!$BP$2,IF(Hoja1!BQ10="x",Hoja1!$BQ$2,IF(Hoja1!BR10="x",Hoja1!$BR$2,IF(Hoja1!BS10="x",Hoja1!$BS$2,""))))),"") | BK10: =IF(J$67="SI",IF(Hoja1!BT10="x",Hoja1!$BT$2,IF(Hoja1!BU10="x",Hoja1!$BU$2,IF(Hoja1!BV10="x",Hoja1!$BV$2,IF(Hoja1!BW10="x",Hoja1!$BW$2,IF(Hoja1!BX10="x",Hoja1!$BX$2,""))))),"") | BL10: =IF(J$68="SI",IF(Hoja1!BT10="x",Hoja1!$BT$2,IF(Hoja1!BU10="x",Hoja1!$BU$2,IF(Hoja1!BV10="x",Hoja1!$BV$2,IF(Hoja1!BW10="x",Hoja1!$BW$2,IF(Hoja1!BX10="x",Hoja1!$BX$2,""))))),"") | BM10: =IF(J$90="SI",IF(Hoja1!BT10="x",Hoja1!$BT$2,IF(Hoja1!BU10="x",Hoja1!$BU$2,IF(Hoja1!BV10="x",Hoja1!$BV$2,IF(Hoja1!BW10="x",Hoja1!$BW$2,IF(Hoja1!BX10="x",Hoja1!$BX$2,""))))),"") | BN10: =IF(J$91="SI",IF(Hoja1!BT10="x",Hoja1!$BT$2,IF(Hoja1!BU10="x",Hoja1!$BU$2,IF(Hoja1!BV10="x",Hoja1!$BV$2,IF(Hoja1!BW10="x",Hoja1!$BW$2,IF(Hoja1!BX10="x",Hoja1!$BX$2,""))))),"") | BO10: =IF(J$92="SI",IF(Hoja1!BT10="x",Hoja1!$BT$2,IF(Hoja1!BU10="x",Hoja1!$BU$2,IF(Hoja1!BV10="x",Hoja1!$BV$2,IF(Hoja1!BW10="x",Hoja1!$BW$2,IF(Hoja1!BX10="x",Hoja1!$BX$2,""))))),"") | BP10: =IF(J$67="SI",IF(Hoja1!BY10="x",Hoja1!$BY$2,IF(Hoja1!BZ10="x",Hoja1!$BZ$2,IF(Hoja1!CA10="x",Hoja1!$CA$2,IF(Hoja1!CB10="x",Hoja1!$CB$2,IF(Hoja1!CC10="x",Hoja1!$CC$2,""))))),"") | BQ10: =IF(J$68="SI",IF(Hoja1!BY10="x",Hoja1!$BY$2,IF(Hoja1!BZ10="x",Hoja1!$BZ$2,IF(Hoja1!CA10="x",Hoja1!$CA$2,IF(Hoja1!CB10="x",Hoja1!$CB$2,IF(Hoja1!CC10="x",Hoja1!$CC$2,""))))),"") | BR10: =IF(J$69="SI",IF(Hoja1!BY10="x",Hoja1!$BY$2,IF(Hoja1!BZ10="x",Hoja1!$BZ$2,IF(Hoja1!CA10="x",Hoja1!$CA$2,IF(Hoja1!CB10="x",Hoja1!$CB$2,IF(Hoja1!CC10="x",Hoja1!$CC$2,""))))),"") | BS10: =IF(J$90="SI",IF(Hoja1!BY10="x",Hoja1!$BY$2,IF(Hoja1!BZ10="x",Hoja1!$BZ$2,IF(Hoja1!CA10="x",Hoja1!$CA$2,IF(Hoja1!CB10="x",Hoja1!$CB$2,IF(Hoja1!CC10="x",Hoja1!$CC$2,""))))),"") | BT10: =IF(J$91="SI",IF(Hoja1!BY10="x",Hoja1!$BY$2,IF(Hoja1!BZ10="x",Hoja1!$BZ$2,IF(Hoja1!CA10="x",Hoja1!$CA$2,IF(Hoja1!CB10="x",Hoja1!$CB$2,IF(Hoja1!CC10="x",Hoja1!$CC$2,""))))),"") | BU10: =IF(J$92="SI",IF(Hoja1!BY10="x",Hoja1!$BY$2,IF(Hoja1!BZ10="x",Hoja1!$BZ$2,IF(Hoja1!CA10="x",Hoja1!$CA$2,IF(Hoja1!CB10="x",Hoja1!$CB$2,IF(Hoja1!CC10="x",Hoja1!$CC$2,""))))),"") | BV10: =IF(J$59="SI",IF(Hoja1!CD10="x",Hoja1!$CD$2,IF(Hoja1!CE10="x",Hoja1!$CE$2,IF(Hoja1!CF10="x",Hoja1!$CF$2,IF(Hoja1!CG10="x",Hoja1!$CG$2,IF(Hoja1!CH10="x",Hoja1!$CH$2,""))))),"") | BW10: =IF(J$67="SI",IF(Hoja1!CD10="x",Hoja1!$CD$2,IF(Hoja1!CE10="x",Hoja1!$CE$2,IF(Hoja1!CF10="x",Hoja1!$CF$2,IF(Hoja1!CG10="x",Hoja1!$CG$2,IF(Hoja1!CH10="x",Hoja1!$CH$2,""))))),"") | BX10: =IF(J$68="SI",IF(Hoja1!CD10="x",Hoja1!$CD$2,IF(Hoja1!CE10="x",Hoja1!$CE$2,IF(Hoja1!CF10="x",Hoja1!$CF$2,IF(Hoja1!CG10="x",Hoja1!$CG$2,IF(Hoja1!CH10="x",Hoja1!$CH$2,""))))),"") | BY10: =IF(J$69="SI",IF(Hoja1!CD10="x",Hoja1!$CD$2,IF(Hoja1!CE10="x",Hoja1!$CE$2,IF(Hoja1!CF10="x",Hoja1!$CF$2,IF(Hoja1!CG10="x",Hoja1!$CG$2,IF(Hoja1!CH10="x",Hoja1!$CH$2,""))))),"") | BZ10: =IF(J$90="SI",IF(Hoja1!CD10="x",Hoja1!$CD$2,IF(Hoja1!CE10="x",Hoja1!$CE$2,IF(Hoja1!CF10="x",Hoja1!$CF$2,IF(Hoja1!CG10="x",Hoja1!$CG$2,IF(Hoja1!CH10="x",Hoja1!$CH$2,""))))),"") | CA10: =IF(J$91="SI",IF(Hoja1!CD10="x",Hoja1!$CD$2,IF(Hoja1!CE10="x",Hoja1!$CE$2,IF(Hoja1!CF10="x",Hoja1!$CF$2,IF(Hoja1!CG10="x",Hoja1!$CG$2,IF(Hoja1!CH10="x",Hoja1!$CH$2,""))))),"") | CB10: =IF(J$92="SI",IF(Hoja1!CD10="x",Hoja1!$CD$2,IF(Hoja1!CE10="x",Hoja1!$CE$2,IF(Hoja1!CF10="x",Hoja1!$CF$2,IF(Hoja1!CG10="x",Hoja1!$CG$2,IF(Hoja1!CH10="x",Hoja1!$CH$2,""))))),"") | CC10: =IF(J$69="SI",IF(Hoja1!CD10="x",Hoja1!$CD$2,IF(Hoja1!CE10="x",Hoja1!$CE$2,IF(Hoja1!CF10="x",Hoja1!$CF$2,IF(Hoja1!CG10="x",Hoja1!$CG$2,IF(Hoja1!CH10="x",Hoja1!$CH$2,""))))),"") | CD10: =IF(J$90="SI",IF(Hoja1!CD10="x",Hoja1!$CD$2,IF(Hoja1!CE10="x",Hoja1!$CE$2,IF(Hoja1!CF10="x",Hoja1!$CF$2,IF(Hoja1!CG10="x",Hoja1!$CG$2,IF(Hoja1!CH10="x",Hoja1!$CH$2,""))))),"") | CE10: =IF(J$91="SI",IF(Hoja1!CD10="x",Hoja1!$CD$2,IF(Hoja1!CE10="x",Hoja1!$CE$2,IF(Hoja1!CF10="x",Hoja1!$CF$2,IF(Hoja1!CG10="x",Hoja1!$CG$2,IF(Hoja1!CH10="x",Hoja1!$CH$2,""))))),"") | CF10: =IF(J$92="SI",IF(Hoja1!CD10="x",Hoja1!$CD$2,IF(Hoja1!CE10="x",Hoja1!$CE$2,IF(Hoja1!CF10="x",Hoja1!$CF$2,IF(Hoja1!CG10="x",Hoja1!$CG$2,IF(Hoja1!CH10="x",Hoja1!$CH$2,""))))),"")
A11: 9 | B11: =IF(K62="SI",IF(Hoja1!B11="x",Hoja1!$B$2,IF(Hoja1!C11="x",Hoja1!$C$2,IF(Hoja1!D11="x",Hoja1!$D$2,IF(Hoja1!E11="x",Hoja1!$E$2,IF(Hoja1!F11="x",Hoja1!$F$2,""))))),"") | C11: =IF(K43="SI",IF(Hoja1!B11="x",Hoja1!$B$2,IF(Hoja1!C11="x",Hoja1!$C$2,IF(Hoja1!D11="x",Hoja1!$D$2,IF(Hoja1!E11="x",Hoja1!$E$2,IF(Hoja1!F11="x",Hoja1!$F$2,""))))),"") | D11: =IF(K44="SI",IF(Hoja1!B11="x",Hoja1!$B$2,IF(Hoja1!C11="x",Hoja1!$C$2,IF(Hoja1!D11="x",Hoja1!$D$2,IF(Hoja1!E11="x",Hoja1!$E$2,IF(Hoja1!F11="x",Hoja1!$F$2,""))))),"") | E11: =IF(K$82="SI",IF(Hoja1!B11="x",Hoja1!$B$2,IF(Hoja1!C11="x",Hoja1!$C$2,IF(Hoja1!D11="x",Hoja1!$D$2,IF(Hoja1!E11="x",Hoja1!$E$2,IF(Hoja1!F11="x",Hoja1!$F$2,""))))),"") | F11: =IF(K$84="SI",IF(Hoja1!B11="x",Hoja1!$B$2,IF(Hoja1!C11="x",Hoja1!$C$2,IF(Hoja1!D11="x",Hoja1!$D$2,IF(Hoja1!E11="x",Hoja1!$E$2,IF(Hoja1!F11="x",Hoja1!$F$2,""))))),"") | G11: =IF(J$70="SI",IF(Hoja1!B11="x",Hoja1!$B$2,IF(Hoja1!C11="x",Hoja1!$C$2,IF(Hoja1!D11="x",Hoja1!$D$2,IF(Hoja1!E11="x",Hoja1!$E$2,IF(Hoja1!F11="x",Hoja1!$F$2,""))))),"") | H11: =IF(K$82="SI",IF(Hoja1!G11="x",Hoja1!$G$2,IF(Hoja1!H11="x",Hoja1!$H$2,IF(Hoja1!I11="x",Hoja1!$I$2,IF(Hoja1!J11="x",Hoja1!$J$2,IF(Hoja1!K11="x",Hoja1!$K$2,""))))),"") | I11: =IF(K$85="SI",IF(Hoja1!G11="x",Hoja1!$G$2,IF(Hoja1!H11="x",Hoja1!$H$2,IF(Hoja1!I11="x",Hoja1!$I$2,IF(Hoja1!J11="x",Hoja1!$J$2,IF(Hoja1!K11="x",Hoja1!$K$2,""))))),"") | J11: =IF(K$86="SI",IF(Hoja1!G11="x",Hoja1!$G$2,IF(Hoja1!H11="x",Hoja1!$H$2,IF(Hoja1!I11="x",Hoja1!$I$2,IF(Hoja1!J11="x",Hoja1!$J$2,IF(Hoja1!K11="x",Hoja1!$K$2,""))))),"") | K11: =IF(K$87="SI",IF(Hoja1!G11="x",Hoja1!$G$2,IF(Hoja1!H11="x",Hoja1!$H$2,IF(Hoja1!I11="x",Hoja1!$I$2,IF(Hoja1!J11="x",Hoja1!$J$2,IF(Hoja1!K11="x",Hoja1!$K$2,""))))),"") | L11: =IF(K$64="SI",IF(Hoja1!G11="x",Hoja1!$G$2,IF(Hoja1!H11="x",Hoja1!$H$2,IF(Hoja1!I11="x",Hoja1!$I$2,IF(Hoja1!J11="x",Hoja1!$J$2,IF(Hoja1!K11="x",Hoja1!$K$2,""))))),"") | M11: =IF(K$73="SI",IF(Hoja1!G11="x",Hoja1!$G$2,IF(Hoja1!H11="x",Hoja1!$H$2,IF(Hoja1!I11="x",Hoja1!$I$2,IF(Hoja1!J11="x",Hoja1!$J$2,IF(Hoja1!K11="x",Hoja1!$K$2,""))))),"") | N11: =IF(K$74="SI",IF(Hoja1!G11="x",Hoja1!$G$2,IF(Hoja1!H11="x",Hoja1!$H$2,IF(Hoja1!I11="x",Hoja1!$I$2,IF(Hoja1!J11="x",Hoja1!$J$2,IF(Hoja1!K11="x",Hoja1!$K$2,""))))),"") | O11: =IF(J$60="SI",IF(Hoja1!L11="x",Hoja1!$L$2,IF(Hoja1!M11="x",Hoja1!$M$2,IF(Hoja1!N11="x",Hoja1!$N$2,IF(Hoja1!O11="x",Hoja1!$O$2,IF(Hoja1!P11="x",Hoja1!$P$2,""))))),"") -> O | P11: =IF(K$80="SI",IF(Hoja1!L11="x",Hoja1!$L$2,IF(Hoja1!M11="x",Hoja1!$M$2,IF(Hoja1!N11="x",Hoja1!$N$2,IF(Hoja1!O11="x",Hoja1!$O$2,IF(Hoja1!P11="x",Hoja1!$P$2,""))))),"") -> O | Q11: =IF(K$43="SI",IF(Hoja1!L11="x",Hoja1!$L$2,IF(Hoja1!M11="x",Hoja1!$M$2,IF(Hoja1!N11="x",Hoja1!$N$2,IF(Hoja1!O11="x",Hoja1!$O$2,IF(Hoja1!P11="x",Hoja1!$P$2,""))))),"") -> O | R11: =IF(K$82="SI",IF(Hoja1!L11="x",Hoja1!$L$2,IF(Hoja1!M11="x",Hoja1!$M$2,IF(Hoja1!N11="x",Hoja1!$N$2,IF(Hoja1!O11="x",Hoja1!$O$2,IF(Hoja1!P11="x",Hoja1!$P$2,""))))),"") -> O | S11: =IF(K$76="SI",IF(Hoja1!L11="x",Hoja1!$L$2,IF(Hoja1!M11="x",Hoja1!$M$2,IF(Hoja1!N11="x",Hoja1!$N$2,IF(Hoja1!O11="x",Hoja1!$O$2,IF(Hoja1!P11="x",Hoja1!$P$2,""))))),"") -> O | T11: =IF(K$77="SI",IF(Hoja1!L11="x",Hoja1!$L$2,IF(Hoja1!M11="x",Hoja1!$M$2,IF(Hoja1!N11="x",Hoja1!$N$2,IF(Hoja1!O11="x",Hoja1!$O$2,IF(Hoja1!P11="x",Hoja1!$P$2,""))))),"") -> O | U11: =IF(K$78="SI",IF(Hoja1!L11="x",Hoja1!$L$2,IF(Hoja1!M11="x",Hoja1!$M$2,IF(Hoja1!N11="x",Hoja1!$N$2,IF(Hoja1!O11="x",Hoja1!$O$2,IF(Hoja1!P11="x",Hoja1!$P$2,""))))),"") -> O | V11: =IF(K$60="SI",IF(Hoja1!Q11="x",Hoja1!$Q$2,IF(Hoja1!R11="x",Hoja1!$R$2,IF(Hoja1!S11="x",Hoja1!$S$2,IF(Hoja1!T11="x",Hoja1!$T$2,IF(Hoja1!U11="x",Hoja1!$U$2,""))))),"") -> B | W11: =IF(K$61="SI",IF(Hoja1!Q11="x",Hoja1!$Q$2,IF(Hoja1!R11="x",Hoja1!$R$2,IF(Hoja1!S11="x",Hoja1!$S$2,IF(Hoja1!T11="x",Hoja1!$T$2,IF(Hoja1!U11="x",Hoja1!$U$2,""))))),"") -> B | X11: =IF(K$62="SI",IF(Hoja1!Q11="x",Hoja1!$Q$2,IF(Hoja1!R11="x",Hoja1!$R$2,IF(Hoja1!S11="x",Hoja1!$S$2,IF(Hoja1!T11="x",Hoja1!$T$2,IF(Hoja1!U11="x",Hoja1!$U$2,""))))),"") -> B | Y11: =IF(K$79="SI",IF(Hoja1!Q11="x",Hoja1!$Q$2,IF(Hoja1!R11="x",Hoja1!$R$2,IF(Hoja1!S11="x",Hoja1!$S$2,IF(Hoja1!T11="x",Hoja1!$T$2,IF(Hoja1!U11="x",Hoja1!$U$2,""))))),"") -> B | Z11: =IF(K$81="SI",IF(Hoja1!Q11="x",Hoja1!$Q$2,IF(Hoja1!R11="x",Hoja1!$R$2,IF(Hoja1!S11="x",Hoja1!$S$2,IF(Hoja1!T11="x",Hoja1!$T$2,IF(Hoja1!U11="x",Hoja1!$U$2,""))))),"") -> B | AA11: =IF(K$63="SI",IF(Hoja1!Q11="x",Hoja1!$Q$2,IF(Hoja1!R11="x",Hoja1!$R$2,IF(Hoja1!S11="x",Hoja1!$S$2,IF(Hoja1!T11="x",Hoja1!$T$2,IF(Hoja1!U11="x",Hoja1!$U$2,""))))),"") -> B | AB11: =IF(K$64="SI",IF(Hoja1!Q11="x",Hoja1!$Q$2,IF(Hoja1!R11="x",Hoja1!$R$2,IF(Hoja1!S11="x",Hoja1!$S$2,IF(Hoja1!T11="x",Hoja1!$T$2,IF(Hoja1!U11="x",Hoja1!$U$2,""))))),"") -> B | AC11: =IF(K$65="SI",IF(Hoja1!Q11="x",Hoja1!$Q$2,IF(Hoja1!R11="x",Hoja1!$R$2,IF(Hoja1!S11="x",Hoja1!$S$2,IF(Hoja1!T11="x",Hoja1!$T$2,IF(Hoja1!U11="x",Hoja1!$U$2,""))))),"") -> B | AD11: =IF(K45="SI",IF(Hoja1!V11="x",Hoja1!$V$2,IF(Hoja1!W11="x",Hoja1!$W$2,IF(Hoja1!X11="x",Hoja1!$X$2,IF(Hoja1!Y11="x",Hoja1!$Y$2,IF(Hoja1!Z11="x",Hoja1!$Z$2,""))))),"") -> R | AE11: =IF(K$53="SI",IF(Hoja1!V11="x",Hoja1!$V$2,IF(Hoja1!W11="x",Hoja1!$W$2,IF(Hoja1!X11="x",Hoja1!$X$2,IF(Hoja1!Y11="x",Hoja1!$Y$2,IF(Hoja1!Z11="x",Hoja1!$Z$2,""))))),"") -> R | AF11: =IF(K$43="SI",IF(Hoja1!AA11="x",Hoja1!$AA$2,IF(Hoja1!AB11="x",Hoja1!$AB$2,IF(Hoja1!AC11="x",Hoja1!$AC$2,IF(Hoja1!AD11="x",Hoja1!$AD$2,IF(Hoja1!AE11="x",Hoja1!$AE$2,""))))),"") -> B | AG11: =IF(K$54="SI",IF(Hoja1!AA11="x",Hoja1!$AA$2,IF(Hoja1!AB11="x",Hoja1!$AB$2,IF(Hoja1!AC11="x",Hoja1!$AC$2,IF(Hoja1!AD11="x",Hoja1!$AD$2,IF(Hoja1!AE11="x",Hoja1!$AE$2,""))))),"") -> B | AH11: =IF(K$88="SI",IF(Hoja1!AF11="x",Hoja1!$AF$2,IF(Hoja1!AG11="x",Hoja1!$AG$2,IF(Hoja1!AH11="x",Hoja1!$AH$2,IF(Hoja1!AI11="x",Hoja1!$AI$2,IF(Hoja1!AJ11="x",Hoja1!$AJ$2,""))))),"") | AI11: =IF(K$48="SI",IF(Hoja1!AF11="x",Hoja1!$AF$2,IF(Hoja1!AG11="x",Hoja1!$AG$2,IF(Hoja1!AH11="x",Hoja1!$AH$2,IF(Hoja1!AI11="x",Hoja1!$AI$2,IF(Hoja1!AJ11="x",Hoja1!$AJ$2,""))))),"") | AJ11: =IF(K$51="SI",IF(Hoja1!AF11="x",Hoja1!$AF$2,IF(Hoja1!AG11="x",Hoja1!$AG$2,IF(Hoja1!AH11="x",Hoja1!$AH$2,IF(Hoja1!AI11="x",Hoja1!$AI$2,IF(Hoja1!AJ11="x",Hoja1!$AJ$2,""))))),"") | AK11: =IF(K$88="SI",IF(Hoja1!AK11="x",Hoja1!$AK$2,IF(Hoja1!AL11="x",Hoja1!$AL$2,IF(Hoja1!AM11="x",Hoja1!$AM$2,IF(Hoja1!AN11="x",Hoja1!$AN$2,IF(Hoja1!AO11="x",Hoja1!$AO$2,""))))),"") | AL11: =IF(K$48="SI",IF(Hoja1!AK11="x",Hoja1!$AK$2,IF(Hoja1!AL11="x",Hoja1!$AL$2,IF(Hoja1!AM11="x",Hoja1!$AM$2,IF(Hoja1!AN11="x",Hoja1!$AN$2,IF(Hoja1!AO11="x",Hoja1!$AO$2,""))))),"") | AM11: =IF(K$49="SI",IF(Hoja1!AK11="x",Hoja1!$AK$2,IF(Hoja1!AL11="x",Hoja1!$AL$2,IF(Hoja1!AM11="x",Hoja1!$AM$2,IF(Hoja1!AN11="x",Hoja1!$AN$2,IF(Hoja1!AO11="x",Hoja1!$AO$2,""))))),"") | AN11: =IF(K$50="SI",IF(Hoja1!AK11="x",Hoja1!$AK$2,IF(Hoja1!AL11="x",Hoja1!$AL$2,IF(Hoja1!AM11="x",Hoja1!$AM$2,IF(Hoja1!AN11="x",Hoja1!$AN$2,IF(Hoja1!AO11="x",Hoja1!$AO$2,""))))),"") | AO11: =IF(K$59="SI",IF(Hoja1!AP11="x",Hoja1!$AP$2,IF(Hoja1!AQ11="x",Hoja1!$AQ$2,IF(Hoja1!AR11="x",Hoja1!$AR$2,IF(Hoja1!AS11="x",Hoja1!$AS$2,IF(Hoja1!AT11="x",Hoja1!$AT$2,""))))),"") | AP11: =IF(K$80="SI",IF(Hoja1!AP11="x",Hoja1!$AP$2,IF(Hoja1!AQ11="x",Hoja1!$AQ$2,IF(Hoja1!AR11="x",Hoja1!$AR$2,IF(Hoja1!AS11="x",Hoja1!$AS$2,IF(Hoja1!AT11="x",Hoja1!$AT$2,""))))),"") | AQ11: =IF(K$89="SI",IF(Hoja1!AP11="x",Hoja1!$AP$2,IF(Hoja1!AQ11="x",Hoja1!$AQ$2,IF(Hoja1!AR11="x",Hoja1!$AR$2,IF(Hoja1!AS11="x",Hoja1!$AS$2,IF(Hoja1!AT11="x",Hoja1!$AT$2,""))))),"") | AR11: =IF(K$83="SI",IF(Hoja1!AU11="x",Hoja1!$AU$2,IF(Hoja1!AV11="x",Hoja1!$AV$2,IF(Hoja1!AW11="x",Hoja1!$AW$2,IF(Hoja1!AX11="x",Hoja1!$AX$2,IF(Hoja1!AY11="x",Hoja1!$AY$2,""))))),"") | AS11: =IF(K$55="SI",IF(Hoja1!AU11="x",Hoja1!$AU$2,IF(Hoja1!AV11="x",Hoja1!$AV$2,IF(Hoja1!AW11="x",Hoja1!$AW$2,IF(Hoja1!AX11="x",Hoja1!$AX$2,IF(Hoja1!AY11="x",Hoja1!$AY$2,""))))),"") | AT11: =IF(K$57="SI",IF(Hoja1!AU11="x",Hoja1!$AU$2,IF(Hoja1!AV11="x",Hoja1!$AV$2,IF(Hoja1!AW11="x",Hoja1!$AW$2,IF(Hoja1!AX11="x",Hoja1!$AX$2,IF(Hoja1!AY11="x",Hoja1!$AY$2,""))))),"") | AU11: =IF(K$47="SI",IF(Hoja1!AZ11="x",Hoja1!$AZ$2,IF(Hoja1!BA11="x",Hoja1!$BA$2,IF(Hoja1!BB11="x",Hoja1!$BB$2,IF(Hoja1!BC11="x",Hoja1!$BC$2,IF(Hoja1!BD11="x",Hoja1!$BD$2,""))))),"") -> O | AV11: =IF(K$62="SI",IF(Hoja1!AZ11="x",Hoja1!$AZ$2,IF(Hoja1!BA11="x",Hoja1!$BA$2,IF(Hoja1!BB11="x",Hoja1!$BB$2,IF(Hoja1!BC11="x",Hoja1!$BC$2,IF(Hoja1!BD11="x",Hoja1!$BD$2,""))))),"") -> O | AW11: =IF(K$83="SI",IF(Hoja1!AZ11="x",Hoja1!$AZ$2,IF(Hoja1!BA11="x",Hoja1!$BA$2,IF(Hoja1!BB11="x",Hoja1!$BB$2,IF(Hoja1!BC11="x",Hoja1!$BC$2,IF(Hoja1!BD11="x",Hoja1!$BD$2,""))))),"") -> O | AX11: =IF(K$84="SI",IF(Hoja1!AZ11="x",Hoja1!$AZ$2,IF(Hoja1!BA11="x",Hoja1!$BA$2,IF(Hoja1!BB11="x",Hoja1!$BB$2,IF(Hoja1!BC11="x",Hoja1!$BC$2,IF(Hoja1!BD11="x",Hoja1!$BD$2,""))))),"") -> O | AY11: =IF(K$86="SI",IF(Hoja1!AZ11="x",Hoja1!$AZ$2,IF(Hoja1!BA11="x",Hoja1!$BA$2,IF(Hoja1!BB11="x",Hoja1!$BB$2,IF(Hoja1!BC11="x",Hoja1!$BC$2,IF(Hoja1!BD11="x",Hoja1!$BD$2,""))))),"") -> O | AZ11: =IF(K$46="SI",IF(Hoja1!BE11="x",Hoja1!$BE$2,IF(Hoja1!BF11="x",Hoja1!$BF$2,IF(Hoja1!BG11="x",Hoja1!$BG$2,IF(Hoja1!BH11="x",Hoja1!$BH$2,IF(Hoja1!BI11="x",Hoja1!$BI$2,""))))),"") | BA11: =IF(K$84="SI",IF(Hoja1!BE11="x",Hoja1!$BE$2,IF(Hoja1!BF11="x",Hoja1!$BF$2,IF(Hoja1!BG11="x",Hoja1!$BG$2,IF(Hoja1!BH11="x",Hoja1!$BH$2,IF(Hoja1!BI11="x",Hoja1!$BI$2,""))))),"") | BB11: =IF(K$45="SI",IF(Hoja1!BJ11="x",Hoja1!$BJ$2,IF(Hoja1!BK11="x",Hoja1!$BK$2,IF(Hoja1!BL11="x",Hoja1!$BL$2,IF(Hoja1!BM11="x",Hoja1!$BM$2,IF(Hoja1!BN11="x",Hoja1!$BN$2,""))))),"") | BC11: =IF(K$56="SI",IF(Hoja1!BJ11="x",Hoja1!$BJ$2,IF(Hoja1!BK11="x",Hoja1!$BK$2,IF(Hoja1!BL11="x",Hoja1!$BL$2,IF(Hoja1!BM11="x",Hoja1!$BM$2,IF(Hoja1!BN11="x",Hoja1!$BN$2,""))))),"") | BD11: =IF(K$59="SI",IF(Hoja1!BJ11="x",Hoja1!$BJ$2,IF(Hoja1!BK11="x",Hoja1!$BK$2,IF(Hoja1!BL11="x",Hoja1!$BL$2,IF(Hoja1!BM11="x",Hoja1!$BM$2,IF(Hoja1!BN11="x",Hoja1!$BN$2,""))))),"") | BE11: =IF(K$62="SI",IF(Hoja1!BJ11="x",Hoja1!$BJ$2,IF(Hoja1!BK11="x",Hoja1!$BK$2,IF(Hoja1!BL11="x",Hoja1!$BL$2,IF(Hoja1!BM11="x",Hoja1!$BM$2,IF(Hoja1!BN11="x",Hoja1!$BN$2,""))))),"") | BF11: =IF(K$52="SI",IF(Hoja1!BJ11="x",Hoja1!$BJ$2,IF(Hoja1!BK11="x",Hoja1!$BK$2,IF(Hoja1!BL11="x",Hoja1!$BL$2,IF(Hoja1!BM11="x",Hoja1!$BM$2,IF(Hoja1!BN11="x",Hoja1!$BN$2,""))))),"") | BG11: =IF(K$75="SI",IF(Hoja1!BJ11="x",Hoja1!$BJ$2,IF(Hoja1!BK11="x",Hoja1!$BK$2,IF(Hoja1!BL11="x",Hoja1!$BL$2,IF(Hoja1!BM11="x",Hoja1!$BM$2,IF(Hoja1!BN11="x",Hoja1!$BN$2,""))))),"") | BH11: =IF(K$71="SI",IF(Hoja1!BO11="x",Hoja1!$BO$2,IF(Hoja1!BP11="x",Hoja1!$BP$2,IF(Hoja1!BQ11="x",Hoja1!$BQ$2,IF(Hoja1!BR11="x",Hoja1!$BR$2,IF(Hoja1!BS11="x",Hoja1!$BS$2,""))))),"") -> B | BI11: =IF(K$72="SI",IF(Hoja1!BO11="x",Hoja1!$BO$2,IF(Hoja1!BP11="x",Hoja1!$BP$2,IF(Hoja1!BQ11="x",Hoja1!$BQ$2,IF(Hoja1!BR11="x",Hoja1!$BR$2,IF(Hoja1!BS11="x",Hoja1!$BS$2,""))))),"") -> B | BJ11: =IF(K$58="SI",IF(Hoja1!BO11="x",Hoja1!$BO$2,IF(Hoja1!BP11="x",Hoja1!$BP$2,IF(Hoja1!BQ11="x",Hoja1!$BQ$2,IF(Hoja1!BR11="x",Hoja1!$BR$2,IF(Hoja1!BS11="x",Hoja1!$BS$2,""))))),"") -> B | BK11: =IF(K$67="SI",IF(Hoja1!BT11="x",Hoja1!$BT$2,IF(Hoja1!BU11="x",Hoja1!$BU$2,IF(Hoja1!BV11="x",Hoja1!$BV$2,IF(Hoja1!BW11="x",Hoja1!$BW$2,IF(Hoja1!BX11="x",Hoja1!$BX$2,""))))),"") | BL11: =IF(K$68="SI",IF(Hoja1!BT11="x",Hoja1!$BT$2,IF(Hoja1!BU11="x",Hoja1!$BU$2,IF(Hoja1!BV11="x",Hoja1!$BV$2,IF(Hoja1!BW11="x",Hoja1!$BW$2,IF(Hoja1!BX11="x",Hoja1!$BX$2,""))))),"") | BM11: =IF(K$90="SI",IF(Hoja1!BT11="x",Hoja1!$BT$2,IF(Hoja1!BU11="x",Hoja1!$BU$2,IF(Hoja1!BV11="x",Hoja1!$BV$2,IF(Hoja1!BW11="x",Hoja1!$BW$2,IF(Hoja1!BX11="x",Hoja1!$BX$2,""))))),"") | BN11: =IF(K$91="SI",IF(Hoja1!BT11="x",Hoja1!$BT$2,IF(Hoja1!BU11="x",Hoja1!$BU$2,IF(Hoja1!BV11="x",Hoja1!$BV$2,IF(Hoja1!BW11="x",Hoja1!$BW$2,IF(Hoja1!BX11="x",Hoja1!$BX$2,""))))),"") | BO11: =IF(K$92="SI",IF(Hoja1!BT11="x",Hoja1!$BT$2,IF(Hoja1!BU11="x",Hoja1!$BU$2,IF(Hoja1!BV11="x",Hoja1!$BV$2,IF(Hoja1!BW11="x",Hoja1!$BW$2,IF(Hoja1!BX11="x",Hoja1!$BX$2,""))))),"") | BP11: =IF(K$67="SI",IF(Hoja1!BY11="x",Hoja1!$BY$2,IF(Hoja1!BZ11="x",Hoja1!$BZ$2,IF(Hoja1!CA11="x",Hoja1!$CA$2,IF(Hoja1!CB11="x",Hoja1!$CB$2,IF(Hoja1!CC11="x",Hoja1!$CC$2,""))))),"") -> B | BQ11: =IF(K$68="SI",IF(Hoja1!BY11="x",Hoja1!$BY$2,IF(Hoja1!BZ11="x",Hoja1!$BZ$2,IF(Hoja1!CA11="x",Hoja1!$CA$2,IF(Hoja1!CB11="x",Hoja1!$CB$2,IF(Hoja1!CC11="x",Hoja1!$CC$2,""))))),"") -> B | BR11: =IF(K$69="SI",IF(Hoja1!BY11="x",Hoja1!$BY$2,IF(Hoja1!BZ11="x",Hoja1!$BZ$2,IF(Hoja1!CA11="x",Hoja1!$CA$2,IF(Hoja1!CB11="x",Hoja1!$CB$2,IF(Hoja1!CC11="x",Hoja1!$CC$2,""))))),"") -> B | BS11: =IF(K$90="SI",IF(Hoja1!BY11="x",Hoja1!$BY$2,IF(Hoja1!BZ11="x",Hoja1!$BZ$2,IF(Hoja1!CA11="x",Hoja1!$CA$2,IF(Hoja1!CB11="x",Hoja1!$CB$2,IF(Hoja1!CC11="x",Hoja1!$CC$2,""))))),"") -> B | BT11: =IF(K$91="SI",IF(Hoja1!BY11="x",Hoja1!$BY$2,IF(Hoja1!BZ11="x",Hoja1!$BZ$2,IF(Hoja1!CA11="x",Hoja1!$CA$2,IF(Hoja1!CB11="x",Hoja1!$CB$2,IF(Hoja1!CC11="x",Hoja1!$CC$2,""))))),"") -> B | BU11: =IF(K$92="SI",IF(Hoja1!BY11="x",Hoja1!$BY$2,IF(Hoja1!BZ11="x",Hoja1!$BZ$2,IF(Hoja1!CA11="x",Hoja1!$CA$2,IF(Hoja1!CB11="x",Hoja1!$CB$2,IF(Hoja1!CC11="x",Hoja1!$CC$2,""))))),"") -> B | BV11: =IF(K$59="SI",IF(Hoja1!CD11="x",Hoja1!$CD$2,IF(Hoja1!CE11="x",Hoja1!$CE$2,IF(Hoja1!CF11="x",Hoja1!$CF$2,IF(Hoja1!CG11="x",Hoja1!$CG$2,IF(Hoja1!CH11="x",Hoja1!$CH$2,""))))),"") | BW11: =IF(K$67="SI",IF(Hoja1!CD11="x",Hoja1!$CD$2,IF(Hoja1!CE11="x",Hoja1!$CE$2,IF(Hoja1!CF11="x",Hoja1!$CF$2,IF(Hoja1!CG11="x",Hoja1!$CG$2,IF(Hoja1!CH11="x",Hoja1!$CH$2,""))))),"") | BX11: =IF(K$68="SI",IF(Hoja1!CD11="x",Hoja1!$CD$2,IF(Hoja1!CE11="x",Hoja1!$CE$2,IF(Hoja1!CF11="x",Hoja1!$CF$2,IF(Hoja1!CG11="x",Hoja1!$CG$2,IF(Hoja1!CH11="x",Hoja1!$CH$2,""))))),"") | BY11: =IF(K$69="SI",IF(Hoja1!CD11="x",Hoja1!$CD$2,IF(Hoja1!CE11="x",Hoja1!$CE$2,IF(Hoja1!CF11="x",Hoja1!$CF$2,IF(Hoja1!CG11="x",Hoja1!$CG$2,IF(Hoja1!CH11="x",Hoja1!$CH$2,""))))),"") | BZ11: =IF(K$90="SI",IF(Hoja1!CD11="x",Hoja1!$CD$2,IF(Hoja1!CE11="x",Hoja1!$CE$2,IF(Hoja1!CF11="x",Hoja1!$CF$2,IF(Hoja1!CG11="x",Hoja1!$CG$2,IF(Hoja1!CH11="x",Hoja1!$CH$2,""))))),"") | CA11: =IF(K$91="SI",IF(Hoja1!CD11="x",Hoja1!$CD$2,IF(Hoja1!CE11="x",Hoja1!$CE$2,IF(Hoja1!CF11="x",Hoja1!$CF$2,IF(Hoja1!CG11="x",Hoja1!$CG$2,IF(Hoja1!CH11="x",Hoja1!$CH$2,""))))),"") | CB11: =IF(K$92="SI",IF(Hoja1!CD11="x",Hoja1!$CD$2,IF(Hoja1!CE11="x",Hoja1!$CE$2,IF(Hoja1!CF11="x",Hoja1!$CF$2,IF(Hoja1!CG11="x",Hoja1!$CG$2,IF(Hoja1!CH11="x",Hoja1!$CH$2,""))))),"") | CC11: =IF(K$69="SI",IF(Hoja1!CD11="x",Hoja1!$CD$2,IF(Hoja1!CE11="x",Hoja1!$CE$2,IF(Hoja1!CF11="x",Hoja1!$CF$2,IF(Hoja1!CG11="x",Hoja1!$CG$2,IF(Hoja1!CH11="x",Hoja1!$CH$2,""))))),"") | CD11: =IF(K$90="SI",IF(Hoja1!CD11="x",Hoja1!$CD$2,IF(Hoja1!CE11="x",Hoja1!$CE$2,IF(Hoja1!CF11="x",Hoja1!$CF$2,IF(Hoja1!CG11="x",Hoja1!$CG$2,IF(Hoja1!CH11="x",Hoja1!$CH$2,""))))),"") | CE11: =IF(K$91="SI",IF(Hoja1!CD11="x",Hoja1!$CD$2,IF(Hoja1!CE11="x",Hoja1!$CE$2,IF(Hoja1!CF11="x",Hoja1!$CF$2,IF(Hoja1!CG11="x",Hoja1!$CG$2,IF(Hoja1!CH11="x",Hoja1!$CH$2,""))))),"") | CF11: =IF(K$92="SI",IF(Hoja1!CD11="x",Hoja1!$CD$2,IF(Hoja1!CE11="x",Hoja1!$CE$2,IF(Hoja1!CF11="x",Hoja1!$CF$2,IF(Hoja1!CG11="x",Hoja1!$CG$2,IF(Hoja1!CH11="x",Hoja1!$CH$2,""))))),"")
A12: 10 | B12: =IF(L62="SI",IF(Hoja1!B12="x",Hoja1!$B$2,IF(Hoja1!C12="x",Hoja1!$C$2,IF(Hoja1!D12="x",Hoja1!$D$2,IF(Hoja1!E12="x",Hoja1!$E$2,IF(Hoja1!F12="x",Hoja1!$F$2,""))))),"") -> O | C12: =IF(L43="SI",IF(Hoja1!B12="x",Hoja1!$B$2,IF(Hoja1!C12="x",Hoja1!$C$2,IF(Hoja1!D12="x",Hoja1!$D$2,IF(Hoja1!E12="x",Hoja1!$E$2,IF(Hoja1!F12="x",Hoja1!$F$2,""))))),"") -> O | D12: =IF(L44="SI",IF(Hoja1!B12="x",Hoja1!$B$2,IF(Hoja1!C12="x",Hoja1!$C$2,IF(Hoja1!D12="x",Hoja1!$D$2,IF(Hoja1!E12="x",Hoja1!$E$2,IF(Hoja1!F12="x",Hoja1!$F$2,""))))),"") -> O | E12: =IF(L$82="SI",IF(Hoja1!B12="x",Hoja1!$B$2,IF(Hoja1!C12="x",Hoja1!$C$2,IF(Hoja1!D12="x",Hoja1!$D$2,IF(Hoja1!E12="x",Hoja1!$E$2,IF(Hoja1!F12="x",Hoja1!$F$2,""))))),"") -> O | F12: =IF(L$84="SI",IF(Hoja1!B12="x",Hoja1!$B$2,IF(Hoja1!C12="x",Hoja1!$C$2,IF(Hoja1!D12="x",Hoja1!$D$2,IF(Hoja1!E12="x",Hoja1!$E$2,IF(Hoja1!F12="x",Hoja1!$F$2,""))))),"") -> O | G12: =IF(L$70="SI",IF(Hoja1!B12="x",Hoja1!$B$2,IF(Hoja1!C12="x",Hoja1!$C$2,IF(Hoja1!D12="x",Hoja1!$D$2,IF(Hoja1!E12="x",Hoja1!$E$2,IF(Hoja1!F12="x",Hoja1!$F$2,""))))),"") -> O | H12: =IF(L$82="SI",IF(Hoja1!G12="x",Hoja1!$G$2,IF(Hoja1!H12="x",Hoja1!$H$2,IF(Hoja1!I12="x",Hoja1!$I$2,IF(Hoja1!J12="x",Hoja1!$J$2,IF(Hoja1!K12="x",Hoja1!$K$2,""))))),"") -> B | I12: =IF(L$85="SI",IF(Hoja1!G12="x",Hoja1!$G$2,IF(Hoja1!H12="x",Hoja1!$H$2,IF(Hoja1!I12="x",Hoja1!$I$2,IF(Hoja1!J12="x",Hoja1!$J$2,IF(Hoja1!K12="x",Hoja1!$K$2,""))))),"") -> B | J12: =IF(L$86="SI",IF(Hoja1!G12="x",Hoja1!$G$2,IF(Hoja1!H12="x",Hoja1!$H$2,IF(Hoja1!I12="x",Hoja1!$I$2,IF(Hoja1!J12="x",Hoja1!$J$2,IF(Hoja1!K12="x",Hoja1!$K$2,""))))),"") -> B | K12: =IF(L$87="SI",IF(Hoja1!G12="x",Hoja1!$G$2,IF(Hoja1!H12="x",Hoja1!$H$2,IF(Hoja1!I12="x",Hoja1!$I$2,IF(Hoja1!J12="x",Hoja1!$J$2,IF(Hoja1!K12="x",Hoja1!$K$2,""))))),"") -> B | L12: =IF(L$64="SI",IF(Hoja1!G12="x",Hoja1!$G$2,IF(Hoja1!H12="x",Hoja1!$H$2,IF(Hoja1!I12="x",Hoja1!$I$2,IF(Hoja1!J12="x",Hoja1!$J$2,IF(Hoja1!K12="x",Hoja1!$K$2,""))))),"") -> B | M12: =IF(L$73="SI",IF(Hoja1!G12="x",Hoja1!$G$2,IF(Hoja1!H12="x",Hoja1!$H$2,IF(Hoja1!I12="x",Hoja1!$I$2,IF(Hoja1!J12="x",Hoja1!$J$2,IF(Hoja1!K12="x",Hoja1!$K$2,""))))),"") -> B | N12: =IF(L$74="SI",IF(Hoja1!G12="x",Hoja1!$G$2,IF(Hoja1!H12="x",Hoja1!$H$2,IF(Hoja1!I12="x",Hoja1!$I$2,IF(Hoja1!J12="x",Hoja1!$J$2,IF(Hoja1!K12="x",Hoja1!$K$2,""))))),"") -> B | O12: =IF(L$60="SI",IF(Hoja1!L12="x",Hoja1!$L$2,IF(Hoja1!M12="x",Hoja1!$M$2,IF(Hoja1!N12="x",Hoja1!$N$2,IF(Hoja1!O12="x",Hoja1!$O$2,IF(Hoja1!P12="x",Hoja1!$P$2,""))))),"") -> O | P12: =IF(L$80="SI",IF(Hoja1!L12="x",Hoja1!$L$2,IF(Hoja1!M12="x",Hoja1!$M$2,IF(Hoja1!N12="x",Hoja1!$N$2,IF(Hoja1!O12="x",Hoja1!$O$2,IF(Hoja1!P12="x",Hoja1!$P$2,""))))),"") -> O | Q12: =IF(L$43="SI",IF(Hoja1!L12="x",Hoja1!$L$2,IF(Hoja1!M12="x",Hoja1!$M$2,IF(Hoja1!N12="x",Hoja1!$N$2,IF(Hoja1!O12="x",Hoja1!$O$2,IF(Hoja1!P12="x",Hoja1!$P$2,""))))),"") -> O | R12: =IF(L$82="SI",IF(Hoja1!L12="x",Hoja1!$L$2,IF(Hoja1!M12="x",Hoja1!$M$2,IF(Hoja1!N12="x",Hoja1!$N$2,IF(Hoja1!O12="x",Hoja1!$O$2,IF(Hoja1!P12="x",Hoja1!$P$2,""))))),"") -> O | S12: =IF(L$76="SI",IF(Hoja1!L12="x",Hoja1!$L$2,IF(Hoja1!M12="x",Hoja1!$M$2,IF(Hoja1!N12="x",Hoja1!$N$2,IF(Hoja1!O12="x",Hoja1!$O$2,IF(Hoja1!P12="x",Hoja1!$P$2,""))))),"") -> O | T12: =IF(L$77="SI",IF(Hoja1!L12="x",Hoja1!$L$2,IF(Hoja1!M12="x",Hoja1!$M$2,IF(Hoja1!N12="x",Hoja1!$N$2,IF(Hoja1!O12="x",Hoja1!$O$2,IF(Hoja1!P12="x",Hoja1!$P$2,""))))),"") -> O | U12: =IF(L$78="SI",IF(Hoja1!L12="x",Hoja1!$L$2,IF(Hoja1!M12="x",Hoja1!$M$2,IF(Hoja1!N12="x",Hoja1!$N$2,IF(Hoja1!O12="x",Hoja1!$O$2,IF(Hoja1!P12="x",Hoja1!$P$2,""))))),"") -> O | V12: =IF(L$60="SI",IF(Hoja1!Q12="x",Hoja1!$Q$2,IF(Hoja1!R12="x",Hoja1!$R$2,IF(Hoja1!S12="x",Hoja1!$S$2,IF(Hoja1!T12="x",Hoja1!$T$2,IF(Hoja1!U12="x",Hoja1!$U$2,""))))),"") -> O | W12: =IF(L$61="SI",IF(Hoja1!Q12="x",Hoja1!$Q$2,IF(Hoja1!R12="x",Hoja1!$R$2,IF(Hoja1!S12="x",Hoja1!$S$2,IF(Hoja1!T12="x",Hoja1!$T$2,IF(Hoja1!U12="x",Hoja1!$U$2,""))))),"") -> O | X12: =IF(L$62="SI",IF(Hoja1!Q12="x",Hoja1!$Q$2,IF(Hoja1!R12="x",Hoja1!$R$2,IF(Hoja1!S12="x",Hoja1!$S$2,IF(Hoja1!T12="x",Hoja1!$T$2,IF(Hoja1!U12="x",Hoja1!$U$2,""))))),"") -> O | Y12: =IF(L$79="SI",IF(Hoja1!Q12="x",Hoja1!$Q$2,IF(Hoja1!R12="x",Hoja1!$R$2,IF(Hoja1!S12="x",Hoja1!$S$2,IF(Hoja1!T12="x",Hoja1!$T$2,IF(Hoja1!U12="x",Hoja1!$U$2,""))))),"") -> O | Z12: =IF(L$81="SI",IF(Hoja1!Q12="x",Hoja1!$Q$2,IF(Hoja1!R12="x",Hoja1!$R$2,IF(Hoja1!S12="x",Hoja1!$S$2,IF(Hoja1!T12="x",Hoja1!$T$2,IF(Hoja1!U12="x",Hoja1!$U$2,""))))),"") -> O | AA12: =IF(L$63="SI",IF(Hoja1!Q12="x",Hoja1!$Q$2,IF(Hoja1!R12="x",Hoja1!$R$2,IF(Hoja1!S12="x",Hoja1!$S$2,IF(Hoja1!T12="x",Hoja1!$T$2,IF(Hoja1!U12="x",Hoja1!$U$2,""))))),"") -> O | AB12: =IF(L$64="SI",IF(Hoja1!Q12="x",Hoja1!$Q$2,IF(Hoja1!R12="x",Hoja1!$R$2,IF(Hoja1!S12="x",Hoja1!$S$2,IF(Hoja1!T12="x",Hoja1!$T$2,IF(Hoja1!U12="x",Hoja1!$U$2,""))))),"") -> O | AC12: =IF(L$65="SI",IF(Hoja1!Q12="x",Hoja1!$Q$2,IF(Hoja1!R12="x",Hoja1!$R$2,IF(Hoja1!S12="x",Hoja1!$S$2,IF(Hoja1!T12="x",Hoja1!$T$2,IF(Hoja1!U12="x",Hoja1!$U$2,""))))),"") -> O | AD12: =IF(L45="SI",IF(Hoja1!V12="x",Hoja1!$V$2,IF(Hoja1!W12="x",Hoja1!$W$2,IF(Hoja1!X12="x",Hoja1!$X$2,IF(Hoja1!Y12="x",Hoja1!$Y$2,IF(Hoja1!Z12="x",Hoja1!$Z$2,""))))),"") | AE12: =IF(L$53="SI",IF(Hoja1!V12="x",Hoja1!$V$2,IF(Hoja1!W12="x",Hoja1!$W$2,IF(Hoja1!X12="x",Hoja1!$X$2,IF(Hoja1!Y12="x",Hoja1!$Y$2,IF(Hoja1!Z12="x",Hoja1!$Z$2,""))))),"") | AF12: =IF(L$43="SI",IF(Hoja1!AA12="x",Hoja1!$AA$2,IF(Hoja1!AB12="x",Hoja1!$AB$2,IF(Hoja1!AC12="x",Hoja1!$AC$2,IF(Hoja1!AD12="x",Hoja1!$AD$2,IF(Hoja1!AE12="x",Hoja1!$AE$2,""))))),"") | AG12: =IF(L$54="SI",IF(Hoja1!AA12="x",Hoja1!$AA$2,IF(Hoja1!AB12="x",Hoja1!$AB$2,IF(Hoja1!AC12="x",Hoja1!$AC$2,IF(Hoja1!AD12="x",Hoja1!$AD$2,IF(Hoja1!AE12="x",Hoja1!$AE$2,""))))),"") | AH12: =IF(L$88="SI",IF(Hoja1!AF12="x",Hoja1!$AF$2,IF(Hoja1!AG12="x",Hoja1!$AG$2,IF(Hoja1!AH12="x",Hoja1!$AH$2,IF(Hoja1!AI12="x",Hoja1!$AI$2,IF(Hoja1!AJ12="x",Hoja1!$AJ$2,""))))),"") | AI12: =IF(L$48="SI",IF(Hoja1!AF12="x",Hoja1!$AF$2,IF(Hoja1!AG12="x",Hoja1!$AG$2,IF(Hoja1!AH12="x",Hoja1!$AH$2,IF(Hoja1!AI12="x",Hoja1!$AI$2,IF(Hoja1!AJ12="x",Hoja1!$AJ$2,""))))),"") | AJ12: =IF(L$51="SI",IF(Hoja1!AF12="x",Hoja1!$AF$2,IF(Hoja1!AG12="x",Hoja1!$AG$2,IF(Hoja1!AH12="x",Hoja1!$AH$2,IF(Hoja1!AI12="x",Hoja1!$AI$2,IF(Hoja1!AJ12="x",Hoja1!$AJ$2,""))))),"") | AK12: =IF(L$88="SI",IF(Hoja1!AK12="x",Hoja1!$AK$2,IF(Hoja1!AL12="x",Hoja1!$AL$2,IF(Hoja1!AM12="x",Hoja1!$AM$2,IF(Hoja1!AN12="x",Hoja1!$AN$2,IF(Hoja1!AO12="x",Hoja1!$AO$2,""))))),"") | AL12: =IF(L$48="SI",IF(Hoja1!AK12="x",Hoja1!$AK$2,IF(Hoja1!AL12="x",Hoja1!$AL$2,IF(Hoja1!AM12="x",Hoja1!$AM$2,IF(Hoja1!AN12="x",Hoja1!$AN$2,IF(Hoja1!AO12="x",Hoja1!$AO$2,""))))),"") | AM12: =IF(L$49="SI",IF(Hoja1!AK12="x",Hoja1!$AK$2,IF(Hoja1!AL12="x",Hoja1!$AL$2,IF(Hoja1!AM12="x",Hoja1!$AM$2,IF(Hoja1!AN12="x",Hoja1!$AN$2,IF(Hoja1!AO12="x",Hoja1!$AO$2,""))))),"") | AN12: =IF(L$50="SI",IF(Hoja1!AK12="x",Hoja1!$AK$2,IF(Hoja1!AL12="x",Hoja1!$AL$2,IF(Hoja1!AM12="x",Hoja1!$AM$2,IF(Hoja1!AN12="x",Hoja1!$AN$2,IF(Hoja1!AO12="x",Hoja1!$AO$2,""))))),"") | AO12: =IF(L$59="SI",IF(Hoja1!AP12="x",Hoja1!$AP$2,IF(Hoja1!AQ12="x",Hoja1!$AQ$2,IF(Hoja1!AR12="x",Hoja1!$AR$2,IF(Hoja1!AS12="x",Hoja1!$AS$2,IF(Hoja1!AT12="x",Hoja1!$AT$2,""))))),"") | AP12: =IF(L$80="SI",IF(Hoja1!AP12="x",Hoja1!$AP$2,IF(Hoja1!AQ12="x",Hoja1!$AQ$2,IF(Hoja1!AR12="x",Hoja1!$AR$2,IF(Hoja1!AS12="x",Hoja1!$AS$2,IF(Hoja1!AT12="x",Hoja1!$AT$2,""))))),"") | AQ12: =IF(L$89="SI",IF(Hoja1!AP12="x",Hoja1!$AP$2,IF(Hoja1!AQ12="x",Hoja1!$AQ$2,IF(Hoja1!AR12="x",Hoja1!$AR$2,IF(Hoja1!AS12="x",Hoja1!$AS$2,IF(Hoja1!AT12="x",Hoja1!$AT$2,""))))),"") | AR12: =IF(L$83="SI",IF(Hoja1!AU12="x",Hoja1!$AU$2,IF(Hoja1!AV12="x",Hoja1!$AV$2,IF(Hoja1!AW12="x",Hoja1!$AW$2,IF(Hoja1!AX12="x",Hoja1!$AX$2,IF(Hoja1!AY12="x",Hoja1!$AY$2,""))))),"") | AS12: =IF(L$55="SI",IF(Hoja1!AU12="x",Hoja1!$AU$2,IF(Hoja1!AV12="x",Hoja1!$AV$2,IF(Hoja1!AW12="x",Hoja1!$AW$2,IF(Hoja1!AX12="x",Hoja1!$AX$2,IF(Hoja1!AY12="x",Hoja1!$AY$2,""))))),"") | AT12: =IF(L$57="SI",IF(Hoja1!AU12="x",Hoja1!$AU$2,IF(Hoja1!AV12="x",Hoja1!$AV$2,IF(Hoja1!AW12="x",Hoja1!$AW$2,IF(Hoja1!AX12="x",Hoja1!$AX$2,IF(Hoja1!AY12="x",Hoja1!$AY$2,""))))),"") | AU12: =IF(L$47="SI",IF(Hoja1!AZ12="x",Hoja1!$AZ$2,IF(Hoja1!BA12="x",Hoja1!$BA$2,IF(Hoja1!BB12="x",Hoja1!$BB$2,IF(Hoja1!BC12="x",Hoja1!$BC$2,IF(Hoja1!BD12="x",Hoja1!$BD$2,""))))),"") -> O | AV12: =IF(L$62="SI",IF(Hoja1!AZ12="x",Hoja1!$AZ$2,IF(Hoja1!BA12="x",Hoja1!$BA$2,IF(Hoja1!BB12="x",Hoja1!$BB$2,IF(Hoja1!BC12="x",Hoja1!$BC$2,IF(Hoja1!BD12="x",Hoja1!$BD$2,""))))),"") -> O | AW12: =IF(L$83="SI",IF(Hoja1!AZ12="x",Hoja1!$AZ$2,IF(Hoja1!BA12="x",Hoja1!$BA$2,IF(Hoja1!BB12="x",Hoja1!$BB$2,IF(Hoja1!BC12="x",Hoja1!$BC$2,IF(Hoja1!BD12="x",Hoja1!$BD$2,""))))),"") -> O | AX12: =IF(L$84="SI",IF(Hoja1!AZ12="x",Hoja1!$AZ$2,IF(Hoja1!BA12="x",Hoja1!$BA$2,IF(Hoja1!BB12="x",Hoja1!$BB$2,IF(Hoja1!BC12="x",Hoja1!$BC$2,IF(Hoja1!BD12="x",Hoja1!$BD$2,""))))),"") -> O | AY12: =IF(L$86="SI",IF(Hoja1!AZ12="x",Hoja1!$AZ$2,IF(Hoja1!BA12="x",Hoja1!$BA$2,IF(Hoja1!BB12="x",Hoja1!$BB$2,IF(Hoja1!BC12="x",Hoja1!$BC$2,IF(Hoja1!BD12="x",Hoja1!$BD$2,""))))),"") -> O | AZ12: =IF(L$46="SI",IF(Hoja1!BE12="x",Hoja1!$BE$2,IF(Hoja1!BF12="x",Hoja1!$BF$2,IF(Hoja1!BG12="x",Hoja1!$BG$2,IF(Hoja1!BH12="x",Hoja1!$BH$2,IF(Hoja1!BI12="x",Hoja1!$BI$2,""))))),"") | BA12: =IF(L$84="SI",IF(Hoja1!BE12="x",Hoja1!$BE$2,IF(Hoja1!BF12="x",Hoja1!$BF$2,IF(Hoja1!BG12="x",Hoja1!$BG$2,IF(Hoja1!BH12="x",Hoja1!$BH$2,IF(Hoja1!BI12="x",Hoja1!$BI$2,""))))),"") | BB12: =IF(L$45="SI",IF(Hoja1!BJ12="x",Hoja1!$BJ$2,IF(Hoja1!BK12="x",Hoja1!$BK$2,IF(Hoja1!BL12="x",Hoja1!$BL$2,IF(Hoja1!BM12="x",Hoja1!$BM$2,IF(Hoja1!BN12="x",Hoja1!$BN$2,""))))),"") | BC12: =IF(L$56="SI",IF(Hoja1!BJ12="x",Hoja1!$BJ$2,IF(Hoja1!BK12="x",Hoja1!$BK$2,IF(Hoja1!BL12="x",Hoja1!$BL$2,IF(Hoja1!BM12="x",Hoja1!$BM$2,IF(Hoja1!BN12="x",Hoja1!$BN$2,""))))),"") | BD12: =IF(L$59="SI",IF(Hoja1!BJ12="x",Hoja1!$BJ$2,IF(Hoja1!BK12="x",Hoja1!$BK$2,IF(Hoja1!BL12="x",Hoja1!$BL$2,IF(Hoja1!BM12="x",Hoja1!$BM$2,IF(Hoja1!BN12="x",Hoja1!$BN$2,""))))),"") | BE12: =IF(L$62="SI",IF(Hoja1!BJ12="x",Hoja1!$BJ$2,IF(Hoja1!BK12="x",Hoja1!$BK$2,IF(Hoja1!BL12="x",Hoja1!$BL$2,IF(Hoja1!BM12="x",Hoja1!$BM$2,IF(Hoja1!BN12="x",Hoja1!$BN$2,""))))),"") | BF12: =IF(L$52="SI",IF(Hoja1!BJ12="x",Hoja1!$BJ$2,IF(Hoja1!BK12="x",Hoja1!$BK$2,IF(Hoja1!BL12="x",Hoja1!$BL$2,IF(Hoja1!BM12="x",Hoja1!$BM$2,IF(Hoja1!BN12="x",Hoja1!$BN$2,""))))),"") | BG12: =IF(L$75="SI",IF(Hoja1!BJ12="x",Hoja1!$BJ$2,IF(Hoja1!BK12="x",Hoja1!$BK$2,IF(Hoja1!BL12="x",Hoja1!$BL$2,IF(Hoja1!BM12="x",Hoja1!$BM$2,IF(Hoja1!BN12="x",Hoja1!$BN$2,""))))),"") | BH12: =IF(L$71="SI",IF(Hoja1!BO12="x",Hoja1!$BO$2,IF(Hoja1!BP12="x",Hoja1!$BP$2,IF(Hoja1!BQ12="x",Hoja1!$BQ$2,IF(Hoja1!BR12="x",Hoja1!$BR$2,IF(Hoja1!BS12="x",Hoja1!$BS$2,""))))),"") -> R | BI12: =IF(L$72="SI",IF(Hoja1!BO12="x",Hoja1!$BO$2,IF(Hoja1!BP12="x",Hoja1!$BP$2,IF(Hoja1!BQ12="x",Hoja1!$BQ$2,IF(Hoja1!BR12="x",Hoja1!$BR$2,IF(Hoja1!BS12="x",Hoja1!$BS$2,""))))),"") -> R | BJ12: =IF(L$58="SI",IF(Hoja1!BO12="x",Hoja1!$BO$2,IF(Hoja1!BP12="x",Hoja1!$BP$2,IF(Hoja1!BQ12="x",Hoja1!$BQ$2,IF(Hoja1!BR12="x",Hoja1!$BR$2,IF(Hoja1!BS12="x",Hoja1!$BS$2,""))))),"") -> R | BK12: =IF(L$67="SI",IF(Hoja1!BT12="x",Hoja1!$BT$2,IF(Hoja1!BU12="x",Hoja1!$BU$2,IF(Hoja1!BV12="x",Hoja1!$BV$2,IF(Hoja1!BW12="x",Hoja1!$BW$2,IF(Hoja1!BX12="x",Hoja1!$BX$2,""))))),"") -> B | BL12: =IF(L$68="SI",IF(Hoja1!BT12="x",Hoja1!$BT$2,IF(Hoja1!BU12="x",Hoja1!$BU$2,IF(Hoja1!BV12="x",Hoja1!$BV$2,IF(Hoja1!BW12="x",Hoja1!$BW$2,IF(Hoja1!BX12="x",Hoja1!$BX$2,""))))),"") -> B | BM12: =IF(L$90="SI",IF(Hoja1!BT12="x",Hoja1!$BT$2,IF(Hoja1!BU12="x",Hoja1!$BU$2,IF(Hoja1!BV12="x",Hoja1!$BV$2,IF(Hoja1!BW12="x",Hoja1!$BW$2,IF(Hoja1!BX12="x",Hoja1!$BX$2,""))))),"") -> B | BN12: =IF(L$91="SI",IF(Hoja1!BT12="x",Hoja1!$BT$2,IF(Hoja1!BU12="x",Hoja1!$BU$2,IF(Hoja1!BV12="x",Hoja1!$BV$2,IF(Hoja1!BW12="x",Hoja1!$BW$2,IF(Hoja1!BX12="x",Hoja1!$BX$2,""))))),"") -> B | BO12: =IF(L$92="SI",IF(Hoja1!BT12="x",Hoja1!$BT$2,IF(Hoja1!BU12="x",Hoja1!$BU$2,IF(Hoja1!BV12="x",Hoja1!$BV$2,IF(Hoja1!BW12="x",Hoja1!$BW$2,IF(Hoja1!BX12="x",Hoja1!$BX$2,""))))),"") -> B | BP12: =IF(L$67="SI",IF(Hoja1!BY12="x",Hoja1!$BY$2,IF(Hoja1!BZ12="x",Hoja1!$BZ$2,IF(Hoja1!CA12="x",Hoja1!$CA$2,IF(Hoja1!CB12="x",Hoja1!$CB$2,IF(Hoja1!CC12="x",Hoja1!$CC$2,""))))),"") -> B | BQ12: =IF(L$68="SI",IF(Hoja1!BY12="x",Hoja1!$BY$2,IF(Hoja1!BZ12="x",Hoja1!$BZ$2,IF(Hoja1!CA12="x",Hoja1!$CA$2,IF(Hoja1!CB12="x",Hoja1!$CB$2,IF(Hoja1!CC12="x",Hoja1!$CC$2,""))))),"") -> B | BR12: =IF(L$69="SI",IF(Hoja1!BY12="x",Hoja1!$BY$2,IF(Hoja1!BZ12="x",Hoja1!$BZ$2,IF(Hoja1!CA12="x",Hoja1!$CA$2,IF(Hoja1!CB12="x",Hoja1!$CB$2,IF(Hoja1!CC12="x",Hoja1!$CC$2,""))))),"") -> B | BS12: =IF(L$90="SI",IF(Hoja1!BY12="x",Hoja1!$BY$2,IF(Hoja1!BZ12="x",Hoja1!$BZ$2,IF(Hoja1!CA12="x",Hoja1!$CA$2,IF(Hoja1!CB12="x",Hoja1!$CB$2,IF(Hoja1!CC12="x",Hoja1!$CC$2,""))))),"") -> B | BT12: =IF(L$91="SI",IF(Hoja1!BY12="x",Hoja1!$BY$2,IF(Hoja1!BZ12="x",Hoja1!$BZ$2,IF(Hoja1!CA12="x",Hoja1!$CA$2,IF(Hoja1!CB12="x",Hoja1!$CB$2,IF(Hoja1!CC12="x",Hoja1!$CC$2,""))))),"") -> B | BU12: =IF(L$92="SI",IF(Hoja1!BY12="x",Hoja1!$BY$2,IF(Hoja1!BZ12="x",Hoja1!$BZ$2,IF(Hoja1!CA12="x",Hoja1!$CA$2,IF(Hoja1!CB12="x",Hoja1!$CB$2,IF(Hoja1!CC12="x",Hoja1!$CC$2,""))))),"") -> B | BV12: =IF(L$59="SI",IF(Hoja1!CD12="x",Hoja1!$CD$2,IF(Hoja1!CE12="x",Hoja1!$CE$2,IF(Hoja1!CF12="x",Hoja1!$CF$2,IF(Hoja1!CG12="x",Hoja1!$CG$2,IF(Hoja1!CH12="x",Hoja1!$CH$2,""))))),"") | BW12: =IF(L$67="SI",IF(Hoja1!CD12="x",Hoja1!$CD$2,IF(Hoja1!CE12="x",Hoja1!$CE$2,IF(Hoja1!CF12="x",Hoja1!$CF$2,IF(Hoja1!CG12="x",Hoja1!$CG$2,IF(Hoja1!CH12="x",Hoja1!$CH$2,""))))),"") | BX12: =IF(L$68="SI",IF(Hoja1!CD12="x",Hoja1!$CD$2,IF(Hoja1!CE12="x",Hoja1!$CE$2,IF(Hoja1!CF12="x",Hoja1!$CF$2,IF(Hoja1!CG12="x",Hoja1!$CG$2,IF(Hoja1!CH12="x",Hoja1!$CH$2,""))))),"") | BY12: =IF(L$69="SI",IF(Hoja1!CD12="x",Hoja1!$CD$2,IF(Hoja1!CE12="x",Hoja1!$CE$2,IF(Hoja1!CF12="x",Hoja1!$CF$2,IF(Hoja1!CG12="x",Hoja1!$CG$2,IF(Hoja1!CH12="x",Hoja1!$CH$2,""))))),"") | BZ12: =IF(L$90="SI",IF(Hoja1!CD12="x",Hoja1!$CD$2,IF(Hoja1!CE12="x",Hoja1!$CE$2,IF(Hoja1!CF12="x",Hoja1!$CF$2,IF(Hoja1!CG12="x",Hoja1!$CG$2,IF(Hoja1!CH12="x",Hoja1!$CH$2,""))))),"") | CA12: =IF(L$91="SI",IF(Hoja1!CD12="x",Hoja1!$CD$2,IF(Hoja1!CE12="x",Hoja1!$CE$2,IF(Hoja1!CF12="x",Hoja1!$CF$2,IF(Hoja1!CG12="x",Hoja1!$CG$2,IF(Hoja1!CH12="x",Hoja1!$CH$2,""))))),"") | CB12: =IF(L$92="SI",IF(Hoja1!CD12="x",Hoja1!$CD$2,IF(Hoja1!CE12="x",Hoja1!$CE$2,IF(Hoja1!CF12="x",Hoja1!$CF$2,IF(Hoja1!CG12="x",Hoja1!$CG$2,IF(Hoja1!CH12="x",Hoja1!$CH$2,""))))),"") | CC12: =IF(L$69="SI",IF(Hoja1!CD12="x",Hoja1!$CD$2,IF(Hoja1!CE12="x",Hoja1!$CE$2,IF(Hoja1!CF12="x",Hoja1!$CF$2,IF(Hoja1!CG12="x",Hoja1!$CG$2,IF(Hoja1!CH12="x",Hoja1!$CH$2,""))))),"") | CD12: =IF(L$90="SI",IF(Hoja1!CD12="x",Hoja1!$CD$2,IF(Hoja1!CE12="x",Hoja1!$CE$2,IF(Hoja1!CF12="x",Hoja1!$CF$2,IF(Hoja1!CG12="x",Hoja1!$CG$2,IF(Hoja1!CH12="x",Hoja1!$CH$2,""))))),"") | CE12: =IF(L$91="SI",IF(Hoja1!CD12="x",Hoja1!$CD$2,IF(Hoja1!CE12="x",Hoja1!$CE$2,IF(Hoja1!CF12="x",Hoja1!$CF$2,IF(Hoja1!CG12="x",Hoja1!$CG$2,IF(Hoja1!CH12="x",Hoja1!$CH$2,""))))),"") | CF12: =IF(L$92="SI",IF(Hoja1!CD12="x",Hoja1!$CD$2,IF(Hoja1!CE12="x",Hoja1!$CE$2,IF(Hoja1!CF12="x",Hoja1!$CF$2,IF(Hoja1!CG12="x",Hoja1!$CG$2,IF(Hoja1!CH12="x",Hoja1!$CH$2,""))))),"")
A13: 11 | B13: =IF(M62="SI",IF(Hoja1!B13="x",Hoja1!$B$2,IF(Hoja1!C13="x",Hoja1!$C$2,IF(Hoja1!D13="x",Hoja1!$D$2,IF(Hoja1!E13="x",Hoja1!$E$2,IF(Hoja1!F13="x",Hoja1!$F$2,""))))),"") | C13: =IF(M43="SI",IF(Hoja1!B13="x",Hoja1!$B$2,IF(Hoja1!C13="x",Hoja1!$C$2,IF(Hoja1!D13="x",Hoja1!$D$2,IF(Hoja1!E13="x",Hoja1!$E$2,IF(Hoja1!F13="x",Hoja1!$F$2,""))))),"") | D13: =IF(M44="SI",IF(Hoja1!B13="x",Hoja1!$B$2,IF(Hoja1!C13="x",Hoja1!$C$2,IF(Hoja1!D13="x",Hoja1!$D$2,IF(Hoja1!E13="x",Hoja1!$E$2,IF(Hoja1!F13="x",Hoja1!$F$2,""))))),"") | E13: =IF(M$82="SI",IF(Hoja1!B13="x",Hoja1!$B$2,IF(Hoja1!C13="x",Hoja1!$C$2,IF(Hoja1!D13="x",Hoja1!$D$2,IF(Hoja1!E13="x",Hoja1!$E$2,IF(Hoja1!F13="x",Hoja1!$F$2,""))))),"") | F13: =IF(M$84="SI",IF(Hoja1!B13="x",Hoja1!$B$2,IF(Hoja1!C13="x",Hoja1!$C$2,IF(Hoja1!D13="x",Hoja1!$D$2,IF(Hoja1!E13="x",Hoja1!$E$2,IF(Hoja1!F13="x",Hoja1!$F$2,""))))),"") | G13: =IF(M$70="SI",IF(Hoja1!B13="x",Hoja1!$B$2,IF(Hoja1!C13="x",Hoja1!$C$2,IF(Hoja1!D13="x",Hoja1!$D$2,IF(Hoja1!E13="x",Hoja1!$E$2,IF(Hoja1!F13="x",Hoja1!$F$2,""))))),"") | H13: =IF(M$82="SI",IF(Hoja1!G13="x",Hoja1!$G$2,IF(Hoja1!H13="x",Hoja1!$H$2,IF(Hoja1!I13="x",Hoja1!$I$2,IF(Hoja1!J13="x",Hoja1!$J$2,IF(Hoja1!K13="x",Hoja1!$K$2,""))))),"") | I13: =IF(M$85="SI",IF(Hoja1!G13="x",Hoja1!$G$2,IF(Hoja1!H13="x",Hoja1!$H$2,IF(Hoja1!I13="x",Hoja1!$I$2,IF(Hoja1!J13="x",Hoja1!$J$2,IF(Hoja1!K13="x",Hoja1!$K$2,""))))),"") | J13: =IF(M$86="SI",IF(Hoja1!G13="x",Hoja1!$G$2,IF(Hoja1!H13="x",Hoja1!$H$2,IF(Hoja1!I13="x",Hoja1!$I$2,IF(Hoja1!J13="x",Hoja1!$J$2,IF(Hoja1!K13="x",Hoja1!$K$2,""))))),"") | K13: =IF(M$87="SI",IF(Hoja1!G13="x",Hoja1!$G$2,IF(Hoja1!H13="x",Hoja1!$H$2,IF(Hoja1!I13="x",Hoja1!$I$2,IF(Hoja1!J13="x",Hoja1!$J$2,IF(Hoja1!K13="x",Hoja1!$K$2,""))))),"") | L13: =IF(M$64="SI",IF(Hoja1!G13="x",Hoja1!$G$2,IF(Hoja1!H13="x",Hoja1!$H$2,IF(Hoja1!I13="x",Hoja1!$I$2,IF(Hoja1!J13="x",Hoja1!$J$2,IF(Hoja1!K13="x",Hoja1!$K$2,""))))),"") | M13: =IF(M$73="SI",IF(Hoja1!G13="x",Hoja1!$G$2,IF(Hoja1!H13="x",Hoja1!$H$2,IF(Hoja1!I13="x",Hoja1!$I$2,IF(Hoja1!J13="x",Hoja1!$J$2,IF(Hoja1!K13="x",Hoja1!$K$2,""))))),"") | N13: =IF(M$74="SI",IF(Hoja1!G13="x",Hoja1!$G$2,IF(Hoja1!H13="x",Hoja1!$H$2,IF(Hoja1!I13="x",Hoja1!$I$2,IF(Hoja1!J13="x",Hoja1!$J$2,IF(Hoja1!K13="x",Hoja1!$K$2,""))))),"") | O13: =IF(M$60="SI",IF(Hoja1!L13="x",Hoja1!$L$2,IF(Hoja1!M13="x",Hoja1!$M$2,IF(Hoja1!N13="x",Hoja1!$N$2,IF(Hoja1!O13="x",Hoja1!$O$2,IF(Hoja1!P13="x",Hoja1!$P$2,""))))),"") -> O | P13: =IF(M$80="SI",IF(Hoja1!L13="x",Hoja1!$L$2,IF(Hoja1!M13="x",Hoja1!$M$2,IF(Hoja1!N13="x",Hoja1!$N$2,IF(Hoja1!O13="x",Hoja1!$O$2,IF(Hoja1!P13="x",Hoja1!$P$2,""))))),"") -> O | Q13: =IF(M$43="SI",IF(Hoja1!L13="x",Hoja1!$L$2,IF(Hoja1!M13="x",Hoja1!$M$2,IF(Hoja1!N13="x",Hoja1!$N$2,IF(Hoja1!O13="x",Hoja1!$O$2,IF(Hoja1!P13="x",Hoja1!$P$2,""))))),"") -> O | R13: =IF(M$82="SI",IF(Hoja1!L13="x",Hoja1!$L$2,IF(Hoja1!M13="x",Hoja1!$M$2,IF(Hoja1!N13="x",Hoja1!$N$2,IF(Hoja1!O13="x",Hoja1!$O$2,IF(Hoja1!P13="x",Hoja1!$P$2,""))))),"") -> O | S13: =IF(M$76="SI",IF(Hoja1!L13="x",Hoja1!$L$2,IF(Hoja1!M13="x",Hoja1!$M$2,IF(Hoja1!N13="x",Hoja1!$N$2,IF(Hoja1!O13="x",Hoja1!$O$2,IF(Hoja1!P13="x",Hoja1!$P$2,""))))),"") -> O | T13: =IF(M$77="SI",IF(Hoja1!L13="x",Hoja1!$L$2,IF(Hoja1!M13="x",Hoja1!$M$2,IF(Hoja1!N13="x",Hoja1!$N$2,IF(Hoja1!O13="x",Hoja1!$O$2,IF(Hoja1!P13="x",Hoja1!$P$2,""))))),"") -> O | U13: =IF(M$78="SI",IF(Hoja1!L13="x",Hoja1!$L$2,IF(Hoja1!M13="x",Hoja1!$M$2,IF(Hoja1!N13="x",Hoja1!$N$2,IF(Hoja1!O13="x",Hoja1!$O$2,IF(Hoja1!P13="x",Hoja1!$P$2,""))))),"") -> O | V13: =IF(M$60="SI",IF(Hoja1!Q13="x",Hoja1!$Q$2,IF(Hoja1!R13="x",Hoja1!$R$2,IF(Hoja1!S13="x",Hoja1!$S$2,IF(Hoja1!T13="x",Hoja1!$T$2,IF(Hoja1!U13="x",Hoja1!$U$2,""))))),"") -> O | W13: =IF(M$61="SI",IF(Hoja1!Q13="x",Hoja1!$Q$2,IF(Hoja1!R13="x",Hoja1!$R$2,IF(Hoja1!S13="x",Hoja1!$S$2,IF(Hoja1!T13="x",Hoja1!$T$2,IF(Hoja1!U13="x",Hoja1!$U$2,""))))),"") -> O | X13: =IF(M$62="SI",IF(Hoja1!Q13="x",Hoja1!$Q$2,IF(Hoja1!R13="x",Hoja1!$R$2,IF(Hoja1!S13="x",Hoja1!$S$2,IF(Hoja1!T13="x",Hoja1!$T$2,IF(Hoja1!U13="x",Hoja1!$U$2,""))))),"") -> O | Y13: =IF(M$79="SI",IF(Hoja1!Q13="x",Hoja1!$Q$2,IF(Hoja1!R13="x",Hoja1!$R$2,IF(Hoja1!S13="x",Hoja1!$S$2,IF(Hoja1!T13="x",Hoja1!$T$2,IF(Hoja1!U13="x",Hoja1!$U$2,""))))),"") -> O | Z13: =IF(M$81="SI",IF(Hoja1!Q13="x",Hoja1!$Q$2,IF(Hoja1!R13="x",Hoja1!$R$2,IF(Hoja1!S13="x",Hoja1!$S$2,IF(Hoja1!T13="x",Hoja1!$T$2,IF(Hoja1!U13="x",Hoja1!$U$2,""))))),"") -> O | AA13: =IF(M$63="SI",IF(Hoja1!Q13="x",Hoja1!$Q$2,IF(Hoja1!R13="x",Hoja1!$R$2,IF(Hoja1!S13="x",Hoja1!$S$2,IF(Hoja1!T13="x",Hoja1!$T$2,IF(Hoja1!U13="x",Hoja1!$U$2,""))))),"") -> O | AB13: =IF(M$64="SI",IF(Hoja1!Q13="x",Hoja1!$Q$2,IF(Hoja1!R13="x",Hoja1!$R$2,IF(Hoja1!S13="x",Hoja1!$S$2,IF(Hoja1!T13="x",Hoja1!$T$2,IF(Hoja1!U13="x",Hoja1!$U$2,""))))),"") -> O | AC13: =IF(M$65="SI",IF(Hoja1!Q13="x",Hoja1!$Q$2,IF(Hoja1!R13="x",Hoja1!$R$2,IF(Hoja1!S13="x",Hoja1!$S$2,IF(Hoja1!T13="x",Hoja1!$T$2,IF(Hoja1!U13="x",Hoja1!$U$2,""))))),"") -> O | AD13: =IF(M45="SI",IF(Hoja1!V13="x",Hoja1!$V$2,IF(Hoja1!W13="x",Hoja1!$W$2,IF(Hoja1!X13="x",Hoja1!$X$2,IF(Hoja1!Y13="x",Hoja1!$Y$2,IF(Hoja1!Z13="x",Hoja1!$Z$2,""))))),"") | AE13: =IF(M$53="SI",IF(Hoja1!V13="x",Hoja1!$V$2,IF(Hoja1!W13="x",Hoja1!$W$2,IF(Hoja1!X13="x",Hoja1!$X$2,IF(Hoja1!Y13="x",Hoja1!$Y$2,IF(Hoja1!Z13="x",Hoja1!$Z$2,""))))),"") | AF13: =IF(M$43="SI",IF(Hoja1!AA13="x",Hoja1!$AA$2,IF(Hoja1!AB13="x",Hoja1!$AB$2,IF(Hoja1!AC13="x",Hoja1!$AC$2,IF(Hoja1!AD13="x",Hoja1!$AD$2,IF(Hoja1!AE13="x",Hoja1!$AE$2,""))))),"") | AG13: =IF(M$54="SI",IF(Hoja1!AA13="x",Hoja1!$AA$2,IF(Hoja1!AB13="x",Hoja1!$AB$2,IF(Hoja1!AC13="x",Hoja1!$AC$2,IF(Hoja1!AD13="x",Hoja1!$AD$2,IF(Hoja1!AE13="x",Hoja1!$AE$2,""))))),"") | AH13: =IF(M$88="SI",IF(Hoja1!AF13="x",Hoja1!$AF$2,IF(Hoja1!AG13="x",Hoja1!$AG$2,IF(Hoja1!AH13="x",Hoja1!$AH$2,IF(Hoja1!AI13="x",Hoja1!$AI$2,IF(Hoja1!AJ13="x",Hoja1!$AJ$2,""))))),"") | AI13: =IF(M$48="SI",IF(Hoja1!AF13="x",Hoja1!$AF$2,IF(Hoja1!AG13="x",Hoja1!$AG$2,IF(Hoja1!AH13="x",Hoja1!$AH$2,IF(Hoja1!AI13="x",Hoja1!$AI$2,IF(Hoja1!AJ13="x",Hoja1!$AJ$2,""))))),"") | AJ13: =IF(M$51="SI",IF(Hoja1!AF13="x",Hoja1!$AF$2,IF(Hoja1!AG13="x",Hoja1!$AG$2,IF(Hoja1!AH13="x",Hoja1!$AH$2,IF(Hoja1!AI13="x",Hoja1!$AI$2,IF(Hoja1!AJ13="x",Hoja1!$AJ$2,""))))),"") | AK13: =IF(M$88="SI",IF(Hoja1!AK13="x",Hoja1!$AK$2,IF(Hoja1!AL13="x",Hoja1!$AL$2,IF(Hoja1!AM13="x",Hoja1!$AM$2,IF(Hoja1!AN13="x",Hoja1!$AN$2,IF(Hoja1!AO13="x",Hoja1!$AO$2,""))))),"") | AL13: =IF(M$48="SI",IF(Hoja1!AK13="x",Hoja1!$AK$2,IF(Hoja1!AL13="x",Hoja1!$AL$2,IF(Hoja1!AM13="x",Hoja1!$AM$2,IF(Hoja1!AN13="x",Hoja1!$AN$2,IF(Hoja1!AO13="x",Hoja1!$AO$2,""))))),"") | AM13: =IF(M$49="SI",IF(Hoja1!AK13="x",Hoja1!$AK$2,IF(Hoja1!AL13="x",Hoja1!$AL$2,IF(Hoja1!AM13="x",Hoja1!$AM$2,IF(Hoja1!AN13="x",Hoja1!$AN$2,IF(Hoja1!AO13="x",Hoja1!$AO$2,""))))),"") | AN13: =IF(M$50="SI",IF(Hoja1!AK13="x",Hoja1!$AK$2,IF(Hoja1!AL13="x",Hoja1!$AL$2,IF(Hoja1!AM13="x",Hoja1!$AM$2,IF(Hoja1!AN13="x",Hoja1!$AN$2,IF(Hoja1!AO13="x",Hoja1!$AO$2,""))))),"") | AO13: =IF(M$59="SI",IF(Hoja1!AP13="x",Hoja1!$AP$2,IF(Hoja1!AQ13="x",Hoja1!$AQ$2,IF(Hoja1!AR13="x",Hoja1!$AR$2,IF(Hoja1!AS13="x",Hoja1!$AS$2,IF(Hoja1!AT13="x",Hoja1!$AT$2,""))))),"") | AP13: =IF(M$80="SI",IF(Hoja1!AP13="x",Hoja1!$AP$2,IF(Hoja1!AQ13="x",Hoja1!$AQ$2,IF(Hoja1!AR13="x",Hoja1!$AR$2,IF(Hoja1!AS13="x",Hoja1!$AS$2,IF(Hoja1!AT13="x",Hoja1!$AT$2,""))))),"") | AQ13: =IF(M$89="SI",IF(Hoja1!AP13="x",Hoja1!$AP$2,IF(Hoja1!AQ13="x",Hoja1!$AQ$2,IF(Hoja1!AR13="x",Hoja1!$AR$2,IF(Hoja1!AS13="x",Hoja1!$AS$2,IF(Hoja1!AT13="x",Hoja1!$AT$2,""))))),"") | AR13: =IF(M$83="SI",IF(Hoja1!AU13="x",Hoja1!$AU$2,IF(Hoja1!AV13="x",Hoja1!$AV$2,IF(Hoja1!AW13="x",Hoja1!$AW$2,IF(Hoja1!AX13="x",Hoja1!$AX$2,IF(Hoja1!AY13="x",Hoja1!$AY$2,""))))),"") | AS13: =IF(M$55="SI",IF(Hoja1!AU13="x",Hoja1!$AU$2,IF(Hoja1!AV13="x",Hoja1!$AV$2,IF(Hoja1!AW13="x",Hoja1!$AW$2,IF(Hoja1!AX13="x",Hoja1!$AX$2,IF(Hoja1!AY13="x",Hoja1!$AY$2,""))))),"") | AT13: =IF(M$57="SI",IF(Hoja1!AU13="x",Hoja1!$AU$2,IF(Hoja1!AV13="x",Hoja1!$AV$2,IF(Hoja1!AW13="x",Hoja1!$AW$2,IF(Hoja1!AX13="x",Hoja1!$AX$2,IF(Hoja1!AY13="x",Hoja1!$AY$2,""))))),"") | AU13: =IF(M$47="SI",IF(Hoja1!AZ13="x",Hoja1!$AZ$2,IF(Hoja1!BA13="x",Hoja1!$BA$2,IF(Hoja1!BB13="x",Hoja1!$BB$2,IF(Hoja1!BC13="x",Hoja1!$BC$2,IF(Hoja1!BD13="x",Hoja1!$BD$2,""))))),"") -> O | AV13: =IF(M$62="SI",IF(Hoja1!AZ13="x",Hoja1!$AZ$2,IF(Hoja1!BA13="x",Hoja1!$BA$2,IF(Hoja1!BB13="x",Hoja1!$BB$2,IF(Hoja1!BC13="x",Hoja1!$BC$2,IF(Hoja1!BD13="x",Hoja1!$BD$2,""))))),"") -> O | AW13: =IF(M$83="SI",IF(Hoja1!AZ13="x",Hoja1!$AZ$2,IF(Hoja1!BA13="x",Hoja1!$BA$2,IF(Hoja1!BB13="x",Hoja1!$BB$2,IF(Hoja1!BC13="x",Hoja1!$BC$2,IF(Hoja1!BD13="x",Hoja1!$BD$2,""))))),"") -> O | AX13: =IF(M$84="SI",IF(Hoja1!AZ13="x",Hoja1!$AZ$2,IF(Hoja1!BA13="x",Hoja1!$BA$2,IF(Hoja1!BB13="x",Hoja1!$BB$2,IF(Hoja1!BC13="x",Hoja1!$BC$2,IF(Hoja1!BD13="x",Hoja1!$BD$2,""))))),"") -> O | AY13: =IF(M$86="SI",IF(Hoja1!AZ13="x",Hoja1!$AZ$2,IF(Hoja1!BA13="x",Hoja1!$BA$2,IF(Hoja1!BB13="x",Hoja1!$BB$2,IF(Hoja1!BC13="x",Hoja1!$BC$2,IF(Hoja1!BD13="x",Hoja1!$BD$2,""))))),"") -> O | AZ13: =IF(M$46="SI",IF(Hoja1!BE13="x",Hoja1!$BE$2,IF(Hoja1!BF13="x",Hoja1!$BF$2,IF(Hoja1!BG13="x",Hoja1!$BG$2,IF(Hoja1!BH13="x",Hoja1!$BH$2,IF(Hoja1!BI13="x",Hoja1!$BI$2,""))))),"") -> O | BA13: =IF(M$84="SI",IF(Hoja1!BE13="x",Hoja1!$BE$2,IF(Hoja1!BF13="x",Hoja1!$BF$2,IF(Hoja1!BG13="x",Hoja1!$BG$2,IF(Hoja1!BH13="x",Hoja1!$BH$2,IF(Hoja1!BI13="x",Hoja1!$BI$2,""))))),"") -> O | BB13: =IF(M$45="SI",IF(Hoja1!BJ13="x",Hoja1!$BJ$2,IF(Hoja1!BK13="x",Hoja1!$BK$2,IF(Hoja1!BL13="x",Hoja1!$BL$2,IF(Hoja1!BM13="x",Hoja1!$BM$2,IF(Hoja1!BN13="x",Hoja1!$BN$2,""))))),"") | BC13: =IF(M$56="SI",IF(Hoja1!BJ13="x",Hoja1!$BJ$2,IF(Hoja1!BK13="x",Hoja1!$BK$2,IF(Hoja1!BL13="x",Hoja1!$BL$2,IF(Hoja1!BM13="x",Hoja1!$BM$2,IF(Hoja1!BN13="x",Hoja1!$BN$2,""))))),"") | BD13: =IF(M$59="SI",IF(Hoja1!BJ13="x",Hoja1!$BJ$2,IF(Hoja1!BK13="x",Hoja1!$BK$2,IF(Hoja1!BL13="x",Hoja1!$BL$2,IF(Hoja1!BM13="x",Hoja1!$BM$2,IF(Hoja1!BN13="x",Hoja1!$BN$2,""))))),"") | BE13: =IF(M$62="SI",IF(Hoja1!BJ13="x",Hoja1!$BJ$2,IF(Hoja1!BK13="x",Hoja1!$BK$2,IF(Hoja1!BL13="x",Hoja1!$BL$2,IF(Hoja1!BM13="x",Hoja1!$BM$2,IF(Hoja1!BN13="x",Hoja1!$BN$2,""))))),"") | BF13: =IF(M$52="SI",IF(Hoja1!BJ13="x",Hoja1!$BJ$2,IF(Hoja1!BK13="x",Hoja1!$BK$2,IF(Hoja1!BL13="x",Hoja1!$BL$2,IF(Hoja1!BM13="x",Hoja1!$BM$2,IF(Hoja1!BN13="x",Hoja1!$BN$2,""))))),"") | BG13: =IF(M$75="SI",IF(Hoja1!BJ13="x",Hoja1!$BJ$2,IF(Hoja1!BK13="x",Hoja1!$BK$2,IF(Hoja1!BL13="x",Hoja1!$BL$2,IF(Hoja1!BM13="x",Hoja1!$BM$2,IF(Hoja1!BN13="x",Hoja1!$BN$2,""))))),"") | BH13: =IF(M$71="SI",IF(Hoja1!BO13="x",Hoja1!$BO$2,IF(Hoja1!BP13="x",Hoja1!$BP$2,IF(Hoja1!BQ13="x",Hoja1!$BQ$2,IF(Hoja1!BR13="x",Hoja1!$BR$2,IF(Hoja1!BS13="x",Hoja1!$BS$2,""))))),"") | BI13: =IF(M$72="SI",IF(Hoja1!BO13="x",Hoja1!$BO$2,IF(Hoja1!BP13="x",Hoja1!$BP$2,IF(Hoja1!BQ13="x",Hoja1!$BQ$2,IF(Hoja1!BR13="x",Hoja1!$BR$2,IF(Hoja1!BS13="x",Hoja1!$BS$2,""))))),"") | BJ13: =IF(M$58="SI",IF(Hoja1!BO13="x",Hoja1!$BO$2,IF(Hoja1!BP13="x",Hoja1!$BP$2,IF(Hoja1!BQ13="x",Hoja1!$BQ$2,IF(Hoja1!BR13="x",Hoja1!$BR$2,IF(Hoja1!BS13="x",Hoja1!$BS$2,""))))),"") | BK13: =IF(M$67="SI",IF(Hoja1!BT13="x",Hoja1!$BT$2,IF(Hoja1!BU13="x",Hoja1!$BU$2,IF(Hoja1!BV13="x",Hoja1!$BV$2,IF(Hoja1!BW13="x",Hoja1!$BW$2,IF(Hoja1!BX13="x",Hoja1!$BX$2,""))))),"") | BL13: =IF(M$68="SI",IF(Hoja1!BT13="x",Hoja1!$BT$2,IF(Hoja1!BU13="x",Hoja1!$BU$2,IF(Hoja1!BV13="x",Hoja1!$BV$2,IF(Hoja1!BW13="x",Hoja1!$BW$2,IF(Hoja1!BX13="x",Hoja1!$BX$2,""))))),"") | BM13: =IF(M$90="SI",IF(Hoja1!BT13="x",Hoja1!$BT$2,IF(Hoja1!BU13="x",Hoja1!$BU$2,IF(Hoja1!BV13="x",Hoja1!$BV$2,IF(Hoja1!BW13="x",Hoja1!$BW$2,IF(Hoja1!BX13="x",Hoja1!$BX$2,""))))),"") | BN13: =IF(M$91="SI",IF(Hoja1!BT13="x",Hoja1!$BT$2,IF(Hoja1!BU13="x",Hoja1!$BU$2,IF(Hoja1!BV13="x",Hoja1!$BV$2,IF(Hoja1!BW13="x",Hoja1!$BW$2,IF(Hoja1!BX13="x",Hoja1!$BX$2,""))))),"") | BO13: =IF(M$92="SI",IF(Hoja1!BT13="x",Hoja1!$BT$2,IF(Hoja1!BU13="x",Hoja1!$BU$2,IF(Hoja1!BV13="x",Hoja1!$BV$2,IF(Hoja1!BW13="x",Hoja1!$BW$2,IF(Hoja1!BX13="x",Hoja1!$BX$2,""))))),"") | BP13: =IF(M$67="SI",IF(Hoja1!BY13="x",Hoja1!$BY$2,IF(Hoja1!BZ13="x",Hoja1!$BZ$2,IF(Hoja1!CA13="x",Hoja1!$CA$2,IF(Hoja1!CB13="x",Hoja1!$CB$2,IF(Hoja1!CC13="x",Hoja1!$CC$2,""))))),"") | BQ13: =IF(M$68="SI",IF(Hoja1!BY13="x",Hoja1!$BY$2,IF(Hoja1!BZ13="x",Hoja1!$BZ$2,IF(Hoja1!CA13="x",Hoja1!$CA$2,IF(Hoja1!CB13="x",Hoja1!$CB$2,IF(Hoja1!CC13="x",Hoja1!$CC$2,""))))),"") | BR13: =IF(M$69="SI",IF(Hoja1!BY13="x",Hoja1!$BY$2,IF(Hoja1!BZ13="x",Hoja1!$BZ$2,IF(Hoja1!CA13="x",Hoja1!$CA$2,IF(Hoja1!CB13="x",Hoja1!$CB$2,IF(Hoja1!CC13="x",Hoja1!$CC$2,""))))),"") | BS13: =IF(M$90="SI",IF(Hoja1!BY13="x",Hoja1!$BY$2,IF(Hoja1!BZ13="x",Hoja1!$BZ$2,IF(Hoja1!CA13="x",Hoja1!$CA$2,IF(Hoja1!CB13="x",Hoja1!$CB$2,IF(Hoja1!CC13="x",Hoja1!$CC$2,""))))),"") | BT13: =IF(M$91="SI",IF(Hoja1!BY13="x",Hoja1!$BY$2,IF(Hoja1!BZ13="x",Hoja1!$BZ$2,IF(Hoja1!CA13="x",Hoja1!$CA$2,IF(Hoja1!CB13="x",Hoja1!$CB$2,IF(Hoja1!CC13="x",Hoja1!$CC$2,""))))),"") | BU13: =IF(M$92="SI",IF(Hoja1!BY13="x",Hoja1!$BY$2,IF(Hoja1!BZ13="x",Hoja1!$BZ$2,IF(Hoja1!CA13="x",Hoja1!$CA$2,IF(Hoja1!CB13="x",Hoja1!$CB$2,IF(Hoja1!CC13="x",Hoja1!$CC$2,""))))),"") | BV13: =IF(M$59="SI",IF(Hoja1!CD13="x",Hoja1!$CD$2,IF(Hoja1!CE13="x",Hoja1!$CE$2,IF(Hoja1!CF13="x",Hoja1!$CF$2,IF(Hoja1!CG13="x",Hoja1!$CG$2,IF(Hoja1!CH13="x",Hoja1!$CH$2,""))))),"") | BW13: =IF(M$67="SI",IF(Hoja1!CD13="x",Hoja1!$CD$2,IF(Hoja1!CE13="x",Hoja1!$CE$2,IF(Hoja1!CF13="x",Hoja1!$CF$2,IF(Hoja1!CG13="x",Hoja1!$CG$2,IF(Hoja1!CH13="x",Hoja1!$CH$2,""))))),"") | BX13: =IF(M$68="SI",IF(Hoja1!CD13="x",Hoja1!$CD$2,IF(Hoja1!CE13="x",Hoja1!$CE$2,IF(Hoja1!CF13="x",Hoja1!$CF$2,IF(Hoja1!CG13="x",Hoja1!$CG$2,IF(Hoja1!CH13="x",Hoja1!$CH$2,""))))),"") | BY13: =IF(M$69="SI",IF(Hoja1!CD13="x",Hoja1!$CD$2,IF(Hoja1!CE13="x",Hoja1!$CE$2,IF(Hoja1!CF13="x",Hoja1!$CF$2,IF(Hoja1!CG13="x",Hoja1!$CG$2,IF(Hoja1!CH13="x",Hoja1!$CH$2,""))))),"") | BZ13: =IF(M$90="SI",IF(Hoja1!CD13="x",Hoja1!$CD$2,IF(Hoja1!CE13="x",Hoja1!$CE$2,IF(Hoja1!CF13="x",Hoja1!$CF$2,IF(Hoja1!CG13="x",Hoja1!$CG$2,IF(Hoja1!CH13="x",Hoja1!$CH$2,""))))),"") | CA13: =IF(M$91="SI",IF(Hoja1!CD13="x",Hoja1!$CD$2,IF(Hoja1!CE13="x",Hoja1!$CE$2,IF(Hoja1!CF13="x",Hoja1!$CF$2,IF(Hoja1!CG13="x",Hoja1!$CG$2,IF(Hoja1!CH13="x",Hoja1!$CH$2,""))))),"") | CB13: =IF(M$92="SI",IF(Hoja1!CD13="x",Hoja1!$CD$2,IF(Hoja1!CE13="x",Hoja1!$CE$2,IF(Hoja1!CF13="x",Hoja1!$CF$2,IF(Hoja1!CG13="x",Hoja1!$CG$2,IF(Hoja1!CH13="x",Hoja1!$CH$2,""))))),"") | CC13: =IF(M$69="SI",IF(Hoja1!CD13="x",Hoja1!$CD$2,IF(Hoja1!CE13="x",Hoja1!$CE$2,IF(Hoja1!CF13="x",Hoja1!$CF$2,IF(Hoja1!CG13="x",Hoja1!$CG$2,IF(Hoja1!CH13="x",Hoja1!$CH$2,""))))),"") | CD13: =IF(M$90="SI",IF(Hoja1!CD13="x",Hoja1!$CD$2,IF(Hoja1!CE13="x",Hoja1!$CE$2,IF(Hoja1!CF13="x",Hoja1!$CF$2,IF(Hoja1!CG13="x",Hoja1!$CG$2,IF(Hoja1!CH13="x",Hoja1!$CH$2,""))))),"") | CE13: =IF(M$91="SI",IF(Hoja1!CD13="x",Hoja1!$CD$2,IF(Hoja1!CE13="x",Hoja1!$CE$2,IF(Hoja1!CF13="x",Hoja1!$CF$2,IF(Hoja1!CG13="x",Hoja1!$CG$2,IF(Hoja1!CH13="x",Hoja1!$CH$2,""))))),"") | CF13: =IF(M$92="SI",IF(Hoja1!CD13="x",Hoja1!$CD$2,IF(Hoja1!CE13="x",Hoja1!$CE$2,IF(Hoja1!CF13="x",Hoja1!$CF$2,IF(Hoja1!CG13="x",Hoja1!$CG$2,IF(Hoja1!CH13="x",Hoja1!$CH$2,""))))),"")
A14: 12 | B14: =IF(N62="SI",IF(Hoja1!B14="x",Hoja1!$B$2,IF(Hoja1!C14="x",Hoja1!$C$2,IF(Hoja1!D14="x",Hoja1!$D$2,IF(Hoja1!E14="x",Hoja1!$E$2,IF(Hoja1!F14="x",Hoja1!$F$2,""))))),"") | C14: =IF(N43="SI",IF(Hoja1!B14="x",Hoja1!$B$2,IF(Hoja1!C14="x",Hoja1!$C$2,IF(Hoja1!D14="x",Hoja1!$D$2,IF(Hoja1!E14="x",Hoja1!$E$2,IF(Hoja1!F14="x",Hoja1!$F$2,""))))),"") | D14: =IF(N44="SI",IF(Hoja1!B14="x",Hoja1!$B$2,IF(Hoja1!C14="x",Hoja1!$C$2,IF(Hoja1!D14="x",Hoja1!$D$2,IF(Hoja1!E14="x",Hoja1!$E$2,IF(Hoja1!F14="x",Hoja1!$F$2,""))))),"") | E14: =IF(N$82="SI",IF(Hoja1!B14="x",Hoja1!$B$2,IF(Hoja1!C14="x",Hoja1!$C$2,IF(Hoja1!D14="x",Hoja1!$D$2,IF(Hoja1!E14="x",Hoja1!$E$2,IF(Hoja1!F14="x",Hoja1!$F$2,""))))),"") | F14: =IF(N$84="SI",IF(Hoja1!B14="x",Hoja1!$B$2,IF(Hoja1!C14="x",Hoja1!$C$2,IF(Hoja1!D14="x",Hoja1!$D$2,IF(Hoja1!E14="x",Hoja1!$E$2,IF(Hoja1!F14="x",Hoja1!$F$2,""))))),"") | G14: =IF(N$70="SI",IF(Hoja1!B14="x",Hoja1!$B$2,IF(Hoja1!C14="x",Hoja1!$C$2,IF(Hoja1!D14="x",Hoja1!$D$2,IF(Hoja1!E14="x",Hoja1!$E$2,IF(Hoja1!F14="x",Hoja1!$F$2,""))))),"") | H14: =IF(N$82="SI",IF(Hoja1!G14="x",Hoja1!$G$2,IF(Hoja1!H14="x",Hoja1!$H$2,IF(Hoja1!I14="x",Hoja1!$I$2,IF(Hoja1!J14="x",Hoja1!$J$2,IF(Hoja1!K14="x",Hoja1!$K$2,""))))),"") -> B | I14: =IF(N$85="SI",IF(Hoja1!G14="x",Hoja1!$G$2,IF(Hoja1!H14="x",Hoja1!$H$2,IF(Hoja1!I14="x",Hoja1!$I$2,IF(Hoja1!J14="x",Hoja1!$J$2,IF(Hoja1!K14="x",Hoja1!$K$2,""))))),"") -> B | J14: =IF(N$86="SI",IF(Hoja1!G14="x",Hoja1!$G$2,IF(Hoja1!H14="x",Hoja1!$H$2,IF(Hoja1!I14="x",Hoja1!$I$2,IF(Hoja1!J14="x",Hoja1!$J$2,IF(Hoja1!K14="x",Hoja1!$K$2,""))))),"") -> B | K14: =IF(N$87="SI",IF(Hoja1!G14="x",Hoja1!$G$2,IF(Hoja1!H14="x",Hoja1!$H$2,IF(Hoja1!I14="x",Hoja1!$I$2,IF(Hoja1!J14="x",Hoja1!$J$2,IF(Hoja1!K14="x",Hoja1!$K$2,""))))),"") -> B | L14: =IF(N$64="SI",IF(Hoja1!G14="x",Hoja1!$G$2,IF(Hoja1!H14="x",Hoja1!$H$2,IF(Hoja1!I14="x",Hoja1!$I$2,IF(Hoja1!J14="x",Hoja1!$J$2,IF(Hoja1!K14="x",Hoja1!$K$2,""))))),"") -> B | M14: =IF(N$73="SI",IF(Hoja1!G14="x",Hoja1!$G$2,IF(Hoja1!H14="x",Hoja1!$H$2,IF(Hoja1!I14="x",Hoja1!$I$2,IF(Hoja1!J14="x",Hoja1!$J$2,IF(Hoja1!K14="x",Hoja1!$K$2,""))))),"") -> B | N14: =IF(N$74="SI",IF(Hoja1!G14="x",Hoja1!$G$2,IF(Hoja1!H14="x",Hoja1!$H$2,IF(Hoja1!I14="x",Hoja1!$I$2,IF(Hoja1!J14="x",Hoja1!$J$2,IF(Hoja1!K14="x",Hoja1!$K$2,""))))),"") -> B | O14: =IF(N$60="SI",IF(Hoja1!L14="x",Hoja1!$L$2,IF(Hoja1!M14="x",Hoja1!$M$2,IF(Hoja1!N14="x",Hoja1!$N$2,IF(Hoja1!O14="x",Hoja1!$O$2,IF(Hoja1!P14="x",Hoja1!$P$2,""))))),"") -> O | P14: =IF(N$80="SI",IF(Hoja1!L14="x",Hoja1!$L$2,IF(Hoja1!M14="x",Hoja1!$M$2,IF(Hoja1!N14="x",Hoja1!$N$2,IF(Hoja1!O14="x",Hoja1!$O$2,IF(Hoja1!P14="x",Hoja1!$P$2,""))))),"") -> O | Q14: =IF(N$43="SI",IF(Hoja1!L14="x",Hoja1!$L$2,IF(Hoja1!M14="x",Hoja1!$M$2,IF(Hoja1!N14="x",Hoja1!$N$2,IF(Hoja1!O14="x",Hoja1!$O$2,IF(Hoja1!P14="x",Hoja1!$P$2,""))))),"") -> O | R14: =IF(N$82="SI",IF(Hoja1!L14="x",Hoja1!$L$2,IF(Hoja1!M14="x",Hoja1!$M$2,IF(Hoja1!N14="x",Hoja1!$N$2,IF(Hoja1!O14="x",Hoja1!$O$2,IF(Hoja1!P14="x",Hoja1!$P$2,""))))),"") -> O | S14: =IF(N$76="SI",IF(Hoja1!L14="x",Hoja1!$L$2,IF(Hoja1!M14="x",Hoja1!$M$2,IF(Hoja1!N14="x",Hoja1!$N$2,IF(Hoja1!O14="x",Hoja1!$O$2,IF(Hoja1!P14="x",Hoja1!$P$2,""))))),"") -> O | T14: =IF(N$77="SI",IF(Hoja1!L14="x",Hoja1!$L$2,IF(Hoja1!M14="x",Hoja1!$M$2,IF(Hoja1!N14="x",Hoja1!$N$2,IF(Hoja1!O14="x",Hoja1!$O$2,IF(Hoja1!P14="x",Hoja1!$P$2,""))))),"") -> O | U14: =IF(N$78="SI",IF(Hoja1!L14="x",Hoja1!$L$2,IF(Hoja1!M14="x",Hoja1!$M$2,IF(Hoja1!N14="x",Hoja1!$N$2,IF(Hoja1!O14="x",Hoja1!$O$2,IF(Hoja1!P14="x",Hoja1!$P$2,""))))),"") -> O | V14: =IF(N$60="SI",IF(Hoja1!Q14="x",Hoja1!$Q$2,IF(Hoja1!R14="x",Hoja1!$R$2,IF(Hoja1!S14="x",Hoja1!$S$2,IF(Hoja1!T14="x",Hoja1!$T$2,IF(Hoja1!U14="x",Hoja1!$U$2,""))))),"") -> O | W14: =IF(N$61="SI",IF(Hoja1!Q14="x",Hoja1!$Q$2,IF(Hoja1!R14="x",Hoja1!$R$2,IF(Hoja1!S14="x",Hoja1!$S$2,IF(Hoja1!T14="x",Hoja1!$T$2,IF(Hoja1!U14="x",Hoja1!$U$2,""))))),"") -> O | X14: =IF(N$62="SI",IF(Hoja1!Q14="x",Hoja1!$Q$2,IF(Hoja1!R14="x",Hoja1!$R$2,IF(Hoja1!S14="x",Hoja1!$S$2,IF(Hoja1!T14="x",Hoja1!$T$2,IF(Hoja1!U14="x",Hoja1!$U$2,""))))),"") -> O | Y14: =IF(N$79="SI",IF(Hoja1!Q14="x",Hoja1!$Q$2,IF(Hoja1!R14="x",Hoja1!$R$2,IF(Hoja1!S14="x",Hoja1!$S$2,IF(Hoja1!T14="x",Hoja1!$T$2,IF(Hoja1!U14="x",Hoja1!$U$2,""))))),"") -> O | Z14: =IF(N$81="SI",IF(Hoja1!Q14="x",Hoja1!$Q$2,IF(Hoja1!R14="x",Hoja1!$R$2,IF(Hoja1!S14="x",Hoja1!$S$2,IF(Hoja1!T14="x",Hoja1!$T$2,IF(Hoja1!U14="x",Hoja1!$U$2,""))))),"") -> O | AA14: =IF(N$63="SI",IF(Hoja1!Q14="x",Hoja1!$Q$2,IF(Hoja1!R14="x",Hoja1!$R$2,IF(Hoja1!S14="x",Hoja1!$S$2,IF(Hoja1!T14="x",Hoja1!$T$2,IF(Hoja1!U14="x",Hoja1!$U$2,""))))),"") -> O | AB14: =IF(N$64="SI",IF(Hoja1!Q14="x",Hoja1!$Q$2,IF(Hoja1!R14="x",Hoja1!$R$2,IF(Hoja1!S14="x",Hoja1!$S$2,IF(Hoja1!T14="x",Hoja1!$T$2,IF(Hoja1!U14="x",Hoja1!$U$2,""))))),"") -> O | AC14: =IF(N$65="SI",IF(Hoja1!Q14="x",Hoja1!$Q$2,IF(Hoja1!R14="x",Hoja1!$R$2,IF(Hoja1!S14="x",Hoja1!$S$2,IF(Hoja1!T14="x",Hoja1!$T$2,IF(Hoja1!U14="x",Hoja1!$U$2,""))))),"") -> O | AD14: =IF(N45="SI",IF(Hoja1!V14="x",Hoja1!$V$2,IF(Hoja1!W14="x",Hoja1!$W$2,IF(Hoja1!X14="x",Hoja1!$X$2,IF(Hoja1!Y14="x",Hoja1!$Y$2,IF(Hoja1!Z14="x",Hoja1!$Z$2,""))))),"") | AE14: =IF(N$53="SI",IF(Hoja1!V14="x",Hoja1!$V$2,IF(Hoja1!W14="x",Hoja1!$W$2,IF(Hoja1!X14="x",Hoja1!$X$2,IF(Hoja1!Y14="x",Hoja1!$Y$2,IF(Hoja1!Z14="x",Hoja1!$Z$2,""))))),"") | AF14: =IF(N$43="SI",IF(Hoja1!AA14="x",Hoja1!$AA$2,IF(Hoja1!AB14="x",Hoja1!$AB$2,IF(Hoja1!AC14="x",Hoja1!$AC$2,IF(Hoja1!AD14="x",Hoja1!$AD$2,IF(Hoja1!AE14="x",Hoja1!$AE$2,""))))),"") | AG14: =IF(N$54="SI",IF(Hoja1!AA14="x",Hoja1!$AA$2,IF(Hoja1!AB14="x",Hoja1!$AB$2,IF(Hoja1!AC14="x",Hoja1!$AC$2,IF(Hoja1!AD14="x",Hoja1!$AD$2,IF(Hoja1!AE14="x",Hoja1!$AE$2,""))))),"") | AH14: =IF(N$88="SI",IF(Hoja1!AF14="x",Hoja1!$AF$2,IF(Hoja1!AG14="x",Hoja1!$AG$2,IF(Hoja1!AH14="x",Hoja1!$AH$2,IF(Hoja1!AI14="x",Hoja1!$AI$2,IF(Hoja1!AJ14="x",Hoja1!$AJ$2,""))))),"") | AI14: =IF(N$48="SI",IF(Hoja1!AF14="x",Hoja1!$AF$2,IF(Hoja1!AG14="x",Hoja1!$AG$2,IF(Hoja1!AH14="x",Hoja1!$AH$2,IF(Hoja1!AI14="x",Hoja1!$AI$2,IF(Hoja1!AJ14="x",Hoja1!$AJ$2,""))))),"") | AJ14: =IF(N$51="SI",IF(Hoja1!AF14="x",Hoja1!$AF$2,IF(Hoja1!AG14="x",Hoja1!$AG$2,IF(Hoja1!AH14="x",Hoja1!$AH$2,IF(Hoja1!AI14="x",Hoja1!$AI$2,IF(Hoja1!AJ14="x",Hoja1!$AJ$2,""))))),"") | AK14: =IF(N$88="SI",IF(Hoja1!AK14="x",Hoja1!$AK$2,IF(Hoja1!AL14="x",Hoja1!$AL$2,IF(Hoja1!AM14="x",Hoja1!$AM$2,IF(Hoja1!AN14="x",Hoja1!$AN$2,IF(Hoja1!AO14="x",Hoja1!$AO$2,""))))),"") | AL14: =IF(N$48="SI",IF(Hoja1!AK14="x",Hoja1!$AK$2,IF(Hoja1!AL14="x",Hoja1!$AL$2,IF(Hoja1!AM14="x",Hoja1!$AM$2,IF(Hoja1!AN14="x",Hoja1!$AN$2,IF(Hoja1!AO14="x",Hoja1!$AO$2,""))))),"") | AM14: =IF(N$49="SI",IF(Hoja1!AK14="x",Hoja1!$AK$2,IF(Hoja1!AL14="x",Hoja1!$AL$2,IF(Hoja1!AM14="x",Hoja1!$AM$2,IF(Hoja1!AN14="x",Hoja1!$AN$2,IF(Hoja1!AO14="x",Hoja1!$AO$2,""))))),"") | AN14: =IF(N$50="SI",IF(Hoja1!AK14="x",Hoja1!$AK$2,IF(Hoja1!AL14="x",Hoja1!$AL$2,IF(Hoja1!AM14="x",Hoja1!$AM$2,IF(Hoja1!AN14="x",Hoja1!$AN$2,IF(Hoja1!AO14="x",Hoja1!$AO$2,""))))),"") | AO14: =IF(N$59="SI",IF(Hoja1!AP14="x",Hoja1!$AP$2,IF(Hoja1!AQ14="x",Hoja1!$AQ$2,IF(Hoja1!AR14="x",Hoja1!$AR$2,IF(Hoja1!AS14="x",Hoja1!$AS$2,IF(Hoja1!AT14="x",Hoja1!$AT$2,""))))),"") | AP14: =IF(N$80="SI",IF(Hoja1!AP14="x",Hoja1!$AP$2,IF(Hoja1!AQ14="x",Hoja1!$AQ$2,IF(Hoja1!AR14="x",Hoja1!$AR$2,IF(Hoja1!AS14="x",Hoja1!$AS$2,IF(Hoja1!AT14="x",Hoja1!$AT$2,""))))),"") | AQ14: =IF(N$89="SI",IF(Hoja1!AP14="x",Hoja1!$AP$2,IF(Hoja1!AQ14="x",Hoja1!$AQ$2,IF(Hoja1!AR14="x",Hoja1!$AR$2,IF(Hoja1!AS14="x",Hoja1!$AS$2,IF(Hoja1!AT14="x",Hoja1!$AT$2,""))))),"") | AR14: =IF(N$83="SI",IF(Hoja1!AU14="x",Hoja1!$AU$2,IF(Hoja1!AV14="x",Hoja1!$AV$2,IF(Hoja1!AW14="x",Hoja1!$AW$2,IF(Hoja1!AX14="x",Hoja1!$AX$2,IF(Hoja1!AY14="x",Hoja1!$AY$2,""))))),"") | AS14: =IF(N$55="SI",IF(Hoja1!AU14="x",Hoja1!$AU$2,IF(Hoja1!AV14="x",Hoja1!$AV$2,IF(Hoja1!AW14="x",Hoja1!$AW$2,IF(Hoja1!AX14="x",Hoja1!$AX$2,IF(Hoja1!AY14="x",Hoja1!$AY$2,""))))),"") | AT14: =IF(N$57="SI",IF(Hoja1!AU14="x",Hoja1!$AU$2,IF(Hoja1!AV14="x",Hoja1!$AV$2,IF(Hoja1!AW14="x",Hoja1!$AW$2,IF(Hoja1!AX14="x",Hoja1!$AX$2,IF(Hoja1!AY14="x",Hoja1!$AY$2,""))))),"") | AU14: =IF(N$47="SI",IF(Hoja1!AZ14="x",Hoja1!$AZ$2,IF(Hoja1!BA14="x",Hoja1!$BA$2,IF(Hoja1!BB14="x",Hoja1!$BB$2,IF(Hoja1!BC14="x",Hoja1!$BC$2,IF(Hoja1!BD14="x",Hoja1!$BD$2,""))))),"") | AV14: =IF(N$62="SI",IF(Hoja1!AZ14="x",Hoja1!$AZ$2,IF(Hoja1!BA14="x",Hoja1!$BA$2,IF(Hoja1!BB14="x",Hoja1!$BB$2,IF(Hoja1!BC14="x",Hoja1!$BC$2,IF(Hoja1!BD14="x",Hoja1!$BD$2,""))))),"") | AW14: =IF(N$83="SI",IF(Hoja1!AZ14="x",Hoja1!$AZ$2,IF(Hoja1!BA14="x",Hoja1!$BA$2,IF(Hoja1!BB14="x",Hoja1!$BB$2,IF(Hoja1!BC14="x",Hoja1!$BC$2,IF(Hoja1!BD14="x",Hoja1!$BD$2,""))))),"") | AX14: =IF(N$84="SI",IF(Hoja1!AZ14="x",Hoja1!$AZ$2,IF(Hoja1!BA14="x",Hoja1!$BA$2,IF(Hoja1!BB14="x",Hoja1!$BB$2,IF(Hoja1!BC14="x",Hoja1!$BC$2,IF(Hoja1!BD14="x",Hoja1!$BD$2,""))))),"") | AY14: =IF(N$86="SI",IF(Hoja1!AZ14="x",Hoja1!$AZ$2,IF(Hoja1!BA14="x",Hoja1!$BA$2,IF(Hoja1!BB14="x",Hoja1!$BB$2,IF(Hoja1!BC14="x",Hoja1!$BC$2,IF(Hoja1!BD14="x",Hoja1!$BD$2,""))))),"") | AZ14: =IF(N$46="SI",IF(Hoja1!BE14="x",Hoja1!$BE$2,IF(Hoja1!BF14="x",Hoja1!$BF$2,IF(Hoja1!BG14="x",Hoja1!$BG$2,IF(Hoja1!BH14="x",Hoja1!$BH$2,IF(Hoja1!BI14="x",Hoja1!$BI$2,""))))),"") -> O | BA14: =IF(N$84="SI",IF(Hoja1!BE14="x",Hoja1!$BE$2,IF(Hoja1!BF14="x",Hoja1!$BF$2,IF(Hoja1!BG14="x",Hoja1!$BG$2,IF(Hoja1!BH14="x",Hoja1!$BH$2,IF(Hoja1!BI14="x",Hoja1!$BI$2,""))))),"") -> O | BB14: =IF(N$45="SI",IF(Hoja1!BJ14="x",Hoja1!$BJ$2,IF(Hoja1!BK14="x",Hoja1!$BK$2,IF(Hoja1!BL14="x",Hoja1!$BL$2,IF(Hoja1!BM14="x",Hoja1!$BM$2,IF(Hoja1!BN14="x",Hoja1!$BN$2,""))))),"") | BC14: =IF(N$56="SI",IF(Hoja1!BJ14="x",Hoja1!$BJ$2,IF(Hoja1!BK14="x",Hoja1!$BK$2,IF(Hoja1!BL14="x",Hoja1!$BL$2,IF(Hoja1!BM14="x",Hoja1!$BM$2,IF(Hoja1!BN14="x",Hoja1!$BN$2,""))))),"") | BD14: =IF(N$59="SI",IF(Hoja1!BJ14="x",Hoja1!$BJ$2,IF(Hoja1!BK14="x",Hoja1!$BK$2,IF(Hoja1!BL14="x",Hoja1!$BL$2,IF(Hoja1!BM14="x",Hoja1!$BM$2,IF(Hoja1!BN14="x",Hoja1!$BN$2,""))))),"") | BE14: =IF(N$62="SI",IF(Hoja1!BJ14="x",Hoja1!$BJ$2,IF(Hoja1!BK14="x",Hoja1!$BK$2,IF(Hoja1!BL14="x",Hoja1!$BL$2,IF(Hoja1!BM14="x",Hoja1!$BM$2,IF(Hoja1!BN14="x",Hoja1!$BN$2,""))))),"") | BF14: =IF(N$52="SI",IF(Hoja1!BJ14="x",Hoja1!$BJ$2,IF(Hoja1!BK14="x",Hoja1!$BK$2,IF(Hoja1!BL14="x",Hoja1!$BL$2,IF(Hoja1!BM14="x",Hoja1!$BM$2,IF(Hoja1!BN14="x",Hoja1!$BN$2,""))))),"") | BG14: =IF(N$75="SI",IF(Hoja1!BJ14="x",Hoja1!$BJ$2,IF(Hoja1!BK14="x",Hoja1!$BK$2,IF(Hoja1!BL14="x",Hoja1!$BL$2,IF(Hoja1!BM14="x",Hoja1!$BM$2,IF(Hoja1!BN14="x",Hoja1!$BN$2,""))))),"") | BH14: =IF(N$71="SI",IF(Hoja1!BO14="x",Hoja1!$BO$2,IF(Hoja1!BP14="x",Hoja1!$BP$2,IF(Hoja1!BQ14="x",Hoja1!$BQ$2,IF(Hoja1!BR14="x",Hoja1!$BR$2,IF(Hoja1!BS14="x",Hoja1!$BS$2,""))))),"") -> O | BI14: =IF(N$72="SI",IF(Hoja1!BO14="x",Hoja1!$BO$2,IF(Hoja1!BP14="x",Hoja1!$BP$2,IF(Hoja1!BQ14="x",Hoja1!$BQ$2,IF(Hoja1!BR14="x",Hoja1!$BR$2,IF(Hoja1!BS14="x",Hoja1!$BS$2,""))))),"") -> O | BJ14: =IF(N$58="SI",IF(Hoja1!BO14="x",Hoja1!$BO$2,IF(Hoja1!BP14="x",Hoja1!$BP$2,IF(Hoja1!BQ14="x",Hoja1!$BQ$2,IF(Hoja1!BR14="x",Hoja1!$BR$2,IF(Hoja1!BS14="x",Hoja1!$BS$2,""))))),"") -> O | BK14: =IF(N$67="SI",IF(Hoja1!BT14="x",Hoja1!$BT$2,IF(Hoja1!BU14="x",Hoja1!$BU$2,IF(Hoja1!BV14="x",Hoja1!$BV$2,IF(Hoja1!BW14="x",Hoja1!$BW$2,IF(Hoja1!BX14="x",Hoja1!$BX$2,""))))),"") | BL14: =IF(N$68="SI",IF(Hoja1!BT14="x",Hoja1!$BT$2,IF(Hoja1!BU14="x",Hoja1!$BU$2,IF(Hoja1!BV14="x",Hoja1!$BV$2,IF(Hoja1!BW14="x",Hoja1!$BW$2,IF(Hoja1!BX14="x",Hoja1!$BX$2,""))))),"") | BM14: =IF(N$90="SI",IF(Hoja1!BT14="x",Hoja1!$BT$2,IF(Hoja1!BU14="x",Hoja1!$BU$2,IF(Hoja1!BV14="x",Hoja1!$BV$2,IF(Hoja1!BW14="x",Hoja1!$BW$2,IF(Hoja1!BX14="x",Hoja1!$BX$2,""))))),"") | BN14: =IF(N$91="SI",IF(Hoja1!BT14="x",Hoja1!$BT$2,IF(Hoja1!BU14="x",Hoja1!$BU$2,IF(Hoja1!BV14="x",Hoja1!$BV$2,IF(Hoja1!BW14="x",Hoja1!$BW$2,IF(Hoja1!BX14="x",Hoja1!$BX$2,""))))),"") | BO14: =IF(N$92="SI",IF(Hoja1!BT14="x",Hoja1!$BT$2,IF(Hoja1!BU14="x",Hoja1!$BU$2,IF(Hoja1!BV14="x",Hoja1!$BV$2,IF(Hoja1!BW14="x",Hoja1!$BW$2,IF(Hoja1!BX14="x",Hoja1!$BX$2,""))))),"") | BP14: =IF(N$67="SI",IF(Hoja1!BY14="x",Hoja1!$BY$2,IF(Hoja1!BZ14="x",Hoja1!$BZ$2,IF(Hoja1!CA14="x",Hoja1!$CA$2,IF(Hoja1!CB14="x",Hoja1!$CB$2,IF(Hoja1!CC14="x",Hoja1!$CC$2,""))))),"") -> O | BQ14: =IF(N$68="SI",IF(Hoja1!BY14="x",Hoja1!$BY$2,IF(Hoja1!BZ14="x",Hoja1!$BZ$2,IF(Hoja1!CA14="x",Hoja1!$CA$2,IF(Hoja1!CB14="x",Hoja1!$CB$2,IF(Hoja1!CC14="x",Hoja1!$CC$2,""))))),"") -> O | BR14: =IF(N$69="SI",IF(Hoja1!BY14="x",Hoja1!$BY$2,IF(Hoja1!BZ14="x",Hoja1!$BZ$2,IF(Hoja1!CA14="x",Hoja1!$CA$2,IF(Hoja1!CB14="x",Hoja1!$CB$2,IF(Hoja1!CC14="x",Hoja1!$CC$2,""))))),"") -> O | BS14: =IF(N$90="SI",IF(Hoja1!BY14="x",Hoja1!$BY$2,IF(Hoja1!BZ14="x",Hoja1!$BZ$2,IF(Hoja1!CA14="x",Hoja1!$CA$2,IF(Hoja1!CB14="x",Hoja1!$CB$2,IF(Hoja1!CC14="x",Hoja1!$CC$2,""))))),"") -> O | BT14: =IF(N$91="SI",IF(Hoja1!BY14="x",Hoja1!$BY$2,IF(Hoja1!BZ14="x",Hoja1!$BZ$2,IF(Hoja1!CA14="x",Hoja1!$CA$2,IF(Hoja1!CB14="x",Hoja1!$CB$2,IF(Hoja1!CC14="x",Hoja1!$CC$2,""))))),"") -> O | BU14: =IF(N$92="SI",IF(Hoja1!BY14="x",Hoja1!$BY$2,IF(Hoja1!BZ14="x",Hoja1!$BZ$2,IF(Hoja1!CA14="x",Hoja1!$CA$2,IF(Hoja1!CB14="x",Hoja1!$CB$2,IF(Hoja1!CC14="x",Hoja1!$CC$2,""))))),"") -> O | BV14: =IF(N$59="SI",IF(Hoja1!CD14="x",Hoja1!$CD$2,IF(Hoja1!CE14="x",Hoja1!$CE$2,IF(Hoja1!CF14="x",Hoja1!$CF$2,IF(Hoja1!CG14="x",Hoja1!$CG$2,IF(Hoja1!CH14="x",Hoja1!$CH$2,""))))),"") | BW14: =IF(N$67="SI",IF(Hoja1!CD14="x",Hoja1!$CD$2,IF(Hoja1!CE14="x",Hoja1!$CE$2,IF(Hoja1!CF14="x",Hoja1!$CF$2,IF(Hoja1!CG14="x",Hoja1!$CG$2,IF(Hoja1!CH14="x",Hoja1!$CH$2,""))))),"") | BX14: =IF(N$68="SI",IF(Hoja1!CD14="x",Hoja1!$CD$2,IF(Hoja1!CE14="x",Hoja1!$CE$2,IF(Hoja1!CF14="x",Hoja1!$CF$2,IF(Hoja1!CG14="x",Hoja1!$CG$2,IF(Hoja1!CH14="x",Hoja1!$CH$2,""))))),"") | BY14: =IF(N$69="SI",IF(Hoja1!CD14="x",Hoja1!$CD$2,IF(Hoja1!CE14="x",Hoja1!$CE$2,IF(Hoja1!CF14="x",Hoja1!$CF$2,IF(Hoja1!CG14="x",Hoja1!$CG$2,IF(Hoja1!CH14="x",Hoja1!$CH$2,""))))),"") | BZ14: =IF(N$90="SI",IF(Hoja1!CD14="x",Hoja1!$CD$2,IF(Hoja1!CE14="x",Hoja1!$CE$2,IF(Hoja1!CF14="x",Hoja1!$CF$2,IF(Hoja1!CG14="x",Hoja1!$CG$2,IF(Hoja1!CH14="x",Hoja1!$CH$2,""))))),"") | CA14: =IF(N$91="SI",IF(Hoja1!CD14="x",Hoja1!$CD$2,IF(Hoja1!CE14="x",Hoja1!$CE$2,IF(Hoja1!CF14="x",Hoja1!$CF$2,IF(Hoja1!CG14="x",Hoja1!$CG$2,IF(Hoja1!CH14="x",Hoja1!$CH$2,""))))),"") | CB14: =IF(N$92="SI",IF(Hoja1!CD14="x",Hoja1!$CD$2,IF(Hoja1!CE14="x",Hoja1!$CE$2,IF(Hoja1!CF14="x",Hoja1!$CF$2,IF(Hoja1!CG14="x",Hoja1!$CG$2,IF(Hoja1!CH14="x",Hoja1!$CH$2,""))))),"") | CC14: =IF(N$69="SI",IF(Hoja1!CD14="x",Hoja1!$CD$2,IF(Hoja1!CE14="x",Hoja1!$CE$2,IF(Hoja1!CF14="x",Hoja1!$CF$2,IF(Hoja1!CG14="x",Hoja1!$CG$2,IF(Hoja1!CH14="x",Hoja1!$CH$2,""))))),"") | CD14: =IF(N$90="SI",IF(Hoja1!CD14="x",Hoja1!$CD$2,IF(Hoja1!CE14="x",Hoja1!$CE$2,IF(Hoja1!CF14="x",Hoja1!$CF$2,IF(Hoja1!CG14="x",Hoja1!$CG$2,IF(Hoja1!CH14="x",Hoja1!$CH$2,""))))),"") | CE14: =IF(N$91="SI",IF(Hoja1!CD14="x",Hoja1!$CD$2,IF(Hoja1!CE14="x",Hoja1!$CE$2,IF(Hoja1!CF14="x",Hoja1!$CF$2,IF(Hoja1!CG14="x",Hoja1!$CG$2,IF(Hoja1!CH14="x",Hoja1!$CH$2,""))))),"") | CF14: =IF(N$92="SI",IF(Hoja1!CD14="x",Hoja1!$CD$2,IF(Hoja1!CE14="x",Hoja1!$CE$2,IF(Hoja1!CF14="x",Hoja1!$CF$2,IF(Hoja1!CG14="x",Hoja1!$CG$2,IF(Hoja1!CH14="x",Hoja1!$CH$2,""))))),"")
A15: 13 | B15: =IF(O62="SI",IF(Hoja1!B15="x",Hoja1!$B$2,IF(Hoja1!C15="x",Hoja1!$C$2,IF(Hoja1!D15="x",Hoja1!$D$2,IF(Hoja1!E15="x",Hoja1!$E$2,IF(Hoja1!F15="x",Hoja1!$F$2,""))))),"") -> O | C15: =IF(O43="SI",IF(Hoja1!B15="x",Hoja1!$B$2,IF(Hoja1!C15="x",Hoja1!$C$2,IF(Hoja1!D15="x",Hoja1!$D$2,IF(Hoja1!E15="x",Hoja1!$E$2,IF(Hoja1!F15="x",Hoja1!$F$2,""))))),"") -> O | D15: =IF(O44="SI",IF(Hoja1!B15="x",Hoja1!$B$2,IF(Hoja1!C15="x",Hoja1!$C$2,IF(Hoja1!D15="x",Hoja1!$D$2,IF(Hoja1!E15="x",Hoja1!$E$2,IF(Hoja1!F15="x",Hoja1!$F$2,""))))),"") -> O | E15: =IF(O$82="SI",IF(Hoja1!B15="x",Hoja1!$B$2,IF(Hoja1!C15="x",Hoja1!$C$2,IF(Hoja1!D15="x",Hoja1!$D$2,IF(Hoja1!E15="x",Hoja1!$E$2,IF(Hoja1!F15="x",Hoja1!$F$2,""))))),"") -> O | F15: =IF(O$84="SI",IF(Hoja1!B15="x",Hoja1!$B$2,IF(Hoja1!C15="x",Hoja1!$C$2,IF(Hoja1!D15="x",Hoja1!$D$2,IF(Hoja1!E15="x",Hoja1!$E$2,IF(Hoja1!F15="x",Hoja1!$F$2,""))))),"") -> O | G15: =IF(O$70="SI",IF(Hoja1!B15="x",Hoja1!$B$2,IF(Hoja1!C15="x",Hoja1!$C$2,IF(Hoja1!D15="x",Hoja1!$D$2,IF(Hoja1!E15="x",Hoja1!$E$2,IF(Hoja1!F15="x",Hoja1!$F$2,""))))),"") -> O | H15: =IF(O$82="SI",IF(Hoja1!G15="x",Hoja1!$G$2,IF(Hoja1!H15="x",Hoja1!$H$2,IF(Hoja1!I15="x",Hoja1!$I$2,IF(Hoja1!J15="x",Hoja1!$J$2,IF(Hoja1!K15="x",Hoja1!$K$2,""))))),"") | I15: =IF(O$85="SI",IF(Hoja1!G15="x",Hoja1!$G$2,IF(Hoja1!H15="x",Hoja1!$H$2,IF(Hoja1!I15="x",Hoja1!$I$2,IF(Hoja1!J15="x",Hoja1!$J$2,IF(Hoja1!K15="x",Hoja1!$K$2,""))))),"") | J15: =IF(O$86="SI",IF(Hoja1!G15="x",Hoja1!$G$2,IF(Hoja1!H15="x",Hoja1!$H$2,IF(Hoja1!I15="x",Hoja1!$I$2,IF(Hoja1!J15="x",Hoja1!$J$2,IF(Hoja1!K15="x",Hoja1!$K$2,""))))),"") | K15: =IF(O$87="SI",IF(Hoja1!G15="x",Hoja1!$G$2,IF(Hoja1!H15="x",Hoja1!$H$2,IF(Hoja1!I15="x",Hoja1!$I$2,IF(Hoja1!J15="x",Hoja1!$J$2,IF(Hoja1!K15="x",Hoja1!$K$2,""))))),"") | L15: =IF(O$64="SI",IF(Hoja1!G15="x",Hoja1!$G$2,IF(Hoja1!H15="x",Hoja1!$H$2,IF(Hoja1!I15="x",Hoja1!$I$2,IF(Hoja1!J15="x",Hoja1!$J$2,IF(Hoja1!K15="x",Hoja1!$K$2,""))))),"") | M15: =IF(O$73="SI",IF(Hoja1!G15="x",Hoja1!$G$2,IF(Hoja1!H15="x",Hoja1!$H$2,IF(Hoja1!I15="x",Hoja1!$I$2,IF(Hoja1!J15="x",Hoja1!$J$2,IF(Hoja1!K15="x",Hoja1!$K$2,""))))),"") | N15: =IF(O$74="SI",IF(Hoja1!G15="x",Hoja1!$G$2,IF(Hoja1!H15="x",Hoja1!$H$2,IF(Hoja1!I15="x",Hoja1!$I$2,IF(Hoja1!J15="x",Hoja1!$J$2,IF(Hoja1!K15="x",Hoja1!$K$2,""))))),"") | O15: =IF(O$60="SI",IF(Hoja1!L15="x",Hoja1!$L$2,IF(Hoja1!M15="x",Hoja1!$M$2,IF(Hoja1!N15="x",Hoja1!$N$2,IF(Hoja1!O15="x",Hoja1!$O$2,IF(Hoja1!P15="x",Hoja1!$P$2,""))))),"") -> O | P15: =IF(O$80="SI",IF(Hoja1!L15="x",Hoja1!$L$2,IF(Hoja1!M15="x",Hoja1!$M$2,IF(Hoja1!N15="x",Hoja1!$N$2,IF(Hoja1!O15="x",Hoja1!$O$2,IF(Hoja1!P15="x",Hoja1!$P$2,""))))),"") -> O | Q15: =IF(O$43="SI",IF(Hoja1!L15="x",Hoja1!$L$2,IF(Hoja1!M15="x",Hoja1!$M$2,IF(Hoja1!N15="x",Hoja1!$N$2,IF(Hoja1!O15="x",Hoja1!$O$2,IF(Hoja1!P15="x",Hoja1!$P$2,""))))),"") -> O | R15: =IF(O$82="SI",IF(Hoja1!L15="x",Hoja1!$L$2,IF(Hoja1!M15="x",Hoja1!$M$2,IF(Hoja1!N15="x",Hoja1!$N$2,IF(Hoja1!O15="x",Hoja1!$O$2,IF(Hoja1!P15="x",Hoja1!$P$2,""))))),"") -> O | S15: =IF(O$76="SI",IF(Hoja1!L15="x",Hoja1!$L$2,IF(Hoja1!M15="x",Hoja1!$M$2,IF(Hoja1!N15="x",Hoja1!$N$2,IF(Hoja1!O15="x",Hoja1!$O$2,IF(Hoja1!P15="x",Hoja1!$P$2,""))))),"") -> O | T15: =IF(O$77="SI",IF(Hoja1!L15="x",Hoja1!$L$2,IF(Hoja1!M15="x",Hoja1!$M$2,IF(Hoja1!N15="x",Hoja1!$N$2,IF(Hoja1!O15="x",Hoja1!$O$2,IF(Hoja1!P15="x",Hoja1!$P$2,""))))),"") -> O | U15: =IF(O$78="SI",IF(Hoja1!L15="x",Hoja1!$L$2,IF(Hoja1!M15="x",Hoja1!$M$2,IF(Hoja1!N15="x",Hoja1!$N$2,IF(Hoja1!O15="x",Hoja1!$O$2,IF(Hoja1!P15="x",Hoja1!$P$2,""))))),"") -> O | V15: =IF(O$60="SI",IF(Hoja1!Q15="x",Hoja1!$Q$2,IF(Hoja1!R15="x",Hoja1!$R$2,IF(Hoja1!S15="x",Hoja1!$S$2,IF(Hoja1!T15="x",Hoja1!$T$2,IF(Hoja1!U15="x",Hoja1!$U$2,""))))),"") -> O | W15: =IF(O$61="SI",IF(Hoja1!Q15="x",Hoja1!$Q$2,IF(Hoja1!R15="x",Hoja1!$R$2,IF(Hoja1!S15="x",Hoja1!$S$2,IF(Hoja1!T15="x",Hoja1!$T$2,IF(Hoja1!U15="x",Hoja1!$U$2,""))))),"") -> O | X15: =IF(O$62="SI",IF(Hoja1!Q15="x",Hoja1!$Q$2,IF(Hoja1!R15="x",Hoja1!$R$2,IF(Hoja1!S15="x",Hoja1!$S$2,IF(Hoja1!T15="x",Hoja1!$T$2,IF(Hoja1!U15="x",Hoja1!$U$2,""))))),"") -> O | Y15: =IF(O$79="SI",IF(Hoja1!Q15="x",Hoja1!$Q$2,IF(Hoja1!R15="x",Hoja1!$R$2,IF(Hoja1!S15="x",Hoja1!$S$2,IF(Hoja1!T15="x",Hoja1!$T$2,IF(Hoja1!U15="x",Hoja1!$U$2,""))))),"") -> O | Z15: =IF(O$81="SI",IF(Hoja1!Q15="x",Hoja1!$Q$2,IF(Hoja1!R15="x",Hoja1!$R$2,IF(Hoja1!S15="x",Hoja1!$S$2,IF(Hoja1!T15="x",Hoja1!$T$2,IF(Hoja1!U15="x",Hoja1!$U$2,""))))),"") -> O | AA15: =IF(O$63="SI",IF(Hoja1!Q15="x",Hoja1!$Q$2,IF(Hoja1!R15="x",Hoja1!$R$2,IF(Hoja1!S15="x",Hoja1!$S$2,IF(Hoja1!T15="x",Hoja1!$T$2,IF(Hoja1!U15="x",Hoja1!$U$2,""))))),"") -> O | AB15: =IF(O$64="SI",IF(Hoja1!Q15="x",Hoja1!$Q$2,IF(Hoja1!R15="x",Hoja1!$R$2,IF(Hoja1!S15="x",Hoja1!$S$2,IF(Hoja1!T15="x",Hoja1!$T$2,IF(Hoja1!U15="x",Hoja1!$U$2,""))))),"") -> O | AC15: =IF(O$65="SI",IF(Hoja1!Q15="x",Hoja1!$Q$2,IF(Hoja1!R15="x",Hoja1!$R$2,IF(Hoja1!S15="x",Hoja1!$S$2,IF(Hoja1!T15="x",Hoja1!$T$2,IF(Hoja1!U15="x",Hoja1!$U$2,""))))),"") -> O | AD15: =IF(O45="SI",IF(Hoja1!V15="x",Hoja1!$V$2,IF(Hoja1!W15="x",Hoja1!$W$2,IF(Hoja1!X15="x",Hoja1!$X$2,IF(Hoja1!Y15="x",Hoja1!$Y$2,IF(Hoja1!Z15="x",Hoja1!$Z$2,""))))),"") | AE15: =IF(O$53="SI",IF(Hoja1!V15="x",Hoja1!$V$2,IF(Hoja1!W15="x",Hoja1!$W$2,IF(Hoja1!X15="x",Hoja1!$X$2,IF(Hoja1!Y15="x",Hoja1!$Y$2,IF(Hoja1!Z15="x",Hoja1!$Z$2,""))))),"") | AF15: =IF(O$43="SI",IF(Hoja1!AA15="x",Hoja1!$AA$2,IF(Hoja1!AB15="x",Hoja1!$AB$2,IF(Hoja1!AC15="x",Hoja1!$AC$2,IF(Hoja1!AD15="x",Hoja1!$AD$2,IF(Hoja1!AE15="x",Hoja1!$AE$2,""))))),"") | AG15: =IF(O$54="SI",IF(Hoja1!AA15="x",Hoja1!$AA$2,IF(Hoja1!AB15="x",Hoja1!$AB$2,IF(Hoja1!AC15="x",Hoja1!$AC$2,IF(Hoja1!AD15="x",Hoja1!$AD$2,IF(Hoja1!AE15="x",Hoja1!$AE$2,""))))),"") | AH15: =IF(O$88="SI",IF(Hoja1!AF15="x",Hoja1!$AF$2,IF(Hoja1!AG15="x",Hoja1!$AG$2,IF(Hoja1!AH15="x",Hoja1!$AH$2,IF(Hoja1!AI15="x",Hoja1!$AI$2,IF(Hoja1!AJ15="x",Hoja1!$AJ$2,""))))),"") | AI15: =IF(O$48="SI",IF(Hoja1!AF15="x",Hoja1!$AF$2,IF(Hoja1!AG15="x",Hoja1!$AG$2,IF(Hoja1!AH15="x",Hoja1!$AH$2,IF(Hoja1!AI15="x",Hoja1!$AI$2,IF(Hoja1!AJ15="x",Hoja1!$AJ$2,""))))),"") | AJ15: =IF(O$51="SI",IF(Hoja1!AF15="x",Hoja1!$AF$2,IF(Hoja1!AG15="x",Hoja1!$AG$2,IF(Hoja1!AH15="x",Hoja1!$AH$2,IF(Hoja1!AI15="x",Hoja1!$AI$2,IF(Hoja1!AJ15="x",Hoja1!$AJ$2,""))))),"") | AK15: =IF(O$88="SI",IF(Hoja1!AK15="x",Hoja1!$AK$2,IF(Hoja1!AL15="x",Hoja1!$AL$2,IF(Hoja1!AM15="x",Hoja1!$AM$2,IF(Hoja1!AN15="x",Hoja1!$AN$2,IF(Hoja1!AO15="x",Hoja1!$AO$2,""))))),"") | AL15: =IF(O$48="SI",IF(Hoja1!AK15="x",Hoja1!$AK$2,IF(Hoja1!AL15="x",Hoja1!$AL$2,IF(Hoja1!AM15="x",Hoja1!$AM$2,IF(Hoja1!AN15="x",Hoja1!$AN$2,IF(Hoja1!AO15="x",Hoja1!$AO$2,""))))),"") | AM15: =IF(O$49="SI",IF(Hoja1!AK15="x",Hoja1!$AK$2,IF(Hoja1!AL15="x",Hoja1!$AL$2,IF(Hoja1!AM15="x",Hoja1!$AM$2,IF(Hoja1!AN15="x",Hoja1!$AN$2,IF(Hoja1!AO15="x",Hoja1!$AO$2,""))))),"") | AN15: =IF(O$50="SI",IF(Hoja1!AK15="x",Hoja1!$AK$2,IF(Hoja1!AL15="x",Hoja1!$AL$2,IF(Hoja1!AM15="x",Hoja1!$AM$2,IF(Hoja1!AN15="x",Hoja1!$AN$2,IF(Hoja1!AO15="x",Hoja1!$AO$2,""))))),"") | AO15: =IF(O$59="SI",IF(Hoja1!AP15="x",Hoja1!$AP$2,IF(Hoja1!AQ15="x",Hoja1!$AQ$2,IF(Hoja1!AR15="x",Hoja1!$AR$2,IF(Hoja1!AS15="x",Hoja1!$AS$2,IF(Hoja1!AT15="x",Hoja1!$AT$2,""))))),"") | AP15: =IF(O$80="SI",IF(Hoja1!AP15="x",Hoja1!$AP$2,IF(Hoja1!AQ15="x",Hoja1!$AQ$2,IF(Hoja1!AR15="x",Hoja1!$AR$2,IF(Hoja1!AS15="x",Hoja1!$AS$2,IF(Hoja1!AT15="x",Hoja1!$AT$2,""))))),"") | AQ15: =IF(O$89="SI",IF(Hoja1!AP15="x",Hoja1!$AP$2,IF(Hoja1!AQ15="x",Hoja1!$AQ$2,IF(Hoja1!AR15="x",Hoja1!$AR$2,IF(Hoja1!AS15="x",Hoja1!$AS$2,IF(Hoja1!AT15="x",Hoja1!$AT$2,""))))),"") | AR15: =IF(O$83="SI",IF(Hoja1!AU15="x",Hoja1!$AU$2,IF(Hoja1!AV15="x",Hoja1!$AV$2,IF(Hoja1!AW15="x",Hoja1!$AW$2,IF(Hoja1!AX15="x",Hoja1!$AX$2,IF(Hoja1!AY15="x",Hoja1!$AY$2,""))))),"") | AS15: =IF(O$55="SI",IF(Hoja1!AU15="x",Hoja1!$AU$2,IF(Hoja1!AV15="x",Hoja1!$AV$2,IF(Hoja1!AW15="x",Hoja1!$AW$2,IF(Hoja1!AX15="x",Hoja1!$AX$2,IF(Hoja1!AY15="x",Hoja1!$AY$2,""))))),"") | AT15: =IF(O$57="SI",IF(Hoja1!AU15="x",Hoja1!$AU$2,IF(Hoja1!AV15="x",Hoja1!$AV$2,IF(Hoja1!AW15="x",Hoja1!$AW$2,IF(Hoja1!AX15="x",Hoja1!$AX$2,IF(Hoja1!AY15="x",Hoja1!$AY$2,""))))),"") | AU15: =IF(O$47="SI",IF(Hoja1!AZ15="x",Hoja1!$AZ$2,IF(Hoja1!BA15="x",Hoja1!$BA$2,IF(Hoja1!BB15="x",Hoja1!$BB$2,IF(Hoja1!BC15="x",Hoja1!$BC$2,IF(Hoja1!BD15="x",Hoja1!$BD$2,""))))),"") -> O | AV15: =IF(O$62="SI",IF(Hoja1!AZ15="x",Hoja1!$AZ$2,IF(Hoja1!BA15="x",Hoja1!$BA$2,IF(Hoja1!BB15="x",Hoja1!$BB$2,IF(Hoja1!BC15="x",Hoja1!$BC$2,IF(Hoja1!BD15="x",Hoja1!$BD$2,""))))),"") -> O | AW15: =IF(O$83="SI",IF(Hoja1!AZ15="x",Hoja1!$AZ$2,IF(Hoja1!BA15="x",Hoja1!$BA$2,IF(Hoja1!BB15="x",Hoja1!$BB$2,IF(Hoja1!BC15="x",Hoja1!$BC$2,IF(Hoja1!BD15="x",Hoja1!$BD$2,""))))),"") -> O | AX15: =IF(O$84="SI",IF(Hoja1!AZ15="x",Hoja1!$AZ$2,IF(Hoja1!BA15="x",Hoja1!$BA$2,IF(Hoja1!BB15="x",Hoja1!$BB$2,IF(Hoja1!BC15="x",Hoja1!$BC$2,IF(Hoja1!BD15="x",Hoja1!$BD$2,""))))),"") -> O | AY15: =IF(O$86="SI",IF(Hoja1!AZ15="x",Hoja1!$AZ$2,IF(Hoja1!BA15="x",Hoja1!$BA$2,IF(Hoja1!BB15="x",Hoja1!$BB$2,IF(Hoja1!BC15="x",Hoja1!$BC$2,IF(Hoja1!BD15="x",Hoja1!$BD$2,""))))),"") -> O | AZ15: =IF(O$46="SI",IF(Hoja1!BE15="x",Hoja1!$BE$2,IF(Hoja1!BF15="x",Hoja1!$BF$2,IF(Hoja1!BG15="x",Hoja1!$BG$2,IF(Hoja1!BH15="x",Hoja1!$BH$2,IF(Hoja1!BI15="x",Hoja1!$BI$2,""))))),"") | BA15: =IF(O$84="SI",IF(Hoja1!BE15="x",Hoja1!$BE$2,IF(Hoja1!BF15="x",Hoja1!$BF$2,IF(Hoja1!BG15="x",Hoja1!$BG$2,IF(Hoja1!BH15="x",Hoja1!$BH$2,IF(Hoja1!BI15="x",Hoja1!$BI$2,""))))),"") | BB15: =IF(O$45="SI",IF(Hoja1!BJ15="x",Hoja1!$BJ$2,IF(Hoja1!BK15="x",Hoja1!$BK$2,IF(Hoja1!BL15="x",Hoja1!$BL$2,IF(Hoja1!BM15="x",Hoja1!$BM$2,IF(Hoja1!BN15="x",Hoja1!$BN$2,""))))),"") | BC15: =IF(O$56="SI",IF(Hoja1!BJ15="x",Hoja1!$BJ$2,IF(Hoja1!BK15="x",Hoja1!$BK$2,IF(Hoja1!BL15="x",Hoja1!$BL$2,IF(Hoja1!BM15="x",Hoja1!$BM$2,IF(Hoja1!BN15="x",Hoja1!$BN$2,""))))),"") | BD15: =IF(O$59="SI",IF(Hoja1!BJ15="x",Hoja1!$BJ$2,IF(Hoja1!BK15="x",Hoja1!$BK$2,IF(Hoja1!BL15="x",Hoja1!$BL$2,IF(Hoja1!BM15="x",Hoja1!$BM$2,IF(Hoja1!BN15="x",Hoja1!$BN$2,""))))),"") | BE15: =IF(O$62="SI",IF(Hoja1!BJ15="x",Hoja1!$BJ$2,IF(Hoja1!BK15="x",Hoja1!$BK$2,IF(Hoja1!BL15="x",Hoja1!$BL$2,IF(Hoja1!BM15="x",Hoja1!$BM$2,IF(Hoja1!BN15="x",Hoja1!$BN$2,""))))),"") | BF15: =IF(O$52="SI",IF(Hoja1!BJ15="x",Hoja1!$BJ$2,IF(Hoja1!BK15="x",Hoja1!$BK$2,IF(Hoja1!BL15="x",Hoja1!$BL$2,IF(Hoja1!BM15="x",Hoja1!$BM$2,IF(Hoja1!BN15="x",Hoja1!$BN$2,""))))),"") | BG15: =IF(O$75="SI",IF(Hoja1!BJ15="x",Hoja1!$BJ$2,IF(Hoja1!BK15="x",Hoja1!$BK$2,IF(Hoja1!BL15="x",Hoja1!$BL$2,IF(Hoja1!BM15="x",Hoja1!$BM$2,IF(Hoja1!BN15="x",Hoja1!$BN$2,""))))),"") | BH15: =IF(O$71="SI",IF(Hoja1!BO15="x",Hoja1!$BO$2,IF(Hoja1!BP15="x",Hoja1!$BP$2,IF(Hoja1!BQ15="x",Hoja1!$BQ$2,IF(Hoja1!BR15="x",Hoja1!$BR$2,IF(Hoja1!BS15="x",Hoja1!$BS$2,""))))),"") -> O | BI15: =IF(O$72="SI",IF(Hoja1!BO15="x",Hoja1!$BO$2,IF(Hoja1!BP15="x",Hoja1!$BP$2,IF(Hoja1!BQ15="x",Hoja1!$BQ$2,IF(Hoja1!BR15="x",Hoja1!$BR$2,IF(Hoja1!BS15="x",Hoja1!$BS$2,""))))),"") -> O | BJ15: =IF(O$58="SI",IF(Hoja1!BO15="x",Hoja1!$BO$2,IF(Hoja1!BP15="x",Hoja1!$BP$2,IF(Hoja1!BQ15="x",Hoja1!$BQ$2,IF(Hoja1!BR15="x",Hoja1!$BR$2,IF(Hoja1!BS15="x",Hoja1!$BS$2,""))))),"") -> O | BK15: =IF(O$67="SI",IF(Hoja1!BT15="x",Hoja1!$BT$2,IF(Hoja1!BU15="x",Hoja1!$BU$2,IF(Hoja1!BV15="x",Hoja1!$BV$2,IF(Hoja1!BW15="x",Hoja1!$BW$2,IF(Hoja1!BX15="x",Hoja1!$BX$2,""))))),"") -> B | BL15: =IF(O$68="SI",IF(Hoja1!BT15="x",Hoja1!$BT$2,IF(Hoja1!BU15="x",Hoja1!$BU$2,IF(Hoja1!BV15="x",Hoja1!$BV$2,IF(Hoja1!BW15="x",Hoja1!$BW$2,IF(Hoja1!BX15="x",Hoja1!$BX$2,""))))),"") -> B | BM15: =IF(O$90="SI",IF(Hoja1!BT15="x",Hoja1!$BT$2,IF(Hoja1!BU15="x",Hoja1!$BU$2,IF(Hoja1!BV15="x",Hoja1!$BV$2,IF(Hoja1!BW15="x",Hoja1!$BW$2,IF(Hoja1!BX15="x",Hoja1!$BX$2,""))))),"") -> B | BN15: =IF(O$91="SI",IF(Hoja1!BT15="x",Hoja1!$BT$2,IF(Hoja1!BU15="x",Hoja1!$BU$2,IF(Hoja1!BV15="x",Hoja1!$BV$2,IF(Hoja1!BW15="x",Hoja1!$BW$2,IF(Hoja1!BX15="x",Hoja1!$BX$2,""))))),"") -> B | BO15: =IF(O$92="SI",IF(Hoja1!BT15="x",Hoja1!$BT$2,IF(Hoja1!BU15="x",Hoja1!$BU$2,IF(Hoja1!BV15="x",Hoja1!$BV$2,IF(Hoja1!BW15="x",Hoja1!$BW$2,IF(Hoja1!BX15="x",Hoja1!$BX$2,""))))),"") -> B | BP15: =IF(O$67="SI",IF(Hoja1!BY15="x",Hoja1!$BY$2,IF(Hoja1!BZ15="x",Hoja1!$BZ$2,IF(Hoja1!CA15="x",Hoja1!$CA$2,IF(Hoja1!CB15="x",Hoja1!$CB$2,IF(Hoja1!CC15="x",Hoja1!$CC$2,""))))),"") -> O | BQ15: =IF(O$68="SI",IF(Hoja1!BY15="x",Hoja1!$BY$2,IF(Hoja1!BZ15="x",Hoja1!$BZ$2,IF(Hoja1!CA15="x",Hoja1!$CA$2,IF(Hoja1!CB15="x",Hoja1!$CB$2,IF(Hoja1!CC15="x",Hoja1!$CC$2,""))))),"") -> O | BR15: =IF(O$69="SI",IF(Hoja1!BY15="x",Hoja1!$BY$2,IF(Hoja1!BZ15="x",Hoja1!$BZ$2,IF(Hoja1!CA15="x",Hoja1!$CA$2,IF(Hoja1!CB15="x",Hoja1!$CB$2,IF(Hoja1!CC15="x",Hoja1!$CC$2,""))))),"") -> O | BS15: =IF(O$90="SI",IF(Hoja1!BY15="x",Hoja1!$BY$2,IF(Hoja1!BZ15="x",Hoja1!$BZ$2,IF(Hoja1!CA15="x",Hoja1!$CA$2,IF(Hoja1!CB15="x",Hoja1!$CB$2,IF(Hoja1!CC15="x",Hoja1!$CC$2,""))))),"") -> O | BT15: =IF(O$91="SI",IF(Hoja1!BY15="x",Hoja1!$BY$2,IF(Hoja1!BZ15="x",Hoja1!$BZ$2,IF(Hoja1!CA15="x",Hoja1!$CA$2,IF(Hoja1!CB15="x",Hoja1!$CB$2,IF(Hoja1!CC15="x",Hoja1!$CC$2,""))))),"") -> O | BU15: =IF(O$92="SI",IF(Hoja1!BY15="x",Hoja1!$BY$2,IF(Hoja1!BZ15="x",Hoja1!$BZ$2,IF(Hoja1!CA15="x",Hoja1!$CA$2,IF(Hoja1!CB15="x",Hoja1!$CB$2,IF(Hoja1!CC15="x",Hoja1!$CC$2,""))))),"") -> O | BV15: =IF(O$59="SI",IF(Hoja1!CD15="x",Hoja1!$CD$2,IF(Hoja1!CE15="x",Hoja1!$CE$2,IF(Hoja1!CF15="x",Hoja1!$CF$2,IF(Hoja1!CG15="x",Hoja1!$CG$2,IF(Hoja1!CH15="x",Hoja1!$CH$2,""))))),"") | BW15: =IF(O$67="SI",IF(Hoja1!CD15="x",Hoja1!$CD$2,IF(Hoja1!CE15="x",Hoja1!$CE$2,IF(Hoja1!CF15="x",Hoja1!$CF$2,IF(Hoja1!CG15="x",Hoja1!$CG$2,IF(Hoja1!CH15="x",Hoja1!$CH$2,""))))),"") | BX15: =IF(O$68="SI",IF(Hoja1!CD15="x",Hoja1!$CD$2,IF(Hoja1!CE15="x",Hoja1!$CE$2,IF(Hoja1!CF15="x",Hoja1!$CF$2,IF(Hoja1!CG15="x",Hoja1!$CG$2,IF(Hoja1!CH15="x",Hoja1!$CH$2,""))))),"") | BY15: =IF(O$69="SI",IF(Hoja1!CD15="x",Hoja1!$CD$2,IF(Hoja1!CE15="x",Hoja1!$CE$2,IF(Hoja1!CF15="x",Hoja1!$CF$2,IF(Hoja1!CG15="x",Hoja1!$CG$2,IF(Hoja1!CH15="x",Hoja1!$CH$2,""))))),"") | BZ15: =IF(O$90="SI",IF(Hoja1!CD15="x",Hoja1!$CD$2,IF(Hoja1!CE15="x",Hoja1!$CE$2,IF(Hoja1!CF15="x",Hoja1!$CF$2,IF(Hoja1!CG15="x",Hoja1!$CG$2,IF(Hoja1!CH15="x",Hoja1!$CH$2,""))))),"") | CA15: =IF(O$91="SI",IF(Hoja1!CD15="x",Hoja1!$CD$2,IF(Hoja1!CE15="x",Hoja1!$CE$2,IF(Hoja1!CF15="x",Hoja1!$CF$2,IF(Hoja1!CG15="x",Hoja1!$CG$2,IF(Hoja1!CH15="x",Hoja1!$CH$2,""))))),"") | CB15: =IF(O$92="SI",IF(Hoja1!CD15="x",Hoja1!$CD$2,IF(Hoja1!CE15="x",Hoja1!$CE$2,IF(Hoja1!CF15="x",Hoja1!$CF$2,IF(Hoja1!CG15="x",Hoja1!$CG$2,IF(Hoja1!CH15="x",Hoja1!$CH$2,""))))),"") | CC15: =IF(O$69="SI",IF(Hoja1!CD15="x",Hoja1!$CD$2,IF(Hoja1!CE15="x",Hoja1!$CE$2,IF(Hoja1!CF15="x",Hoja1!$CF$2,IF(Hoja1!CG15="x",Hoja1!$CG$2,IF(Hoja1!CH15="x",Hoja1!$CH$2,""))))),"") | CD15: =IF(O$90="SI",IF(Hoja1!CD15="x",Hoja1!$CD$2,IF(Hoja1!CE15="x",Hoja1!$CE$2,IF(Hoja1!CF15="x",Hoja1!$CF$2,IF(Hoja1!CG15="x",Hoja1!$CG$2,IF(Hoja1!CH15="x",Hoja1!$CH$2,""))))),"") | CE15: =IF(O$91="SI",IF(Hoja1!CD15="x",Hoja1!$CD$2,IF(Hoja1!CE15="x",Hoja1!$CE$2,IF(Hoja1!CF15="x",Hoja1!$CF$2,IF(Hoja1!CG15="x",Hoja1!$CG$2,IF(Hoja1!CH15="x",Hoja1!$CH$2,""))))),"") | CF15: =IF(O$92="SI",IF(Hoja1!CD15="x",Hoja1!$CD$2,IF(Hoja1!CE15="x",Hoja1!$CE$2,IF(Hoja1!CF15="x",Hoja1!$CF$2,IF(Hoja1!CG15="x",Hoja1!$CG$2,IF(Hoja1!CH15="x",Hoja1!$CH$2,""))))),"")
