Workbook

Sheet Hoja1
A1: Jornada | B1: AF1 | G1: AF2 | L1: AF3 | Q1: AF4 | V1: AF5 | AA1: AF6 | AF1: AF7 | AK1: AF8 | AP1: AF9 | AU1: AF10 | AZ1: AF11 | BE1: AF12 | BJ1: AF13 | BO1: AF14 | BT1: AF15 | BY1: AF16 | CD1: AF17 | CI1: AF18
B2: D | C2: AA | D2: R | E2: B | F2: O | G2: D | H2: AA | I2: R | J2: B | K2: O | L2: D | M2: AA | N2: R | O2: B | P2: O | Q2: D | R2: AA | S2: R | T2: B | U2: O | V2: D | W2: AA | X2: R | Y2: B | Z2: O | AA2: D | AB2: AA | AC2: R | AD2: B | AE2: O | AF2: D | AG2: AA | AH2: R | AI2: B | AJ2: O | AK2: D | AL2: AA | AM2: R | AN2: B | AO2: O | AP2: D | AQ2: AA | AR2: R | AS2: B | AT2: O | AU2: D | AV2: AA | AW2: R | AX2: B | AY2: O | AZ2: D | BA2: AA | BB2: R | BC2: B | BD2: O | BE2: D | BF2: AA | BG2: R | BH2: B | BI2: O | BJ2: D | BK2: AA | BL2: R | BM2: B | BN2: O | BO2: D | BP2: AA | BQ2: R | BR2: B | BS2: O | BT2: D | BU2: AA | BV2: R | BW2: B | BX2: O | BY2: D | BZ2: AA | CA2: R | CB2: B | CC2: O | CD2: D | CE2: AA | CF2: R | CG2: B | CH2: O | CI2: D | CJ2: AA | CK2: R | CL2: B | CM2: O
A3: 1 | F3: x | AX3: x | CG3: x | CL3: x
A4: 2 | E4: x | J4: x | O4: x | CG4: x | CL4: x
A5: 3 | E5: x | J5: x | O5: x | T5: x | BC5: x | BH5: x | BR5: x | BW5: x | CB5: x
A6: 4 | P6: x | U6: x | BC6: x | BI6: x
A7: 5 | J7: x | P7: x | U7: x | BI7: x | BR7: x | CB7: x
A8: 6 | F8: x | P8: x | S8: x | BC8: x | BS8: x | BV8: x | CC8: x
A9: 7 | P9: x | U9: x | BC9: x | BH9: x
A10: 8 | E10: x | P10: x | S10: x | BD10: x | BI10: x
A11: 9 | P11: x | T11: x | X11: x | AD11: x | BD11: x | BR11: x | CB11: x
A12: 10 | F12: x | J12: x | P12: x | U12: x | BD12: x | BQ12: x | BW12: x | CB12: x
A13: 11 | P13: x | U13: x | BD13: x | BI13: x
A14: 12 | J14: x | P14: x | U14: x | BI14: x | BS14: x | CC14: x
A15: 13 | F15: x | P15: x | U15: x | BD15: x | BS15: x | BW15: x | CC15: x
A16: 14 | P16: x | U16: x | BD16: x | BI16: x
A17: 15 | J17: x | P17: x | U17: x | BI17: x | BS17: x | CC17: x
A18: 16 | E18: x | P18: x | U18: x | BC18: x | BS18: x | BW18: x | CC18: x
A19: 17 | J19: x | P19: x | U19: x | BI19: x | BS19: x | CC19: x
A20: 18 | E20: x | P20: x | U20: x | BD20: x | BS20: x | BX20: x | CC20: x
A21: 19 | E21: x | J21: x | P21: x | U21: x | BC21: x | BS21: x | BX21: x | CC21: x
A22: 20 | F22: x | P22: x | U22: x | BD22: x | BS22: x | BX22: x | CC22: x
A23: 21 | O23: x | T23: x | BD23: x | BH23: x
A24: 22 | F24: x | O24: x | T24: x | BD24: x | BH24: x
A25: 23 | O25: x | S25: x | X25: x | AC25: x | BD25: x | BS25: x | CB25: x
A26: 24 | F26: x | K26: x | P26: x | U26: x | BD26: x | BS26: x | BX26: x | CC26: x
A27: 25 | F27: x | P27: x | U27: x | BD27: x | BI27: x
A28: 26 | F28: x | P28: x | U28: x | BD28: x | BI28: x
A29: 27
A30: 28 | F30: x | P30: x | U30: x | BD30: x
A31: 29 | P31: x | U31: x | BD31: x | BI31: x
A32: 30 | F32: x | P32: x | U32: x | BD32: x | BI32: x
A33: 31 | P33: x | T33: x | Y33: x | AD33: x | BD33: x | BR33: x | CC33: x
A34: 32 | F34: x | K34: x | P34: x | U34: x | BD34: x | BR34: x | BX34: x | CC34: x
A35: 33 | F35: x | P35: x | U35: x | BD35: x | BS35: x | BX35: x | CC35: x
A36: 34 | P36: x | T36: x | BD36: x | BI36: x
A37: 35 | F37: x | P37: x | U37: x | BD37: x | BI37: x
A38: 36 | P38: x | U38: x | Z38: x | AD38: x | BD38: x | BS38: x | CC38: x
A39: 37 | F39: x | K39: x | P39: x | U39: x | BD39: x | BS39: x | BX39: x | CC39: x
A40: 38 | F40: x | P40: x | U40: x | BD40: x | BI40: x

Sheet Evaluacion de Descriptores
A1: Jornada | B1: AF1 | H1: AF2 | O1: AF3 | V1: AF4 | AD1: AF5 | AF1: AF6 | AH1: AF7 | AK1: AF8 | AO1: AF9 | AR1: AF10 | AU1: AF11 | AZ1: AF12 | BB1: AF13 | BH1: AF14 | BK1: AF15 | BP1: AF16 | BV1: AF17 | CC1: AF18
B2: GBD4 | C2: ISO1 | D2: ISO2 | E2: SAD1 | F2: SAD3 | G2: ASO1 | H2: SAD1 | I2: SAD4 | J2: SAD5 | K2: SAD6 | L2: LM2 | M2: SR1 | N2: SR2 | O2: GBD2 | P2: ASGBD2 | Q2: ISO1 | R2: SAD1 | S2: IAW1 | T2: IAW2 | U2: IAW3 | V2: GBD2 | W2: GBD3 | X2: GBD4 | Y2: ASGBD1 | Z2: ASGBD3 | AA2: LM1 | AB2: LM2 | AC2: LM3 | AD2: ISO3 | AE2: FH1 | AF2: ISO1 | AG2: FH2 | AH2: SAD7 | AI2: PAR1 | AJ2: PAR4 | AK2: SAD7 | AL2: PAR1 | AM2: PAR2 | AN2: PAR3 | AO2: GBD1 | AP2: ASGBD2 | AQ2: SAD8 | AR2: SAD2 | AS2: FH3 | AT2: FH5 | AU2: ISO5 | AV2: GBD4 | AW2: SAD2 | AX2: SAD3 | AY2: SAD5 | AZ2: ISO4 | BA2: SAD3 | BB2: ISO3 | BC2: FH4 | BD2: GBD1 | BE2: GBD4 | BF2: PAR5 | BG2: SRI3 | BH2: ASO2 | BI2: ASO3 | BJ2: FH6 | BK2: FOL1 | BL2: FOL2 | BM2: EIE1 | BN2: EIE2 | BO2: EIE3 | BP2: FOL1 | BQ2: FOL2 | BR2: FOL3 | BS2: EIE1 | BT2: EIE2 | BU2: EIE3 | BV2: GBD1 | BW2: FOL1 | BX2: FOL2 | BY2: FOL3 | BZ2: EIE1 | CA2: EIE2 | CB2: EIE3 | CC2: GBD1 | CD2: EIE1 | CE2: EIE2 | CF2: EIE3
A3: 1 | B3: =IF(C62="SI",IF(Hoja1!$B$3="x",Hoja1!$B$2,IF(Hoja1!$C$3="x",Hoja1!$C$2,IF(Hoja1!$D$3="x",Hoja1!$D$2,IF(Hoja1!$E$3="x",Hoja1!$E$2,IF(Hoja1!$F$3="x",Hoja1!$F$2,""))))),"") -> O | C3: =IF(C43="SI",IF(Hoja1!B3="x",Hoja1!$B$2,IF(Hoja1!C3="x",Hoja1!$C$2,IF(Hoja1!D3="x",Hoja1!$D$2,IF(Hoja1!E3="x",Hoja1!$E$2,IF(Hoja1!F3="x",Hoja1!$F$2,""))))),"") -> O | D3: =IF(C44="SI",IF(Hoja1!$B$3="x",Hoja1!$B$2,IF(Hoja1!$C$3="x",Hoja1!$C$2,IF(Hoja1!$D$3="x",Hoja1!$D$2,IF(Hoja1!$E$3="x",Hoja1!$E$2,IF(Hoja1!$F$3="x",Hoja1!$F$2,""))))),"") -> O | E3: =IF(C82="SI",IF(Hoja1!$B$3="x",Hoja1!$B$2,IF(Hoja1!$C$3="x",Hoja1!$C$2,IF(Hoja1!$D$3="x",Hoja1!$D$2,IF(Hoja1!$E$3="x",Hoja1!$E$2,IF(Hoja1!$F$3="x",Hoja1!$F$2,""))))),"") -> O | F3: =IF(C84="SI",IF(Hoja1!$B$3="x",Hoja1!$B$2,IF(Hoja1!$C$3="x",Hoja1!$C$2,IF(Hoja1!$D$3="x",Hoja1!$D$2,IF(Hoja1!$E$3="x",Hoja1!$E$2,IF(Hoja1!$F$3="x",Hoja1!$F$2,""))))),"") -> O | G3: =IF(C70="SI",IF(Hoja1!$B$3="x",Hoja1!$B$2,IF(Hoja1!$C$3="x",Hoja1!$C$2,IF(Hoja1!$D$3="x",Hoja1!$D$2,IF(Hoja1!$E$3="x",Hoja1!$E$2,IF(Hoja1!$F$3="x",Hoja1!$F$2,""))))),"") -> O | H3: =IF(C$82="SI",IF(Hoja1!G3="x",Hoja1!$G$2,IF(Hoja1!H3="x",Hoja1!$H$2,IF(Hoja1!I3="x",Hoja1!$I$2,IF(Hoja1!J3="x",Hoja1!$J$2,IF(Hoja1!K3="x",Hoja1!$K$2,""))))),"") | I3: =IF(C85="SI",IF(Hoja1!$G$3="x",Hoja1!$G$2,IF(Hoja1!$H$3="x",Hoja1!$H$2,IF(Hoja1!$I$3="x",Hoja1!$I$2,IF(Hoja1!$J$3="x",Hoja1!$J$2,IF(Hoja1!$K$3="x",Hoja1!$K$2,""))))),"") | J3: =IF(C86="SI",IF(Hoja1!$G$3="x",Hoja1!$G$2,IF(Hoja1!$H$3="x",Hoja1!$H$2,IF(Hoja1!$I$3="x",Hoja1!$I$2,IF(Hoja1!$J$3="x",Hoja1!$J$2,IF(Hoja1!$K$3="x",Hoja1!$K$2,""))))),"") | K3: =IF(C87="SI",IF(Hoja1!$G$3="x",Hoja1!$G$2,IF(Hoja1!$H$3="x",Hoja1!$H$2,IF(Hoja1!$I$3="x",Hoja1!$I$2,IF(Hoja1!$J$3="x",Hoja1!$J$2,IF(Hoja1!$K$3="x",Hoja1!$K$2,""))))),"") | L3: =IF(C64="SI",IF(Hoja1!$G$3="x",Hoja1!$G$2,IF(Hoja1!$H$3="x",Hoja1!$H$2,IF(Hoja1!$I$3="x",Hoja1!$I$2,IF(Hoja1!$J$3="x",Hoja1!$J$2,IF(Hoja1!$K$3="x",Hoja1!$K$2,""))))),"") | M3: =IF(C73="SI",IF(Hoja1!$G$3="x",Hoja1!$G$2,IF(Hoja1!$H$3="x",Hoja1!$H$2,IF(Hoja1!$I$3="x",Hoja1!$I$2,IF(Hoja1!$J$3="x",Hoja1!$J$2,IF(Hoja1!$K$3="x",Hoja1!$K$2,""))))),"") | N3: =IF(C74="SI",IF(Hoja1!$G$3="x",Hoja1!$G$2,IF(Hoja1!$H$3="x",Hoja1!$H$2,IF(Hoja1!$I$3="x",Hoja1!$I$2,IF(Hoja1!$J$3="x",Hoja1!$J$2,IF(Hoja1!$K$3="x",Hoja1!$K$2,""))))),"") | O3: =IF(C$60="SI",IF(Hoja1!L3="x",Hoja1!$L$2,IF(Hoja1!M3="x",Hoja1!$M$2,IF(Hoja1!N3="x",Hoja1!$N$2,IF(Hoja1!O3="x",Hoja1!$O$2,IF(Hoja1!P3="x",Hoja1!$P$2,""))))),"") | P3: =IF(C$80="SI",IF(Hoja1!L3="x",Hoja1!$L$2,IF(Hoja1!M3="x",Hoja1!$M$2,IF(Hoja1!N3="x",Hoja1!$N$2,IF(Hoja1!O3="x",Hoja1!$O$2,IF(Hoja1!P3="x",Hoja1!$P$2,""))))),"") | Q3: =IF(C$43="SI",IF(Hoja1!L3="x",Hoja1!$L$2,IF(Hoja1!M3="x",Hoja1!$M$2,IF(Hoja1!N3="x",Hoja1!$N$2,IF(Hoja1!O3="x",Hoja1!$O$2,IF(Hoja1!P3="x",Hoja1!$P$2,""))))),"") | R3: =IF(C$82="SI",IF(Hoja1!L3="x",Hoja1!$L$2,IF(Hoja1!M3="x",Hoja1!$M$2,IF(Hoja1!N3="x",Hoja1!$N$2,IF(Hoja1!O3="x",Hoja1!$O$2,IF(Hoja1!P3="x",Hoja1!$P$2,""))))),"") | S3: =IF(C$76="SI",IF(Hoja1!L3="x",Hoja1!$L$2,IF(Hoja1!M3="x",Hoja1!$M$2,IF(Hoja1!N3="x",Hoja1!$N$2,IF(Hoja1!O3="x",Hoja1!$O$2,IF(Hoja1!P3="x",Hoja1!$P$2,""))))),"") | T3: =IF(C$77="SI",IF(Hoja1!L3="x",Hoja1!$L$2,IF(Hoja1!M3="x",Hoja1!$M$2,IF(Hoja1!N3="x",Hoja1!$N$2,IF(Hoja1!O3="x",Hoja1!$O$2,IF(Hoja1!P3="x",Hoja1!$P$2,""))))),"") | U3: =IF(C$78="SI",IF(Hoja1!L3="x",Hoja1!$L$2,IF(Hoja1!M3="x",Hoja1!$M$2,IF(Hoja1!N3="x",Hoja1!$N$2,IF(Hoja1!O3="x",Hoja1!$O$2,IF(Hoja1!P3="x",Hoja1!$P$2,""))))),"") | V3: =IF(C$60="SI",IF(Hoja1!Q3="x",Hoja1!$Q$2,IF(Hoja1!R3="x",Hoja1!$R$2,IF(Hoja1!S3="x",Hoja1!$S$2,IF(Hoja1!T3="x",Hoja1!$T$2,IF(Hoja1!U3="x",Hoja1!$U$2,""))))),"") | W3: =IF(C$61="SI",IF(Hoja1!Q3="x",Hoja1!$Q$2,IF(Hoja1!R3="x",Hoja1!$R$2,IF(Hoja1!S3="x",Hoja1!$S$2,IF(Hoja1!T3="x",Hoja1!$T$2,IF(Hoja1!U3="x",Hoja1!$U$2,""))))),"") | X3: =IF(C$62="SI",IF(Hoja1!Q3="x",Hoja1!$Q$2,IF(Hoja1!R3="x",Hoja1!$R$2,IF(Hoja1!S3="x",Hoja1!$S$2,IF(Hoja1!T3="x",Hoja1!$T$2,IF(Hoja1!U3="x",Hoja1!$U$2,""))))),"") | Y3: =IF(C$79="SI",IF(Hoja1!Q3="x",Hoja1!$Q$2,IF(Hoja1!R3="x",Hoja1!$R$2,IF(Hoja1!S3="x",Hoja1!$S$2,IF(Hoja1!T3="x",Hoja1!$T$2,IF(Hoja1!U3="x",Hoja1!$U$2,""))))),"") | Z3: =IF(C$81="SI",IF(Hoja1!Q3="x",Hoja1!$Q$2,IF(Hoja1!R3="x",Hoja1!$R$2,IF(Hoja1!S3="x",Hoja1!$S$2,IF(Hoja1!T3="x",Hoja1!$T$2,IF(Hoja1!U3="x",Hoja1!$U$2,""))))),"") | AA3: =IF(C$63="SI",IF(Hoja1!Q3="x",Hoja1!$Q$2,IF(Hoja1!R3="x",Hoja1!$R$2,IF(Hoja1!S3="x",Hoja1!$S$2,IF(Hoja1!T3="x",Hoja1!$T$2,IF(Hoja1!U3="x",Hoja1!$U$2,""))))),"") | AB3: =IF(C$64="SI",IF(Hoja1!Q3="x",Hoja1!$Q$2,IF(Hoja1!R3="x",Hoja1!$R$2,IF(Hoja1!S3="x",Hoja1!$S$2,IF(Hoja1!T3="x",Hoja1!$T$2,IF(Hoja1!U3="x",Hoja1!$U$2,""))))),"") | AC3: =IF(C$65="SI",IF(Hoja1!Q3="x",Hoja1!$Q$2,IF(Hoja1!R3="x",Hoja1!$R$2,IF(Hoja1!S3="x",Hoja1!$S$2,IF(Hoja1!T3="x",Hoja1!$T$2,IF(Hoja1!U3="x",Hoja1!$U$2,""))))),"") | AD3: =IF(C45="SI",IF(Hoja1!$V$3="x",Hoja1!$V$2,IF(Hoja1!$W$3="x",Hoja1!$W$2,IF(Hoja1!$X$3="x",Hoja1!$X$2,IF(Hoja1!$Y$3="x",Hoja1!$Y$2,IF(Hoja1!$Z$3="x",Hoja1!$Z$2,""))))),"") | AE3: =IF(C$53="SI",IF(Hoja1!V3="x",Hoja1!$V$2,IF(Hoja1!W3="x",Hoja1!$W$2,IF(Hoja1!X3="x",Hoja1!$X$2,IF(Hoja1!Y3="x",Hoja1!$Y$2,IF(Hoja1!Z3="x",Hoja1!$Z$2,""))))),"") | AF3: =IF(C$43="SI",IF(Hoja1!AA3="x",Hoja1!$AA$2,IF(Hoja1!AB3="x",Hoja1!$AB$2,IF(Hoja1!AC3="x",Hoja1!$AC$2,IF(Hoja1!AD3="x",Hoja1!$AD$2,IF(Hoja1!AE3="x",Hoja1!$AE$2,""))))),"") | AG3: =IF(C$54="SI",IF(Hoja1!AA3="x",Hoja1!$AA$2,IF(Hoja1!AB3="x",Hoja1!$AB$2,IF(Hoja1!AC3="x",Hoja1!$AC$2,IF(Hoja1!AD3="x",Hoja1!$AD$2,IF(Hoja1!AE3="x",Hoja1!$AE$2,""))))),"") | AH3: =IF(C$88="SI",IF(Hoja1!AF3="x",Hoja1!$AF$2,IF(Hoja1!AG3="x",Hoja1!$AG$2,IF(Hoja1!AH3="x",Hoja1!$AH$2,IF(Hoja1!AI3="x",Hoja1!$AI$2,IF(Hoja1!AJ3="x",Hoja1!$AJ$2,""))))),"") | AI3: =IF(C$48="SI",IF(Hoja1!AF3="x",Hoja1!$AF$2,IF(Hoja1!AG3="x",Hoja1!$AG$2,IF(Hoja1!AH3="x",Hoja1!$AH$2,IF(Hoja1!AI3="x",Hoja1!$AI$2,IF(Hoja1!AJ3="x",Hoja1!$AJ$2,""))))),"") | AJ3: =IF(C$51="SI",IF(Hoja1!AF3="x",Hoja1!$AF$2,IF(Hoja1!AG3="x",Hoja1!$AG$2,IF(Hoja1!AH3="x",Hoja1!$AH$2,IF(Hoja1!AI3="x",Hoja1!$AI$2,IF(Hoja1!AJ3="x",Hoja1!$AJ$2,""))))),"") | AK3: =IF(C$88="SI",IF(Hoja1!AK3="x",Hoja1!$AK$2,IF(Hoja1!AL3="x",Hoja1!$AL$2,IF(Hoja1!AM3="x",Hoja1!$AM$2,IF(Hoja1!AN3="x",Hoja1!$AN$2,IF(Hoja1!AO3="x",Hoja1!$AO$2,""))))),"") | AL3: =IF(C$48="SI",IF(Hoja1!AK3="x",Hoja1!$AK$2,IF(Hoja1!AL3="x",Hoja1!$AL$2,IF(Hoja1!AM3="x",Hoja1!$AM$2,IF(Hoja1!AN3="x",Hoja1!$AN$2,IF(Hoja1!AO3="x",Hoja1!$AO$2,""))))),"") | AM3: =IF(C$49="SI",IF(Hoja1!AK3="x",Hoja1!$AK$2,IF(Hoja1!AL3="x",Hoja1!$AL$2,IF(Hoja1!AM3="x",Hoja1!$AM$2,IF(Hoja1!AN3="x",Hoja1!$AN$2,IF(Hoja1!AO3="x",Hoja1!$AO$2,""))))),"") | AN3: =IF(C$50="SI",IF(Hoja1!AK3="x",Hoja1!$AK$2,IF(Hoja1!AL3="x",Hoja1!$AL$2,IF(Hoja1!AM3="x",Hoja1!$AM$2,IF(Hoja1!AN3="x",Hoja1!$AN$2,IF(Hoja1!AO3="x",Hoja1!$AO$2,""))))),"") | AO3: =IF(C$59="SI",IF(Hoja1!AP3="x",Hoja1!$AP$2,IF(Hoja1!AQ3="x",Hoja1!$AQ$2,IF(Hoja1!AR3="x",Hoja1!$AR$2,IF(Hoja1!AS3="x",Hoja1!$AS$2,IF(Hoja1!AT3="x",Hoja1!$AT$2,""))))),"") | AP3: =IF(C$80="SI",IF(Hoja1!AP3="x",Hoja1!$AP$2,IF(Hoja1!AQ3="x",Hoja1!$AQ$2,IF(Hoja1!AR3="x",Hoja1!$AR$2,IF(Hoja1!AS3="x",Hoja1!$AS$2,IF(Hoja1!AT3="x",Hoja1!$AT$2,""))))),"") | AQ3: =IF(C$89="SI",IF(Hoja1!AP3="x",Hoja1!$AP$2,IF(Hoja1!AQ3="x",Hoja1!$AQ$2,IF(Hoja1!AR3="x",Hoja1!$AR$2,IF(Hoja1!AS3="x",Hoja1!$AS$2,IF(Hoja1!AT3="x",Hoja1!$AT$2,""))))),"") | AR3: =IF(C$83="SI",IF(Hoja1!AU3="x",Hoja1!$AU$2,IF(Hoja1!AV3="x",Hoja1!$AV$2,IF(Hoja1!AW3="x",Hoja1!$AW$2,IF(Hoja1!AX3="x",Hoja1!$AX$2,IF(Hoja1!AY3="x",Hoja1!$AY$2,""))))),"") -> B | AS3: =IF(C$55="SI",IF(Hoja1!AU3="x",Hoja1!$AU$2,IF(Hoja1!AV3="x",Hoja1!$AV$2,IF(Hoja1!AW3="x",Hoja1!$AW$2,IF(Hoja1!AX3="x",Hoja1!$AX$2,IF(Hoja1!AY3="x",Hoja1!$AY$2,""))))),"") -> B | AT3: =IF(C$57="SI",IF(Hoja1!AU3="x",Hoja1!$AU$2,IF(Hoja1!AV3="x",Hoja1!$AV$2,IF(Hoja1!AW3="x",Hoja1!$AW$2,IF(Hoja1!AX3="x",Hoja1!$AX$2,IF(Hoja1!AY3="x",Hoja1!$AY$2,""))))),"") -> B | AU3: =IF(C$47="SI",IF(Hoja1!AZ3="x",Hoja1!$AZ$2,IF(Hoja1!BA3="x",Hoja1!$BA$2,IF(Hoja1!BB3="x",Hoja1!$BB$2,IF(Hoja1!BC3="x",Hoja1!$BC$2,IF(Hoja1!BD3="x",Hoja1!$BD$2,""))))),"") | AV3: =IF(C$62="SI",IF(Hoja1!AZ3="x",Hoja1!$AZ$2,IF(Hoja1!BA3="x",Hoja1!$BA$2,IF(Hoja1!BB3="x",Hoja1!$BB$2,IF(Hoja1!BC3="x",Hoja1!$BC$2,IF(Hoja1!BD3="x",Hoja1!$BD$2,""))))),"") | AW3: =IF(C$83="SI",IF(Hoja1!AZ3="x",Hoja1!$AZ$2,IF(Hoja1!BA3="x",Hoja1!$BA$2,IF(Hoja1!BB3="x",Hoja1!$BB$2,IF(Hoja1!BC3="x",Hoja1!$BC$2,IF(Hoja1!BD3="x",Hoja1!$BD$2,""))))),"") | AX3: =IF(C$84="SI",IF(Hoja1!AZ3="x",Hoja1!$AZ$2,IF(Hoja1!BA3="x",Hoja1!$BA$2,IF(Hoja1!BB3="x",Hoja1!$BB$2,IF(Hoja1!BC3="x",Hoja1!$BC$2,IF(Hoja1!BD3="x",Hoja1!$BD$2,""))))),"") | AY3: =IF(C$86="SI",IF(Hoja1!AZ3="x",Hoja1!$AZ$2,IF(Hoja1!BA3="x",Hoja1!$BA$2,IF(Hoja1!BB3="x",Hoja1!$BB$2,IF(Hoja1!BC3="x",Hoja1!$BC$2,IF(Hoja1!BD3="x",Hoja1!$BD$2,""))))),"") | AZ3: =IF(C$46="SI",IF(Hoja1!BE3="x",Hoja1!$BE$2,IF(Hoja1!BF3="x",Hoja1!$BF$2,IF(Hoja1!BG3="x",Hoja1!$BG$2,IF(Hoja1!BH3="x",Hoja1!$BH$2,IF(Hoja1!BI3="x",Hoja1!$BI$2,""))))),"") | BA3: =IF(C$84="SI",IF(Hoja1!BE3="x",Hoja1!$BE$2,IF(Hoja1!BF3="x",Hoja1!$BF$2,IF(Hoja1!BG3="x",Hoja1!$BG$2,IF(Hoja1!BH3="x",Hoja1!$BH$2,IF(Hoja1!BI3="x",Hoja1!$BI$2,""))))),"") | BB3: =IF(C$45="SI",IF(Hoja1!BJ3="x",Hoja1!$BJ$2,IF(Hoja1!BK3="x",Hoja1!$BK$2,IF(Hoja1!BL3="x",Hoja1!$BL$2,IF(Hoja1!BM3="x",Hoja1!$BM$2,IF(Hoja1!BN3="x",Hoja1!$BN$2,""))))),"") | BC3: =IF(C$56="SI",IF(Hoja1!BJ3="x",Hoja1!$BJ$2,IF(Hoja1!BK3="x",Hoja1!$BK$2,IF(Hoja1!BL3="x",Hoja1!$BL$2,IF(Hoja1!BM3="x",Hoja1!$BM$2,IF(Hoja1!BN3="x",Hoja1!$BN$2,""))))),"") | BD3: =IF(C$59="SI",IF(Hoja1!BJ3="x",Hoja1!$BJ$2,IF(Hoja1!BK3="x",Hoja1!$BK$2,IF(Hoja1!BL3="x",Hoja1!$BL$2,IF(Hoja1!BM3="x",Hoja1!$BM$2,IF(Hoja1!BN3="x",Hoja1!$BN$2,""))))),"") | BE3: =IF(C$62="SI",IF(Hoja1!BJ3="x",Hoja1!$BJ$2,IF(Hoja1!BK3="x",Hoja1!$BK$2,IF(Hoja1!BL3="x",Hoja1!$BL$2,IF(Hoja1!BM3="x",Hoja1!$BM$2,IF(Hoja1!BN3="x",Hoja1!$BN$2,""))))),"") | BF3: =IF(C$52="SI",IF(Hoja1!BJ3="x",Hoja1!$BJ$2,IF(Hoja1!BK3="x",Hoja1!$BK$2,IF(Hoja1!BL3="x",Hoja1!$BL$2,IF(Hoja1!BM3="x",Hoja1!$BM$2,IF(Hoja1!BN3="x",Hoja1!$BN$2,""))))),"") | BG3: =IF(C$75="SI",IF(Hoja1!BJ3="x",Hoja1!$BJ$2,IF(Hoja1!BK3="x",Hoja1!$BK$2,IF(Hoja1!BL3="x",Hoja1!$BL$2,IF(Hoja1!BM3="x",Hoja1!$BM$2,IF(Hoja1!BN3="x",Hoja1!$BN$2,""))))),"") | BH3: =IF(C$71="SI",IF(Hoja1!BO3="x",Hoja1!$BO$2,IF(Hoja1!BP3="x",Hoja1!$BP$2,IF(Hoja1!BQ3="x",Hoja1!$BQ$2,IF(Hoja1!BR3="x",Hoja1!$BR$2,IF(Hoja1!BS3="x",Hoja1!$BS$2,""))))),"") | BI3: =IF(C$72="SI",IF(Hoja1!BO3="x",Hoja1!$BO$2,IF(Hoja1!BP3="x",Hoja1!$BP$2,IF(Hoja1!BQ3="x",Hoja1!$BQ$2,IF(Hoja1!BR3="x",Hoja1!$BR$2,IF(Hoja1!BS3="x",Hoja1!$BS$2,""))))),"") | BJ3: =IF(C$58="SI",IF(Hoja1!BO3="x",Hoja1!$BO$2,IF(Hoja1!BP3="x",Hoja1!$BP$2,IF(Hoja1!BQ3="x",Hoja1!$BQ$2,IF(Hoja1!BR3="x",Hoja1!$BR$2,IF(Hoja1!BS3="x",Hoja1!$BS$2,""))))),"") | BK3: =IF(C$67="SI",IF(Hoja1!BT3="x",Hoja1!$BT$2,IF(Hoja1!BU3="x",Hoja1!$BU$2,IF(Hoja1!BV3="x",Hoja1!$BV$2,IF(Hoja1!BW3="x",Hoja1!$BW$2,IF(Hoja1!BX3="x",Hoja1!$BX$2,""))))),"") | BL3: =IF(C$68="SI",IF(Hoja1!BT3="x",Hoja1!$BT$2,IF(Hoja1!BU3="x",Hoja1!$BU$2,IF(Hoja1!BV3="x",Hoja1!$BV$2,IF(Hoja1!BW3="x",Hoja1!$BW$2,IF(Hoja1!BX3="x",Hoja1!$BX$2,""))))),"") | BM3: =IF(C$90="SI",IF(Hoja1!BT3="x",Hoja1!$BT$2,IF(Hoja1!BU3="x",Hoja1!$BU$2,IF(Hoja1!BV3="x",Hoja1!$BV$2,IF(Hoja1!BW3="x",Hoja1!$BW$2,IF(Hoja1!BX3="x",Hoja1!$BX$2,""))))),"") | BN3: =IF(C$91="SI",IF(Hoja1!BT3="x",Hoja1!$BT$2,IF(Hoja1!BU3="x",Hoja1!$BU$2,IF(Hoja1!BV3="x",Hoja1!$BV$2,IF(Hoja1!BW3="x",Hoja1!$BW$2,IF(Hoja1!BX3="x",Hoja1!$BX$2,""))))),"") | BO3: =IF(C$92="SI",IF(Hoja1!BT3="x",Hoja1!$BT$2,IF(Hoja1!BU3="x",Hoja1!$BU$2,IF(Hoja1!BV3="x",Hoja1!$BV$2,IF(Hoja1!BW3="x",Hoja1!$BW$2,IF(Hoja1!BX3="x",Hoja1!$BX$2,""))))),"") | BP3: =IF(C$67="SI",IF(Hoja1!BY3="x",Hoja1!$BY$2,IF(Hoja1!BZ3="x",Hoja1!$BZ$2,IF(Hoja1!CA3="x",Hoja1!$CA$2,IF(Hoja1!CB3="x",Hoja1!$CB$2,IF(Hoja1!CC3="x",Hoja1!$CC$2,""))))),"") | BQ3: =IF(C$68="SI",IF(Hoja1!BY3="x",Hoja1!$BY$2,IF(Hoja1!BZ3="x",Hoja1!$BZ$2,IF(Hoja1!CA3="x",Hoja1!$CA$2,IF(Hoja1!CB3="x",Hoja1!$CB$2,IF(Hoja1!CC3="x",Hoja1!$CC$2,""))))),"") | BR3: =IF(C$69="SI",IF(Hoja1!BY3="x",Hoja1!$BY$2,IF(Hoja1!BZ3="x",Hoja1!$BZ$2,IF(Hoja1!CA3="x",Hoja1!$CA$2,IF(Hoja1!CB3="x",Hoja1!$CB$2,IF(Hoja1!CC3="x",Hoja1!$CC$2,""))))),"") | BS3: =IF(C$90="SI",IF(Hoja1!BY3="x",Hoja1!$BY$2,IF(Hoja1!BZ3="x",Hoja1!$BZ$2,IF(Hoja1!CA3="x",Hoja1!$CA$2,IF(Hoja1!CB3="x",Hoja1!$CB$2,IF(Hoja1!CC3="x",Hoja1!$CC$2,""))))),"") | BT3: =IF(C$91="SI",IF(Hoja1!BY3="x",Hoja1!$BY$2,IF(Hoja1!BZ3="x",Hoja1!$BZ$2,IF(Hoja1!CA3="x",Hoja1!$CA$2,IF(Hoja1!CB3="x",Hoja1!$CB$2,IF(Hoja1!CC3="x",Hoja1!$CC$2,""))))),"") | BU3: =IF(C$92="SI",IF(Hoja1!BY3="x",Hoja1!$BY$2,IF(Hoja1!BZ3="x",Hoja1!$BZ$2,IF(Hoja1!CA3="x",Hoja1!$CA$2,IF(Hoja1!CB3="x",Hoja1!$CB$2,IF(Hoja1!CC3="x",Hoja1!$CC$2,""))))),"") | BV3: =IF(C$59="SI",IF(Hoja1!CD3="x",Hoja1!$CD$2,IF(Hoja1!CE3="x",Hoja1!$CE$2,IF(Hoja1!CF3="x",Hoja1!$CF$2,IF(Hoja1!CG3="x",Hoja1!$CG$2,IF(Hoja1!CH3="x",Hoja1!$CH$2,""))))),"") -> B | BW3: =IF(C$67="SI",IF(Hoja1!CD3="x",Hoja1!$CD$2,IF(Hoja1!CE3="x",Hoja1!$CE$2,IF(Hoja1!CF3="x",Hoja1!$CF$2,IF(Hoja1!CG3="x",Hoja1!$CG$2,IF(Hoja1!CH3="x",Hoja1!$CH$2,""))))),"") -> B | BX3: =IF(C$68="SI",IF(Hoja1!CD3="x",Hoja1!$CD$2,IF(Hoja1!CE3="x",Hoja1!$CE$2,IF(Hoja1!CF3="x",Hoja1!$CF$2,IF(Hoja1!CG3="x",Hoja1!$CG$2,IF(Hoja1!CH3="x",Hoja1!$CH$2,""))))),"") -> B | BY3: =IF(C$69="SI",IF(Hoja1!CD3="x",Hoja1!$CD$2,IF(Hoja1!CE3="x",Hoja1!$CE$2,IF(Hoja1!CF3="x",Hoja1!$CF$2,IF(Hoja1!CG3="x",Hoja1!$CG$2,IF(Hoja1!CH3="x",Hoja1!$CH$2,""))))),"") -> B | BZ3: =IF(C$90="SI",IF(Hoja1!CD3="x",Hoja1!$CD$2,IF(Hoja1!CE3="x",Hoja1!$CE$2,IF(Hoja1!CF3="x",Hoja1!$CF$2,IF(Hoja1!CG3="x",Hoja1!$CG$2,IF(Hoja1!CH3="x",Hoja1!$CH$2,""))))),"") -> B | CA3: =IF(C$91="SI",IF(Hoja1!CD3="x",Hoja1!$CD$2,IF(Hoja1!CE3="x",Hoja1!$CE$2,IF(Hoja1!CF3="x",Hoja1!$CF$2,IF(Hoja1!CG3="x",Hoja1!$CG$2,IF(Hoja1!CH3="x",Hoja1!$CH$2,""))))),"") -> B | CB3: =IF(C$92="SI",IF(Hoja1!CD3="x",Hoja1!$CD$2,IF(Hoja1!CE3="x",Hoja1!$CE$2,IF(Hoja1!CF3="x",Hoja1!$CF$2,IF(Hoja1!CG3="x",Hoja1!$CG$2,IF(Hoja1!CH3="x",Hoja1!$CH$2,""))))),"") -> B | CD3: =IF(C$90="SI",IF(Hoja1!CD3="x",Hoja1!$CD$2,IF(Hoja1!CE3="x",Hoja1!$CE$2,IF(Hoja1!CF3="x",Hoja1!$CF$2,IF(Hoja1!CG3="x",Hoja1!$CG$2,IF(Hoja1!CH3="x",Hoja1!$CH$2,""))))),"") -> B | CE3: =IF(C$91="SI",IF(Hoja1!CD3="x",Hoja1!$CD$2,IF(Hoja1!CE3="x",Hoja1!$CE$2,IF(Hoja1!CF3="x",Hoja1!$CF$2,IF(Hoja1!CG3="x",Hoja1!$CG$2,IF(Hoja1!CH3="x",Hoja1!$CH$2,""))))),"") -> B | CF3: =IF(C$92="SI",IF(Hoja1!CD3="x",Hoja1!$CD$2,IF(Hoja1!CE3="x",Hoja1!$CE$2,IF(Hoja1!CF3="x",Hoja1!$CF$2,IF(Hoja1!CG3="x",Hoja1!$CG$2,IF(Hoja1!CH3="x",Hoja1!$CH$2,""))))),"") -> B
A4: 2 | B4: =IF(D62="SI",IF(Hoja1!$B$4="x",Hoja1!$B$2,IF(Hoja1!$C$4="x",Hoja1!$C$2,IF(Hoja1!$D$4="x",Hoja1!$D$2,IF(Hoja1!$E$4="x",Hoja1!$E$2,IF(Hoja1!$F$4="x",Hoja1!$F$2,""))))),"") -> B | C4: =IF(D43="SI",IF(Hoja1!B4="x",Hoja1!$B$2,IF(Hoja1!C4="x",Hoja1!$C$2,IF(Hoja1!D4="x",Hoja1!$D$2,IF(Hoja1!E4="x",Hoja1!$E$2,IF(Hoja1!F4="x",Hoja1!$F$2,""))))),"") -> B | D4: =IF(D44="SI",IF(Hoja1!B4="x",Hoja1!$B$2,IF(Hoja1!C4="x",Hoja1!$C$2,IF(Hoja1!D4="x",Hoja1!$D$2,IF(Hoja1!E4="x",Hoja1!$E$2,IF(Hoja1!F4="x",Hoja1!$F$2,""))))),"") -> B | E4: =IF(D$82="SI",IF(Hoja1!B4="x",Hoja1!$B$2,IF(Hoja1!C4="x",Hoja1!$C$2,IF(Hoja1!D4="x",Hoja1!$D$2,IF(Hoja1!E4="x",Hoja1!$E$2,IF(Hoja1!F4="x",Hoja1!$F$2,""))))),"") -> B | F4: =IF(D$84="SI",IF(Hoja1!B4="x",Hoja1!$B$2,IF(Hoja1!C4="x",Hoja1!$C$2,IF(Hoja1!D4="x",Hoja1!$D$2,IF(Hoja1!E4="x",Hoja1!$E$2,IF(Hoja1!F4="x",Hoja1!$F$2,""))))),"") -> B | G4: =IF(D$70="SI",IF(Hoja1!B4="x",Hoja1!$B$2,IF(Hoja1!C4="x",Hoja1!$C$2,IF(Hoja1!D4="x",Hoja1!$D$2,IF(Hoja1!E4="x",Hoja1!$E$2,IF(Hoja1!F4="x",Hoja1!$F$2,""))))),"") -> B | H4: =IF(D$82="SI",IF(Hoja1!G4="x",Hoja1!$G$2,IF(Hoja1!H4="x",Hoja1!$H$2,IF(Hoja1!I4="x",Hoja1!$I$2,IF(Hoja1!J4="x",Hoja1!$J$2,IF(Hoja1!K4="x",Hoja1!$K$2,""))))),"") -> B | I4: =IF(D$85="SI",IF(Hoja1!G4="x",Hoja1!$G$2,IF(Hoja1!H4="x",Hoja1!$H$2,IF(Hoja1!I4="x",Hoja1!$I$2,IF(Hoja1!J4="x",Hoja1!$J$2,IF(Hoja1!K4="x",Hoja1!$K$2,""))))),"") -> B | J4: =IF(D$86="SI",IF(Hoja1!G4="x",Hoja1!$G$2,IF(Hoja1!H4="x",Hoja1!$H$2,IF(Hoja1!I4="x",Hoja1!$I$2,IF(Hoja1!J4="x",Hoja1!$J$2,IF(Hoja1!K4="x",Hoja1!$K$2,""))))),"") -> B | K4: =IF(D$87="SI",IF(Hoja1!G4="x",Hoja1!$G$2,IF(Hoja1!H4="x",Hoja1!$H$2,IF(Hoja1!I4="x",Hoja1!$I$2,IF(Hoja1!J4="x",Hoja1!$J$2,IF(Hoja1!K4="x",Hoja1!$K$2,""))))),"") -> B | L4: =IF(D$64="SI",IF(Hoja1!G4="x",Hoja1!$G$2,IF(Hoja1!H4="x",Hoja1!$H$2,IF(Hoja1!I4="x",Hoja1!$I$2,IF(Hoja1!J4="x",Hoja1!$J$2,IF(Hoja1!K4="x",Hoja1!$K$2,""))))),"") -> B | M4: =IF(D$73="SI",IF(Hoja1!G4="x",Hoja1!$G$2,IF(Hoja1!H4="x",Hoja1!$H$2,IF(Hoja1!I4="x",Hoja1!$I$2,IF(Hoja1!J4="x",Hoja1!$J$2,IF(Hoja1!K4="x",Hoja1!$K$2,""))))),"") -> B | N4: =IF(D$74="SI",IF(Hoja1!G4="x",Hoja1!$G$2,IF(Hoja1!H4="x",Hoja1!$H$2,IF(Hoja1!I4="x",Hoja1!$I$2,IF(Hoja1!J4="x",Hoja1!$J$2,IF(Hoja1!K4="x",Hoja1!$K$2,""))))),"") -> B | O4: =IF(D$60="SI",IF(Hoja1!L4="x",Hoja1!$L$2,IF(Hoja1!M4="x",Hoja1!$M$2,IF(Hoja1!N4="x",Hoja1!$N$2,IF(Hoja1!O4="x",Hoja1!$O$2,IF(Hoja1!P4="x",Hoja1!$P$2,""))))),"") | P4: =IF(D$80="SI",IF(Hoja1!L4="x",Hoja1!$L$2,IF(Hoja1!M4="x",Hoja1!$M$2,IF(Hoja1!N4="x",Hoja1!$N$2,IF(Hoja1!O4="x",Hoja1!$O$2,IF(Hoja1!P4="x",Hoja1!$P$2,""))))),"") -> B | Q4: =IF(D$43="SI",IF(Hoja1!L4="x",Hoja1!$L$2,IF(Hoja1!M4="x",Hoja1!$M$2,IF(Hoja1!N4="x",Hoja1!$N$2,IF(Hoja1!O4="x",Hoja1!$O$2,IF(Hoja1!P4="x",Hoja1!$P$2,""))))),"") -> B | R4: =IF(D$82="SI",IF(Hoja1!L4="x",Hoja1!$L$2,IF(Hoja1!M4="x",Hoja1!$M$2,IF(Hoja1!N4="x",Hoja1!$N$2,IF(Hoja1!O4="x",Hoja1!$O$2,IF(Hoja1!P4="x",Hoja1!$P$2,""))))),"") -> B | S4: =IF(D$76="SI",IF(Hoja1!L4="x",Hoja1!$L$2,IF(Hoja1!M4="x",Hoja1!$M$2,IF(Hoja1!N4="x",Hoja1!$N$2,IF(Hoja1!O4="x",Hoja1!$O$2,IF(Hoja1!P4="x",Hoja1!$P$2,""))))),"") -> B | T4: =IF(D$77="SI",IF(Hoja1!L4="x",Hoja1!$L$2,IF(Hoja1!M4="x",Hoja1!$M$2,IF(Hoja1!N4="x",Hoja1!$N$2,IF(Hoja1!O4="x",Hoja1!$O$2,IF(Hoja1!P4="x",Hoja1!$P$2,""))))),"") -> B | U4: =IF(D$78="SI",IF(Hoja1!L4="x",Hoja1!$L$2,IF(Hoja1!M4="x",Hoja1!$M$2,IF(Hoja1!N4="x",Hoja1!$N$2,IF(Hoja1!O4="x",Hoja1!$O$2,IF(Hoja1!P4="x",Hoja1!$P$2,""))))),"") -> B | V4: =IF(D$60="SI",IF(Hoja1!Q4="x",Hoja1!$Q$2,IF(Hoja1!R4="x",Hoja1!$R$2,IF(Hoja1!S4="x",Hoja1!$S$2,IF(Hoja1!T4="x",Hoja1!$T$2,IF(Hoja1!U4="x",Hoja1!$U$2,""))))),"") | W4: =IF(D$61="SI",IF(Hoja1!Q4="x",Hoja1!$Q$2,IF(Hoja1!R4="x",Hoja1!$R$2,IF(Hoja1!S4="x",Hoja1!$S$2,IF(Hoja1!T4="x",Hoja1!$T$2,IF(Hoja1!U4="x",Hoja1!$U$2,""))))),"") | X4: =IF(D$62="SI",IF(Hoja1!Q4="x",Hoja1!$Q$2,IF(Hoja1!R4="x",Hoja1!$R$2,IF(Hoja1!S4="x",Hoja1!$S$2,IF(Hoja1!T4="x",Hoja1!$T$2,IF(Hoja1!U4="x",Hoja1!$U$2,""))))),"") | Y4: =IF(D$79="SI",IF(Hoja1!Q4="x",Hoja1!$Q$2,IF(Hoja1!R4="x",Hoja1!$R$2,IF(Hoja1!S4="x",Hoja1!$S$2,IF(Hoja1!T4="x",Hoja1!$T$2,IF(Hoja1!U4="x",Hoja1!$U$2,""))))),"") | Z4: =IF(D$81="SI",IF(Hoja1!Q4="x",Hoja1!$Q$2,IF(Hoja1!R4="x",Hoja1!$R$2,IF(Hoja1!S4="x",Hoja1!$S$2,IF(Hoja1!T4="x",Hoja1!$T$2,IF(Hoja1!U4="x",Hoja1!$U$2,""))))),"") | AA4: =IF(D$63="SI",IF(Hoja1!Q4="x",Hoja1!$Q$2,IF(Hoja1!R4="x",Hoja1!$R$2,IF(Hoja1!S4="x",Hoja1!$S$2,IF(Hoja1!T4="x",Hoja1!$T$2,IF(Hoja1!U4="x",Hoja1!$U$2,""))))),"") | AB4: =IF(D$64="SI",IF(Hoja1!Q4="x",Hoja1!$Q$2,IF(Hoja1!R4="x",Hoja1!$R$2,IF(Hoja1!S4="x",Hoja1!$S$2,IF(Hoja1!T4="x",Hoja1!$T$2,IF(Hoja1!U4="x",Hoja1!$U$2,""))))),"") | AC4: =IF(D$65="SI",IF(Hoja1!Q4="x",Hoja1!$Q$2,IF(Hoja1!R4="x",Hoja1!$R$2,IF(Hoja1!S4="x",Hoja1!$S$2,IF(Hoja1!T4="x",Hoja1!$T$2,IF(Hoja1!U4="x",Hoja1!$U$2,""))))),"") | AD4: =IF(D$45="SI",IF(Hoja1!V4="x",Hoja1!$V$2,IF(Hoja1!W4="x",Hoja1!$W$2,IF(Hoja1!X4="x",Hoja1!$X$2,IF(Hoja1!Y4="x",Hoja1!$Y$2,IF(Hoja1!Z4="x",Hoja1!$Z$2,""))))),"") | AE4: =IF(D$53="SI",IF(Hoja1!V4="x",Hoja1!$V$2,IF(Hoja1!W4="x",Hoja1!$W$2,IF(Hoja1!X4="x",Hoja1!$X$2,IF(Hoja1!Y4="x",Hoja1!$Y$2,IF(Hoja1!Z4="x",Hoja1!$Z$2,""))))),"") | AF4: =IF(D$43="SI",IF(Hoja1!AA4="x",Hoja1!$AA$2,IF(Hoja1!AB4="x",Hoja1!$AB$2,IF(Hoja1!AC4="x",Hoja1!$AC$2,IF(Hoja1!AD4="x",Hoja1!$AD$2,IF(Hoja1!AE4="x",Hoja1!$AE$2,""))))),"") | AG4: =IF(D$54="SI",IF(Hoja1!AA4="x",Hoja1!$AA$2,IF(Hoja1!AB4="x",Hoja1!$AB$2,IF(Hoja1!AC4="x",Hoja1!$AC$2,IF(Hoja1!AD4="x",Hoja1!$AD$2,IF(Hoja1!AE4="x",Hoja1!$AE$2,""))))),"") | AH4: =IF(D$88="SI",IF(Hoja1!AF4="x",Hoja1!$AF$2,IF(Hoja1!AG4="x",Hoja1!$AG$2,IF(Hoja1!AH4="x",Hoja1!$AH$2,IF(Hoja1!AI4="x",Hoja1!$AI$2,IF(Hoja1!AJ4="x",Hoja1!$AJ$2,""))))),"") | AI4: =IF(D$48="SI",IF(Hoja1!AF4="x",Hoja1!$AF$2,IF(Hoja1!AG4="x",Hoja1!$AG$2,IF(Hoja1!AH4="x",Hoja1!$AH$2,IF(Hoja1!AI4="x",Hoja1!$AI$2,IF(Hoja1!AJ4="x",Hoja1!$AJ$2,""))))),"") | AJ4: =IF(D$51="SI",IF(Hoja1!AF4="x",Hoja1!$AF$2,IF(Hoja1!AG4="x",Hoja1!$AG$2,IF(Hoja1!AH4="x",Hoja1!$AH$2,IF(Hoja1!AI4="x",Hoja1!$AI$2,IF(Hoja1!AJ4="x",Hoja1!$AJ$2,""))))),"") | AK4: =IF(D$88="SI",IF(Hoja1!AK4="x",Hoja1!$AK$2,IF(Hoja1!AL4="x",Hoja1!$AL$2,IF(Hoja1!AM4="x",Hoja1!$AM$2,IF(Hoja1!AN4="x",Hoja1!$AN$2,IF(Hoja1!AO4="x",Hoja1!$AO$2,""))))),"") | AL4: =IF(D$48="SI",IF(Hoja1!AK4="x",Hoja1!$AK$2,IF(Hoja1!AL4="x",Hoja1!$AL$2,IF(Hoja1!AM4="x",Hoja1!$AM$2,IF(Hoja1!AN4="x",Hoja1!$AN$2,IF(Hoja1!AO4="x",Hoja1!$AO$2,""))))),"") | AM4: =IF(D$49="SI",IF(Hoja1!AK4="x",Hoja1!$AK$2,IF(Hoja1!AL4="x",Hoja1!$AL$2,IF(Hoja1!AM4="x",Hoja1!$AM$2,IF(Hoja1!AN4="x",Hoja1!$AN$2,IF(Hoja1!AO4="x",Hoja1!$AO$2,""))))),"") | AN4: =IF(D$50="SI",IF(Hoja1!AK4="x",Hoja1!$AK$2,IF(Hoja1!AL4="x",Hoja1!$AL$2,IF(Hoja1!AM4="x",Hoja1!$AM$2,IF(Hoja1!AN4="x",Hoja1!$AN$2,IF(Hoja1!AO4="x",Hoja1!$AO$2,""))))),"") | AO4: =IF(D$59="SI",IF(Hoja1!AP4="x",Hoja1!$AP$2,IF(Hoja1!AQ4="x",Hoja1!$AQ$2,IF(Hoja1!AR4="x",Hoja1!$AR$2,IF(Hoja1!AS4="x",Hoja1!$AS$2,IF(Hoja1!AT4="x",Hoja1!$AT$2,""))))),"") | AP4: =IF(D$80="SI",IF(Hoja1!AP4="x",Hoja1!$AP$2,IF(Hoja1!AQ4="x",Hoja1!$AQ$2,IF(Hoja1!AR4="x",Hoja1!$AR$2,IF(Hoja1!AS4="x",Hoja1!$AS$2,IF(Hoja1!AT4="x",Hoja1!$AT$2,""))))),"") | AQ4: =IF(D$89="SI",IF(Hoja1!AP4="x",Hoja1!$AP$2,IF(Hoja1!AQ4="x",Hoja1!$AQ$2,IF(Hoja1!AR4="x",Hoja1!$AR$2,IF(Hoja1!AS4="x",Hoja1!$AS$2,IF(Hoja1!AT4="x",Hoja1!$AT$2,""))))),"") | AR4: =IF(D$83="SI",IF(Hoja1!AU4="x",Hoja1!$AU$2,IF(Hoja1!AV4="x",Hoja1!$AV$2,IF(Hoja1!AW4="x",Hoja1!$AW$2,IF(Hoja1!AX4="x",Hoja1!$AX$2,IF(Hoja1!AY4="x",Hoja1!$AY$2,""))))),"") | AS4: =IF(D$55="SI",IF(Hoja1!AU4="x",Hoja1!$AU$2,IF(Hoja1!AV4="x",Hoja1!$AV$2,IF(Hoja1!AW4="x",Hoja1!$AW$2,IF(Hoja1!AX4="x",Hoja1!$AX$2,IF(Hoja1!AY4="x",Hoja1!$AY$2,""))))),"") | AT4: =IF(D$57="SI",IF(Hoja1!AU4="x",Hoja1!$AU$2,IF(Hoja1!AV4="x",Hoja1!$AV$2,IF(Hoja1!AW4="x",Hoja1!$AW$2,IF(Hoja1!AX4="x",Hoja1!$AX$2,IF(Hoja1!AY4="x",Hoja1!$AY$2,""))))),"") | AU4: =IF(D$47="SI",IF(Hoja1!AZ4="x",Hoja1!$AZ$2,IF(Hoja1!BA4="x",Hoja1!$BA$2,IF(Hoja1!BB4="x",Hoja1!$BB$2,IF(Hoja1!BC4="x",Hoja1!$BC$2,IF(Hoja1!BD4="x",Hoja1!$BD$2,""))))),"") | AV4: =IF(D$62="SI",IF(Hoja1!AZ4="x",Hoja1!$AZ$2,IF(Hoja1!BA4="x",Hoja1!$BA$2,IF(Hoja1!BB4="x",Hoja1!$BB$2,IF(Hoja1!BC4="x",Hoja1!$BC$2,IF(Hoja1!BD4="x",Hoja1!$BD$2,""))))),"") | AW4: =IF(D$83="SI",IF(Hoja1!AZ4="x",Hoja1!$AZ$2,IF(Hoja1!BA4="x",Hoja1!$BA$2,IF(Hoja1!BB4="x",Hoja1!$BB$2,IF(Hoja1!BC4="x",Hoja1!$BC$2,IF(Hoja1!BD4="x",Hoja1!$BD$2,""))))),"") | AX4: =IF(D$84="SI",IF(Hoja1!AZ4="x",Hoja1!$AZ$2,IF(Hoja1!BA4="x",Hoja1!$BA$2,IF(Hoja1!BB4="x",Hoja1!$BB$2,IF(Hoja1!BC4="x",Hoja1!$BC$2,IF(Hoja1!BD4="x",Hoja1!$BD$2,""))))),"") | AY4: =IF(D$86="SI",IF(Hoja1!AZ4="x",Hoja1!$AZ$2,IF(Hoja1!BA4="x",Hoja1!$BA$2,IF(Hoja1!BB4="x",Hoja1!$BB$2,IF(Hoja1!BC4="x",Hoja1!$BC$2,IF(Hoja1!BD4="x",Hoja1!$BD$2,""))))),"") | AZ4: =IF(D$46="SI",IF(Hoja1!BE4="x",Hoja1!$BE$2,IF(Hoja1!BF4="x",Hoja1!$BF$2,IF(Hoja1!BG4="x",Hoja1!$BG$2,IF(Hoja1!BH4="x",Hoja1!$BH$2,IF(Hoja1!BI4="x",Hoja1!$BI$2,""))))),"") | BA4: =IF(D$84="SI",IF(Hoja1!BE4="x",Hoja1!$BE$2,IF(Hoja1!BF4="x",Hoja1!$BF$2,IF(Hoja1!BG4="x",Hoja1!$BG$2,IF(Hoja1!BH4="x",Hoja1!$BH$2,IF(Hoja1!BI4="x",Hoja1!$BI$2,""))))),"") | BB4: =IF(D$45="SI",IF(Hoja1!BJ4="x",Hoja1!$BJ$2,IF(Hoja1!BK4="x",Hoja1!$BK$2,IF(Hoja1!BL4="x",Hoja1!$BL$2,IF(Hoja1!BM4="x",Hoja1!$BM$2,IF(Hoja1!BN4="x",Hoja1!$BN$2,""))))),"") | BC4: =IF(D$56="SI",IF(Hoja1!BJ4="x",Hoja1!$BJ$2,IF(Hoja1!BK4="x",Hoja1!$BK$2,IF(Hoja1!BL4="x",Hoja1!$BL$2,IF(Hoja1!BM4="x",Hoja1!$BM$2,IF(Hoja1!BN4="x",Hoja1!$BN$2,""))))),"") | BD4: =IF(D$59="SI",IF(Hoja1!BJ4="x",Hoja1!$BJ$2,IF(Hoja1!BK4="x",Hoja1!$BK$2,IF(Hoja1!BL4="x",Hoja1!$BL$2,IF(Hoja1!BM4="x",Hoja1!$BM$2,IF(Hoja1!BN4="x",Hoja1!$BN$2,""))))),"") | BE4: =IF(D$62="SI",IF(Hoja1!BJ4="x",Hoja1!$BJ$2,IF(Hoja1!BK4="x",Hoja1!$BK$2,IF(Hoja1!BL4="x",Hoja1!$BL$2,IF(Hoja1!BM4="x",Hoja1!$BM$2,IF(Hoja1!BN4="x",Hoja1!$BN$2,""))))),"") | BF4: =IF(D$52="SI",IF(Hoja1!BJ4="x",Hoja1!$BJ$2,IF(Hoja1!BK4="x",Hoja1!$BK$2,IF(Hoja1!BL4="x",Hoja1!$BL$2,IF(Hoja1!BM4="x",Hoja1!$BM$2,IF(Hoja1!BN4="x",Hoja1!$BN$2,""))))),"") | BG4: =IF(D$75="SI",IF(Hoja1!BJ4="x",Hoja1!$BJ$2,IF(Hoja1!BK4="x",Hoja1!$BK$2,IF(Hoja1!BL4="x",Hoja1!$BL$2,IF(Hoja1!BM4="x",Hoja1!$BM$2,IF(Hoja1!BN4="x",Hoja1!$BN$2,""))))),"") | BH4: =IF(D$71="SI",IF(Hoja1!BO4="x",Hoja1!$BO$2,IF(Hoja1!BP4="x",Hoja1!$BP$2,IF(Hoja1!BQ4="x",Hoja1!$BQ$2,IF(Hoja1!BR4="x",Hoja1!$BR$2,IF(Hoja1!BS4="x",Hoja1!$BS$2,""))))),"") | BI4: =IF(D$72="SI",IF(Hoja1!BO4="x",Hoja1!$BO$2,IF(Hoja1!BP4="x",Hoja1!$BP$2,IF(Hoja1!BQ4="x",Hoja1!$BQ$2,IF(Hoja1!BR4="x",Hoja1!$BR$2,IF(Hoja1!BS4="x",Hoja1!$BS$2,""))))),"") | BJ4: =IF(D$58="SI",IF(Hoja1!BO4="x",Hoja1!$BO$2,IF(Hoja1!BP4="x",Hoja1!$BP$2,IF(Hoja1!BQ4="x",Hoja1!$BQ$2,IF(Hoja1!BR4="x",Hoja1!$BR$2,IF(Hoja1!BS4="x",Hoja1!$BS$2,""))))),"") | BK4: =IF(D$67="SI",IF(Hoja1!BT4="x",Hoja1!$BT$2,IF(Hoja1!BU4="x",Hoja1!$BU$2,IF(Hoja1!BV4="x",Hoja1!$BV$2,IF(Hoja1!BW4="x",Hoja1!$BW$2,IF(Hoja1!BX4="x",Hoja1!$BX$2,""))))),"") | BL4: =IF(D$68="SI",IF(Hoja1!BT4="x",Hoja1!$BT$2,IF(Hoja1!BU4="x",Hoja1!$BU$2,IF(Hoja1!BV4="x",Hoja1!$BV$2,IF(Hoja1!BW4="x",Hoja1!$BW$2,IF(Hoja1!BX4="x",Hoja1!$BX$2,""))))),"") | BM4: =IF(D$90="SI",IF(Hoja1!BT4="x",Hoja1!$BT$2,IF(Hoja1!BU4="x",Hoja1!$BU$2,IF(Hoja1!BV4="x",Hoja1!$BV$2,IF(Hoja1!BW4="x",Hoja1!$BW$2,IF(Hoja1!BX4="x",Hoja1!$BX$2,""))))),"") | BN4: =IF(D$91="SI",IF(Hoja1!BT4="x",Hoja1!$BT$2,IF(Hoja1!BU4="x",Hoja1!$BU$2,IF(Hoja1!BV4="x",Hoja1!$BV$2,IF(Hoja1!BW4="x",Hoja1!$BW$2,IF(Hoja1!BX4="x",Hoja1!$BX$2,""))))),"") | BO4: =IF(D$92="SI",IF(Hoja1!BT4="x",Hoja1!$BT$2,IF(Hoja1!BU4="x",Hoja1!$BU$2,IF(Hoja1!BV4="x",Hoja1!$BV$2,IF(Hoja1!BW4="x",Hoja1!$BW$2,IF(Hoja1!BX4="x",Hoja1!$BX$2,""))))),"") | BP4: =IF(D$67="SI",IF(Hoja1!BY4="x",Hoja1!$BY$2,IF(Hoja1!BZ4="x",Hoja1!$BZ$2,IF(Hoja1!CA4="x",Hoja1!$CA$2,IF(Hoja1!CB4="x",Hoja1!$CB$2,IF(Hoja1!CC4="x",Hoja1!$CC$2,""))))),"") | BQ4: =IF(D$68="SI",IF(Hoja1!BY4="x",Hoja1!$BY$2,IF(Hoja1!BZ4="x",Hoja1!$BZ$2,IF(Hoja1!CA4="x",Hoja1!$CA$2,IF(Hoja1!CB4="x",Hoja1!$CB$2,IF(Hoja1!CC4="x",Hoja1!$CC$2,""))))),"") | BR4: =IF(D$69="SI",IF(Hoja1!BY4="x",Hoja1!$BY$2,IF(Hoja1!BZ4="x",Hoja1!$BZ$2,IF(Hoja1!CA4="x",Hoja1!$CA$2,IF(Hoja1!CB4="x",Hoja1!$CB$2,IF(Hoja1!CC4="x",Hoja1!$CC$2,""))))),"") | BS4: =IF(D$90="SI",IF(Hoja1!BY4="x",Hoja1!$BY$2,IF(Hoja1!BZ4="x",Hoja1!$BZ$2,IF(Hoja1!CA4="x",Hoja1!$CA$2,IF(Hoja1!CB4="x",Hoja1!$CB$2,IF(Hoja1!CC4="x",Hoja1!$CC$2,""))))),"") | BT4: =IF(D$91="SI",IF(Hoja1!BY4="x",Hoja1!$BY$2,IF(Hoja1!BZ4="x",Hoja1!$BZ$2,IF(Hoja1!CA4="x",Hoja1!$CA$2,IF(Hoja1!CB4="x",Hoja1!$CB$2,IF(Hoja1!CC4="x",Hoja1!$CC$2,""))))),"") | BU4: =IF(D$92="SI",IF(Hoja1!BY4="x",Hoja1!$BY$2,IF(Hoja1!BZ4="x",Hoja1!$BZ$2,IF(Hoja1!CA4="x",Hoja1!$CA$2,IF(Hoja1!CB4="x",Hoja1!$CB$2,IF(Hoja1!CC4="x",Hoja1!$CC$2,""))))),"") | BV4: =IF(D$59="SI",IF(Hoja1!CD4="x",Hoja1!$CD$2,IF(Hoja1!CE4="x",Hoja1!$CE$2,IF(Hoja1!CF4="x",Hoja1!$CF$2,IF(Hoja1!CG4="x",Hoja1!$CG$2,IF(Hoja1!CH4="x",Hoja1!$CH$2,""))))),"") -> B | BW4: =IF(D$67="SI",IF(Hoja1!CD4="x",Hoja1!$CD$2,IF(Hoja1!CE4="x",Hoja1!$CE$2,IF(Hoja1!CF4="x",Hoja1!$CF$2,IF(Hoja1!CG4="x",Hoja1!$CG$2,IF(Hoja1!CH4="x",Hoja1!$CH$2,""))))),"") -> B | BX4: =IF(D$68="SI",IF(Hoja1!CD4="x",Hoja1!$CD$2,IF(Hoja1!CE4="x",Hoja1!$CE$2,IF(Hoja1!CF4="x",Hoja1!$CF$2,IF(Hoja1!CG4="x",Hoja1!$CG$2,IF(Hoja1!CH4="x",Hoja1!$CH$2,""))))),"") -> B | BY4: =IF(D$69="SI",IF(Hoja1!CD4="x",Hoja1!$CD$2,IF(Hoja1!CE4="x",Hoja1!$CE$2,IF(Hoja1!CF4="x",Hoja1!$CF$2,IF(Hoja1!CG4="x",Hoja1!$CG$2,IF(Hoja1!CH4="x",Hoja1!$CH$2,""))))),"") -> B | BZ4: =IF(D$90="SI",IF(Hoja1!CD4="x",Hoja1!$CD$2,IF(Hoja1!CE4="x",Hoja1!$CE$2,IF(Hoja1!CF4="x",Hoja1!$CF$2,IF(Hoja1!CG4="x",Hoja1!$CG$2,IF(Hoja1!CH4="x",Hoja1!$CH$2,""))))),"") -> B | CA4: =IF(D$91="SI",IF(Hoja1!CD4="x",Hoja1!$CD$2,IF(Hoja1!CE4="x",Hoja1!$CE$2,IF(Hoja1!CF4="x",Hoja1!$CF$2,IF(Hoja1!CG4="x",Hoja1!$CG$2,IF(Hoja1!CH4="x",Hoja1!$CH$2,""))))),"") -> B | CB4: =IF(D$92="SI",IF(Hoja1!CD4="x",Hoja1!$CD$2,IF(Hoja1!CE4="x",Hoja1!$CE$2,IF(Hoja1!CF4="x",Hoja1!$CF$2,IF(Hoja1!CG4="x",Hoja1!$CG$2,IF(Hoja1!CH4="x",Hoja1!$CH$2,""))))),"") -> B | CC4: =IF(D$69="SI",IF(Hoja1!CD4="x",Hoja1!$CD$2,IF(Hoja1!CE4="x",Hoja1!$CE$2,IF(Hoja1!CF4="x",Hoja1!$CF$2,IF(Hoja1!CG4="x",Hoja1!$CG$2,IF(Hoja1!CH4="x",Hoja1!$CH$2,""))))),"") -> B | CD4: =IF(D$90="SI",IF(Hoja1!CD4="x",Hoja1!$CD$2,IF(Hoja1!CE4="x",Hoja1!$CE$2,IF(Hoja1!CF4="x",Hoja1!$CF$2,IF(Hoja1!CG4="x",Hoja1!$CG$2,IF(Hoja1!CH4="x",Hoja1!$CH$2,""))))),"") -> B | CE4: =IF(D$91="SI",IF(Hoja1!CD4="x",Hoja1!$CD$2,IF(Hoja1!CE4="x",Hoja1!$CE$2,IF(Hoja1!CF4="x",Hoja1!$CF$2,IF(Hoja1!CG4="x",Hoja1!$CG$2,IF(Hoja1!CH4="x",Hoja1!$CH$2,""))))),"") -> B | CF4: =IF(D$92="SI",IF(Hoja1!CD4="x",Hoja1!$CD$2,IF(Hoja1!CE4="x",Hoja1!$CE$2,IF(Hoja1!CF4="x",Hoja1!$CF$2,IF(Hoja1!CG4="x",Hoja1!$CG$2,IF(Hoja1!CH4="x",Hoja1!$CH$2,""))))),"") -> B
A5: 3 | B5: =IF(E62="SI",IF(Hoja1!B5="x",Hoja1!$B$2,IF(Hoja1!C5="x",Hoja1!$C$2,IF(Hoja1!D5="x",Hoja1!$D$2,IF(Hoja1!E5="x",Hoja1!$E$2,IF(Hoja1!F5="x",Hoja1!$F$2,""))))),"") -> B | C5: =IF(E43="SI",IF(Hoja1!B5="x",Hoja1!$B$2,IF(Hoja1!C5="x",Hoja1!$C$2,IF(Hoja1!D5="x",Hoja1!$D$2,IF(Hoja1!E5="x",Hoja1!$E$2,IF(Hoja1!F5="x",Hoja1!$F$2,""))))),"") -> B | D5: =IF(E44="SI",IF(Hoja1!B5="x",Hoja1!$B$2,IF(Hoja1!C5="x",Hoja1!$C$2,IF(Hoja1!D5="x",Hoja1!$D$2,IF(Hoja1!E5="x",Hoja1!$E$2,IF(Hoja1!F5="x",Hoja1!$F$2,""))))),"") -> B | E5: =IF(E$82="SI",IF(Hoja1!B5="x",Hoja1!$B$2,IF(Hoja1!C5="x",Hoja1!$C$2,IF(Hoja1!D5="x",Hoja1!$D$2,IF(Hoja1!E5="x",Hoja1!$E$2,IF(Hoja1!F5="x",Hoja1!$F$2,""))))),"") -> B | F5: =IF(E$84="SI",IF(Hoja1!B5="x",Hoja1!$B$2,IF(Hoja1!C5="x",Hoja1!$C$2,IF(Hoja1!D5="x",Hoja1!$D$2,IF(Hoja1!E5="x",Hoja1!$E$2,IF(Hoja1!F5="x",Hoja1!$F$2,""))))),"") -> B | G5: =IF(E$70="SI",IF(Hoja1!B5="x",Hoja1!$B$2,IF(Hoja1!C5="x",Hoja1!$C$2,IF(Hoja1!D5="x",Hoja1!$D$2,IF(Hoja1!E5="x",Hoja1!$E$2,IF(Hoja1!F5="x",Hoja1!$F$2,""))))),"") -> B | H5: =IF(E$82="SI",IF(Hoja1!G5="x",Hoja1!$G$2,IF(Hoja1!H5="x",Hoja1!$H$2,IF(Hoja1!I5="x",Hoja1!$I$2,IF(Hoja1!J5="x",Hoja1!$J$2,IF(Hoja1!K5="x",Hoja1!$K$2,""))))),"") -> B | I5: =IF(E$85="SI",IF(Hoja1!G5="x",Hoja1!$G$2,IF(Hoja1!H5="x",Hoja1!$H$2,IF(Hoja1!I5="x",Hoja1!$I$2,IF(Hoja1!J5="x",Hoja1!$J$2,IF(Hoja1!K5="x",Hoja1!$K$2,""))))),"") -> B | J5: =IF(E$86="SI",IF(Hoja1!G5="x",Hoja1!$G$2,IF(Hoja1!H5="x",Hoja1!$H$2,IF(Hoja1!I5="x",Hoja1!$I$2,IF(Hoja1!J5="x",Hoja1!$J$2,IF(Hoja1!K5="x",Hoja1!$K$2,""))))),"") -> B | K5: =IF(E$87="SI",IF(Hoja1!G5="x",Hoja1!$G$2,IF(Hoja1!H5="x",Hoja1!$H$2,IF(Hoja1!I5="x",Hoja1!$I$2,IF(Hoja1!J5="x",Hoja1!$J$2,IF(Hoja1!K5="x",Hoja1!$K$2,""))))),"") -> B | L5: =IF(E$64="SI",IF(Hoja1!G5="x",Hoja1!$G$2,IF(Hoja1!H5="x",Hoja1!$H$2,IF(Hoja1!I5="x",Hoja1!$I$2,IF(Hoja1!J5="x",Hoja1!$J$2,IF(Hoja1!K5="x",Hoja1!$K$2,""))))),"") -> B | M5: =IF(E$73="SI",IF(Hoja1!G5="x",Hoja1!$G$2,IF(Hoja1!H5="x",Hoja1!$H$2,IF(Hoja1!I5="x",Hoja1!$I$2,IF(Hoja1!J5="x",Hoja1!$J$2,IF(Hoja1!K5="x",Hoja1!$K$2,""))))),"") -> B | N5: =IF(E$74="SI",IF(Hoja1!G5="x",Hoja1!$G$2,IF(Hoja1!H5="x",Hoja1!$H$2,IF(Hoja1!I5="x",Hoja1!$I$2,IF(Hoja1!J5="x",Hoja1!$J$2,IF(Hoja1!K5="x",Hoja1!$K$2,""))))),"") -> B | O5: =IF(E$60="SI",IF(Hoja1!L5="x",Hoja1!$L$2,IF(Hoja1!M5="x",Hoja1!$M$2,IF(Hoja1!N5="x",Hoja1!$N$2,IF(Hoja1!O5="x",Hoja1!$O$2,IF(Hoja1!P5="x",Hoja1!$P$2,""))))),"") -> B | P5: =IF(E$80="SI",IF(Hoja1!L5="x",Hoja1!$L$2,IF(Hoja1!M5="x",Hoja1!$M$2,IF(Hoja1!N5="x",Hoja1!$N$2,IF(Hoja1!O5="x",Hoja1!$O$2,IF(Hoja1!P5="x",Hoja1!$P$2,""))))),"") -> B | Q5: =IF(E$43="SI",IF(Hoja1!L5="x",Hoja1!$L$2,IF(Hoja1!M5="x",Hoja1!$M$2,IF(Hoja1!N5="x",Hoja1!$N$2,IF(Hoja1!O5="x",Hoja1!$O$2,IF(Hoja1!P5="x",Hoja1!$P$2,""))))),"") -> B | R5: =IF(E$82="SI",IF(Hoja1!L5="x",Hoja1!$L$2,IF(Hoja1!M5="x",Hoja1!$M$2,IF(Hoja1!N5="x",Hoja1!$N$2,IF(Hoja1!O5="x",Hoja1!$O$2,IF(Hoja1!P5="x",Hoja1!$P$2,""))))),"") -> B | S5: =IF(E$76="SI",IF(Hoja1!L5="x",Hoja1!$L$2,IF(Hoja1!M5="x",Hoja1!$M$2,IF(Hoja1!N5="x",Hoja1!$N$2,IF(Hoja1!O5="x",Hoja1!$O$2,IF(Hoja1!P5="x",Hoja1!$P$2,""))))),"") -> B | T5: =IF(E$77="SI",IF(Hoja1!L5="x",Hoja1!$L$2,IF(Hoja1!M5="x",Hoja1!$M$2,IF(Hoja1!N5="x",Hoja1!$N$2,IF(Hoja1!O5="x",Hoja1!$O$2,IF(Hoja1!P5="x",Hoja1!$P$2,""))))),"") -> B | U5: =IF(E$78="SI",IF(Hoja1!L5="x",Hoja1!$L$2,IF(Hoja1!M5="x",Hoja1!$M$2,IF(Hoja1!N5="x",Hoja1!$N$2,IF(Hoja1!O5="x",Hoja1!$O$2,IF(Hoja1!P5="x",Hoja1!$P$2,""))))),"") -> B | V5: =IF(E$60="SI",IF(Hoja1!Q5="x",Hoja1!$Q$2,IF(Hoja1!R5="x",Hoja1!$R$2,IF(Hoja1!S5="x",Hoja1!$S$2,IF(Hoja1!T5="x",Hoja1!$T$2,IF(Hoja1!U5="x",Hoja1!$U$2,""))))),"") -> B | W5: =IF(E$61="SI",IF(Hoja1!Q5="x",Hoja1!$Q$2,IF(Hoja1!R5="x",Hoja1!$R$2,IF(Hoja1!S5="x",Hoja1!$S$2,IF(Hoja1!T5="x",Hoja1!$T$2,IF(Hoja1!U5="x",Hoja1!$U$2,""))))),"") -> B | X5: =IF(E$62="SI",IF(Hoja1!Q5="x",Hoja1!$Q$2,IF(Hoja1!R5="x",Hoja1!$R$2,IF(Hoja1!S5="x",Hoja1!$S$2,IF(Hoja1!T5="x",Hoja1!$T$2,IF(Hoja1!U5="x",Hoja1!$U$2,""))))),"") -> B | Y5: =IF(E$79="SI",IF(Hoja1!Q5="x",Hoja1!$Q$2,IF(Hoja1!R5="x",Hoja1!$R$2,IF(Hoja1!S5="x",Hoja1!$S$2,IF(Hoja1!T5="x",Hoja1!$T$2,IF(Hoja1!U5="x",Hoja1!$U$2,""))))),"") -> B | Z5: =IF(E$81="SI",IF(Hoja1!Q5="x",Hoja1!$Q$2,IF(Hoja1!R5="x",Hoja1!$R$2,IF(Hoja1!S5="x",Hoja1!$S$2,IF(Hoja1!T5="x",Hoja1!$T$2,IF(Hoja1!U5="x",Hoja1!$U$2,""))))),"") -> B | AA5: =IF(E$63="SI",IF(Hoja1!Q5="x",Hoja1!$Q$2,IF(Hoja1!R5="x",Hoja1!$R$2,IF(Hoja1!S5="x",Hoja1!$S$2,IF(Hoja1!T5="x",Hoja1!$T$2,IF(Hoja1!U5="x",Hoja1!$U$2,""))))),"") -> B | AB5: =IF(E$64="SI",IF(Hoja1!Q5="x",Hoja1!$Q$2,IF(Hoja1!R5="x",Hoja1!$R$2,IF(Hoja1!S5="x",Hoja1!$S$2,IF(Hoja1!T5="x",Hoja1!$T$2,IF(Hoja1!U5="x",Hoja1!$U$2,""))))),"") -> B | AC5: =IF(E$65="SI",IF(Hoja1!Q5="x",Hoja1!$Q$2,IF(Hoja1!R5="x",Hoja1!$R$2,IF(Hoja1!S5="x",Hoja1!$S$2,IF(Hoja1!T5="x",Hoja1!$T$2,IF(Hoja1!U5="x",Hoja1!$U$2,""))))),"") -> B | AD5: =IF(E$45="SI",IF(Hoja1!V5="x",Hoja1!$V$2,IF(Hoja1!W5="x",Hoja1!$W$2,IF(Hoja1!X5="x",Hoja1!$X$2,IF(Hoja1!Y5="x",Hoja1!$Y$2,IF(Hoja1!Z5="x",Hoja1!$Z$2,""))))),"") | AE5: =IF(E$53="SI",IF(Hoja1!V5="x",Hoja1!$V$2,IF(Hoja1!W5="x",Hoja1!$W$2,IF(Hoja1!X5="x",Hoja1!$X$2,IF(Hoja1!Y5="x",Hoja1!$Y$2,IF(Hoja1!Z5="x",Hoja1!$Z$2,""))))),"") | AF5: =IF(E$43="SI",IF(Hoja1!AA5="x",Hoja1!$AA$2,IF(Hoja1!AB5="x",Hoja1!$AB$2,IF(Hoja1!AC5="x",Hoja1!$AC$2,IF(Hoja1!AD5="x",Hoja1!$AD$2,IF(Hoja1!AE5="x",Hoja1!$AE$2,""))))),"") | AG5: =IF(E$54="SI",IF(Hoja1!AA5="x",Hoja1!$AA$2,IF(Hoja1!AB5="x",Hoja1!$AB$2,IF(Hoja1!AC5="x",Hoja1!$AC$2,IF(Hoja1!AD5="x",Hoja1!$AD$2,IF(Hoja1!AE5="x",Hoja1!$AE$2,""))))),"") | AH5: =IF(E$88="SI",IF(Hoja1!AF5="x",Hoja1!$AF$2,IF(Hoja1!AG5="x",Hoja1!$AG$2,IF(Hoja1!AH5="x",Hoja1!$AH$2,IF(Hoja1!AI5="x",Hoja1!$AI$2,IF(Hoja1!AJ5="x",Hoja1!$AJ$2,""))))),"") | AI5: =IF(E$48="SI",IF(Hoja1!AF5="x",Hoja1!$AF$2,IF(Hoja1!AG5="x",Hoja1!$AG$2,IF(Hoja1!AH5="x",Hoja1!$AH$2,IF(Hoja1!AI5="x",Hoja1!$AI$2,IF(Hoja1!AJ5="x",Hoja1!$AJ$2,""))))),"") | AJ5: =IF(E$51="SI",IF(Hoja1!AF5="x",Hoja1!$AF$2,IF(Hoja1!AG5="x",Hoja1!$AG$2,IF(Hoja1!AH5="x",Hoja1!$AH$2,IF(Hoja1!AI5="x",Hoja1!$AI$2,IF(Hoja1!AJ5="x",Hoja1!$AJ$2,""))))),"") | AK5: =IF(E$88="SI",IF(Hoja1!AK5="x",Hoja1!$AK$2,IF(Hoja1!AL5="x",Hoja1!$AL$2,IF(Hoja1!AM5="x",Hoja1!$AM$2,IF(Hoja1!AN5="x",Hoja1!$AN$2,IF(Hoja1!AO5="x",Hoja1!$AO$2,""))))),"") | AL5: =IF(E$48="SI",IF(Hoja1!AK5="x",Hoja1!$AK$2,IF(Hoja1!AL5="x",Hoja1!$AL$2,IF(Hoja1!AM5="x",Hoja1!$AM$2,IF(Hoja1!AN5="x",Hoja1!$AN$2,IF(Hoja1!AO5="x",Hoja1!$AO$2,""))))),"") | AM5: =IF(E$49="SI",IF(Hoja1!AK5="x",Hoja1!$AK$2,IF(Hoja1!AL5="x",Hoja1!$AL$2,IF(Hoja1!AM5="x",Hoja1!$AM$2,IF(Hoja1!AN5="x",Hoja1!$AN$2,IF(Hoja1!AO5="x",Hoja1!$AO$2,""))))),"") | AN5: =IF(E$50="SI",IF(Hoja1!AK5="x",Hoja1!$AK$2,IF(Hoja1!AL5="x",Hoja1!$AL$2,IF(Hoja1!AM5="x",Hoja1!$AM$2,IF(Hoja1!AN5="x",Hoja1!$AN$2,IF(Hoja1!AO5="x",Hoja1!$AO$2,""))))),"") | AO5: =IF(E$59="SI",IF(Hoja1!AP5="x",Hoja1!$AP$2,IF(Hoja1!AQ5="x",Hoja1!$AQ$2,IF(Hoja1!AR5="x",Hoja1!$AR$2,IF(Hoja1!AS5="x",Hoja1!$AS$2,IF(Hoja1!AT5="x",Hoja1!$AT$2,""))))),"") | AP5: =IF(E$80="SI",IF(Hoja1!AP5="x",Hoja1!$AP$2,IF(Hoja1!AQ5="x",Hoja1!$AQ$2,IF(Hoja1!AR5="x",Hoja1!$AR$2,IF(Hoja1!AS5="x",Hoja1!$AS$2,IF(Hoja1!AT5="x",Hoja1!$AT$2,""))))),"") | AQ5: =IF(E$89="SI",IF(Hoja1!AP5="x",Hoja1!$AP$2,IF(Hoja1!AQ5="x",Hoja1!$AQ$2,IF(Hoja1!AR5="x",Hoja1!$AR$2,IF(Hoja1!AS5="x",Hoja1!$AS$2,IF(Hoja1!AT5="x",Hoja1!$AT$2,""))))),"") | AR5: =IF(E$83="SI",IF(Hoja1!AU5="x",Hoja1!$AU$2,IF(Hoja1!AV5="x",Hoja1!$AV$2,IF(Hoja1!AW5="x",Hoja1!$AW$2,IF(Hoja1!AX5="x",Hoja1!$AX$2,IF(Hoja1!AY5="x",Hoja1!$AY$2,""))))),"") | AS5: =IF(E$55="SI",IF(Hoja1!AU5="x",Hoja1!$AU$2,IF(Hoja1!AV5="x",Hoja1!$AV$2,IF(Hoja1!AW5="x",Hoja1!$AW$2,IF(Hoja1!AX5="x",Hoja1!$AX$2,IF(Hoja1!AY5="x",Hoja1!$AY$2,""))))),"") | AT5: =IF(E$57="SI",IF(Hoja1!AU5="x",Hoja1!$AU$2,IF(Hoja1!AV5="x",Hoja1!$AV$2,IF(Hoja1!AW5="x",Hoja1!$AW$2,IF(Hoja1!AX5="x",Hoja1!$AX$2,IF(Hoja1!AY5="x",Hoja1!$AY$2,""))))),"") | AU5: =IF(E$47="SI",IF(Hoja1!AZ5="x",Hoja1!$AZ$2,IF(Hoja1!BA5="x",Hoja1!$BA$2,IF(Hoja1!BB5="x",Hoja1!$BB$2,IF(Hoja1!BC5="x",Hoja1!$BC$2,IF(Hoja1!BD5="x",Hoja1!$BD$2,""))))),"") -> B | AV5: =IF(E$62="SI",IF(Hoja1!AZ5="x",Hoja1!$AZ$2,IF(Hoja1!BA5="x",Hoja1!$BA$2,IF(Hoja1!BB5="x",Hoja1!$BB$2,IF(Hoja1!BC5="x",Hoja1!$BC$2,IF(Hoja1!BD5="x",Hoja1!$BD$2,""))))),"") -> B | AW5: =IF(E$83="SI",IF(Hoja1!AZ5="x",Hoja1!$AZ$2,IF(Hoja1!BA5="x",Hoja1!$BA$2,IF(Hoja1!BB5="x",Hoja1!$BB$2,IF(Hoja1!BC5="x",Hoja1!$BC$2,IF(Hoja1!BD5="x",Hoja1!$BD$2,""))))),"") -> B | AX5: =IF(E$84="SI",IF(Hoja1!AZ5="x",Hoja1!$AZ$2,IF(Hoja1!BA5="x",Hoja1!$BA$2,IF(Hoja1!BB5="x",Hoja1!$BB$2,IF(Hoja1!BC5="x",Hoja1!$BC$2,IF(Hoja1!BD5="x",Hoja1!$BD$2,""))))),"") -> B | AY5: =IF(E$86="SI",IF(Hoja1!AZ5="x",Hoja1!$AZ$2,IF(Hoja1!BA5="x",Hoja1!$BA$2,IF(Hoja1!BB5="x",Hoja1!$BB$2,IF(Hoja1!BC5="x",Hoja1!$BC$2,IF(Hoja1!BD5="x",Hoja1!$BD$2,""))))),"") -> B | AZ5: =IF(E$46="SI",IF(Hoja1!BE5="x",Hoja1!$BE$2,IF(Hoja1!BF5="x",Hoja1!$BF$2,IF(Hoja1!BG5="x",Hoja1!$BG$2,IF(Hoja1!BH5="x",Hoja1!$BH$2,IF(Hoja1!BI5="x",Hoja1!$BI$2,""))))),"") -> B | BA5: =IF(E$84="SI",IF(Hoja1!BE5="x",Hoja1!$BE$2,IF(Hoja1!BF5="x",Hoja1!$BF$2,IF(Hoja1!BG5="x",Hoja1!$BG$2,IF(Hoja1!BH5="x",Hoja1!$BH$2,IF(Hoja1!BI5="x",Hoja1!$BI$2,""))))),"") -> B | BB5: =IF(E$45="SI",IF(Hoja1!BJ5="x",Hoja1!$BJ$2,IF(Hoja1!BK5="x",Hoja1!$BK$2,IF(Hoja1!BL5="x",Hoja1!$BL$2,IF(Hoja1!BM5="x",Hoja1!$BM$2,IF(Hoja1!BN5="x",Hoja1!$BN$2,""))))),"") | BC5: =IF(E$56="SI",IF(Hoja1!BJ5="x",Hoja1!$BJ$2,IF(Hoja1!BK5="x",Hoja1!$BK$2,IF(Hoja1!BL5="x",Hoja1!$BL$2,IF(Hoja1!BM5="x",Hoja1!$BM$2,IF(Hoja1!BN5="x",Hoja1!$BN$2,""))))),"") | BD5: =IF(E$59="SI",IF(Hoja1!BJ5="x",Hoja1!$BJ$2,IF(Hoja1!BK5="x",Hoja1!$BK$2,IF(Hoja1!BL5="x",Hoja1!$BL$2,IF(Hoja1!BM5="x",Hoja1!$BM$2,IF(Hoja1!BN5="x",Hoja1!$BN$2,""))))),"") | BE5: =IF(E$62="SI",IF(Hoja1!BJ5="x",Hoja1!$BJ$2,IF(Hoja1!BK5="x",Hoja1!$BK$2,IF(Hoja1!BL5="x",Hoja1!$BL$2,IF(Hoja1!BM5="x",Hoja1!$BM$2,IF(Hoja1!BN5="x",Hoja1!$BN$2,""))))),"") | BF5: =IF(E$52="SI",IF(Hoja1!BJ5="x",Hoja1!$BJ$2,IF(Hoja1!BK5="x",Hoja1!$BK$2,IF(Hoja1!BL5="x",Hoja1!$BL$2,IF(Hoja1!BM5="x",Hoja1!$BM$2,IF(Hoja1!BN5="x",Hoja1!$BN$2,""))))),"") | BG5: =IF(E$75="SI",IF(Hoja1!BJ5="x",Hoja1!$BJ$2,IF(Hoja1!BK5="x",Hoja1!$BK$2,IF(Hoja1!BL5="x",Hoja1!$BL$2,IF(Hoja1!BM5="x",Hoja1!$BM$2,IF(Hoja1!BN5="x",Hoja1!$BN$2,""))))),"") | BH5: =IF(E$71="SI",IF(Hoja1!BO5="x",Hoja1!$BO$2,IF(Hoja1!BP5="x",Hoja1!$BP$2,IF(Hoja1!BQ5="x",Hoja1!$BQ$2,IF(Hoja1!BR5="x",Hoja1!$BR$2,IF(Hoja1!BS5="x",Hoja1!$BS$2,""))))),"") -> B | BI5: =IF(E$72="SI",IF(Hoja1!BO5="x",Hoja1!$BO$2,IF(Hoja1!BP5="x",Hoja1!$BP$2,IF(Hoja1!BQ5="x",Hoja1!$BQ$2,IF(Hoja1!BR5="x",Hoja1!$BR$2,IF(Hoja1!BS5="x",Hoja1!$BS$2,""))))),"") -> B | BJ5: =IF(E$58="SI",IF(Hoja1!BO5="x",Hoja1!$BO$2,IF(Hoja1!BP5="x",Hoja1!$BP$2,IF(Hoja1!BQ5="x",Hoja1!$BQ$2,IF(Hoja1!BR5="x",Hoja1!$BR$2,IF(Hoja1!BS5="x",Hoja1!$BS$2,""))))),"") -> B | BK5: =IF(E$67="SI",IF(Hoja1!BT5="x",Hoja1!$BT$2,IF(Hoja1!BU5="x",Hoja1!$BU$2,IF(Hoja1!BV5="x",Hoja1!$BV$2,IF(Hoja1!BW5="x",Hoja1!$BW$2,IF(Hoja1!BX5="x",Hoja1!$BX$2,""))))),"") -> B | BL5: =IF(E$68="SI",IF(Hoja1!BT5="x",Hoja1!$BT$2,IF(Hoja1!BU5="x",Hoja1!$BU$2,IF(Hoja1!BV5="x",Hoja1!$BV$2,IF(Hoja1!BW5="x",Hoja1!$BW$2,IF(Hoja1!BX5="x",Hoja1!$BX$2,""))))),"") -> B | BM5: =IF(E$90="SI",IF(Hoja1!BT5="x",Hoja1!$BT$2,IF(Hoja1!BU5="x",Hoja1!$BU$2,IF(Hoja1!BV5="x",Hoja1!$BV$2,IF(Hoja1!BW5="x",Hoja1!$BW$2,IF(Hoja1!BX5="x",Hoja1!$BX$2,""))))),"") -> B | BN5: =IF(E$91="SI",IF(Hoja1!BT5="x",Hoja1!$BT$2,IF(Hoja1!BU5="x",Hoja1!$BU$2,IF(Hoja1!BV5="x",Hoja1!$BV$2,IF(Hoja1!BW5="x",Hoja1!$BW$2,IF(Hoja1!BX5="x",Hoja1!$BX$2,""))))),"") -> B | BO5: =IF(E$92="SI",IF(Hoja1!BT5="x",Hoja1!$BT$2,IF(Hoja1!BU5="x",Hoja1!$BU$2,IF(Hoja1!BV5="x",Hoja1!$BV$2,IF(Hoja1!BW5="x",Hoja1!$BW$2,IF(Hoja1!BX5="x",Hoja1!$BX$2,""))))),"") -> B | BP5: =IF(E$67="SI",IF(Hoja1!BY5="x",Hoja1!$BY$2,IF(Hoja1!BZ5="x",Hoja1!$BZ$2,IF(Hoja1!CA5="x",Hoja1!$CA$2,IF(Hoja1!CB5="x",Hoja1!$CB$2,IF(Hoja1!CC5="x",Hoja1!$CC$2,""))))),"") -> B | BQ5: =IF(E$68="SI",IF(Hoja1!BY5="x",Hoja1!$BY$2,IF(Hoja1!BZ5="x",Hoja1!$BZ$2,IF(Hoja1!CA5="x",Hoja1!$CA$2,IF(Hoja1!CB5="x",Hoja1!$CB$2,IF(Hoja1!CC5="x",Hoja1!$CC$2,""))))),"") -> B | BR5: =IF(E$69="SI",IF(Hoja1!BY5="x",Hoja1!$BY$2,IF(Hoja1!BZ5="x",Hoja1!$BZ$2,IF(Hoja1!CA5="x",Hoja1!$CA$2,IF(Hoja1!CB5="x",Hoja1!$CB$2,IF(Hoja1!CC5="x",Hoja1!$CC$2,""))))),"") -> B | BS5: =IF(E$90="SI",IF(Hoja1!BY5="x",Hoja1!$BY$2,IF(Hoja1!BZ5="x",Hoja1!$BZ$2,IF(Hoja1!CA5="x",Hoja1!$CA$2,IF(Hoja1!CB5="x",Hoja1!$CB$2,IF(Hoja1!CC5="x",Hoja1!$CC$2,""))))),"") -> B | BT5: =IF(E$91="SI",IF(Hoja1!BY5="x",Hoja1!$BY$2,IF(Hoja1!BZ5="x",Hoja1!$BZ$2,IF(Hoja1!CA5="x",Hoja1!$CA$2,IF(Hoja1!CB5="x",Hoja1!$CB$2,IF(Hoja1!CC5="x",Hoja1!$CC$2,""))))),"") -> B | BU5: =IF(E$92="SI",IF(Hoja1!BY5="x",Hoja1!$BY$2,IF(Hoja1!BZ5="x",Hoja1!$BZ$2,IF(Hoja1!CA5="x",Hoja1!$CA$2,IF(Hoja1!CB5="x",Hoja1!$CB$2,IF(Hoja1!CC5="x",Hoja1!$CC$2,""))))),"") -> B | BV5: =IF(E$59="SI",IF(Hoja1!CD5="x",Hoja1!$CD$2,IF(Hoja1!CE5="x",Hoja1!$CE$2,IF(Hoja1!CF5="x",Hoja1!$CF$2,IF(Hoja1!CG5="x",Hoja1!$CG$2,IF(Hoja1!CH5="x",Hoja1!$CH$2,""))))),"") | BW5: =IF(E$67="SI",IF(Hoja1!CD5="x",Hoja1!$CD$2,IF(Hoja1!CE5="x",Hoja1!$CE$2,IF(Hoja1!CF5="x",Hoja1!$CF$2,IF(Hoja1!CG5="x",Hoja1!$CG$2,IF(Hoja1!CH5="x",Hoja1!$CH$2,""))))),"") | BX5: =IF(E$68="SI",IF(Hoja1!CD5="x",Hoja1!$CD$2,IF(Hoja1!CE5="x",Hoja1!$CE$2,IF(Hoja1!CF5="x",Hoja1!$CF$2,IF(Hoja1!CG5="x",Hoja1!$CG$2,IF(Hoja1!CH5="x",Hoja1!$CH$2,""))))),"") | BY5: =IF(E$69="SI",IF(Hoja1!CD5="x",Hoja1!$CD$2,IF(Hoja1!CE5="x",Hoja1!$CE$2,IF(Hoja1!CF5="x",Hoja1!$CF$2,IF(Hoja1!CG5="x",Hoja1!$CG$2,IF(Hoja1!CH5="x",Hoja1!$CH$2,""))))),"") | BZ5: =IF(E$90="SI",IF(Hoja1!CD5="x",Hoja1!$CD$2,IF(Hoja1!CE5="x",Hoja1!$CE$2,IF(Hoja1!CF5="x",Hoja1!$CF$2,IF(Hoja1!CG5="x",Hoja1!$CG$2,IF(Hoja1!CH5="x",Hoja1!$CH$2,""))))),"") | CA5: =IF(E$91="SI",IF(Hoja1!CD5="x",Hoja1!$CD$2,IF(Hoja1!CE5="x",Hoja1!$CE$2,IF(Hoja1!CF5="x",Hoja1!$CF$2,IF(Hoja1!CG5="x",Hoja1!$CG$2,IF(Hoja1!CH5="x",Hoja1!$CH$2,""))))),"") | CB5: =IF(E$92="SI",IF(Hoja1!CD5="x",Hoja1!$CD$2,IF(Hoja1!CE5="x",Hoja1!$CE$2,IF(Hoja1!CF5="x",Hoja1!$CF$2,IF(Hoja1!CG5="x",Hoja1!$CG$2,IF(Hoja1!CH5="x",Hoja1!$CH$2,""))))),"") | CC5: =IF(E$69="SI",IF(Hoja1!CD5="x",Hoja1!$CD$2,IF(Hoja1!CE5="x",Hoja1!$CE$2,IF(Hoja1!CF5="x",Hoja1!$CF$2,IF(Hoja1!CG5="x",Hoja1!$CG$2,IF(Hoja1!CH5="x",Hoja1!$CH$2,""))))),"") | CD5: =IF(E$90="SI",IF(Hoja1!CD5="x",Hoja1!$CD$2,IF(Hoja1!CE5="x",Hoja1!$CE$2,IF(Hoja1!CF5="x",Hoja1!$CF$2,IF(Hoja1!CG5="x",Hoja1!$CG$2,IF(Hoja1!CH5="x",Hoja1!$CH$2,""))))),"") | CE5: =IF(E$91="SI",IF(Hoja1!CD5="x",Hoja1!$CD$2,IF(Hoja1!CE5="x",Hoja1!$CE$2,IF(Hoja1!CF5="x",Hoja1!$CF$2,IF(Hoja1!CG5="x",Hoja1!$CG$2,IF(Hoja1!CH5="x",Hoja1!$CH$2,""))))),"") | CF5: =IF(E$92="SI",IF(Hoja1!CD5="x",Hoja1!$CD$2,IF(Hoja1!CE5="x",Hoja1!$CE$2,IF(Hoja1!CF5="x",Hoja1!$CF$2,IF(Hoja1!CG5="x",Hoja1!$CG$2,IF(Hoja1!CH5="x",Hoja1!$CH$2,""))))),"")
